{"text_format":"1","workbook":"xlsx","n_sheets":4,"sheets":["Welcome","Assessment Input","Statistics","Sheet1"],"not_rendered":{"charts":0,"images":1,"macros":1,"external_links":0,"defined_names":4,"comments":0,"pivot_tables":0},"unopened":[],"bounds":{"document_bytes":16777216,"sheet_cells":100000,"rows_first":2000,"rows_last":500,"rows_between":2000,"halvings":0,"cell_chars":16384,"cell_head_chars":4096},"cells_cut":0,"cells_raw":0,"read":"whole","date_system":"1900"}

{"sheet":"Welcome","index":0,"n_rows":23,"n_cols":10,"rows_kept":23,"cut":false,"hidden":false,"merged":[[1,3,1,12],[8,2,21,11]]}
[]
[null,null,null,"2016/17 KS1 Teacher Assessment Analysis"]
[null,null,null,null,"Class Codes:","Class 1","Class 2","Class 3","Class 4"]
[]
[]
[]
[]
[]
[null,"Guidance:","Setup: For most schools, you can copy information from your school management system. Class codes need to be entered on this sheet (up to 4 classes can be accommodated and approximately 125 pupils). The Disadvantaged Column will take T/F (True/False), the Gender Column will take M/F (Male/Female). The SEN Column works a little differently: leave blank if no SEN, any other value can be entered if the pupil has SEN. \n\nDate entry: Enter the numbers or codes listed to the right hand side of the table, the sheet will warn you if an error is made to ensure the statistics run properly. \n\nStatistics Sheet: This gives a detailed analysis by group: attainment headlines, whole cohort, disadvantaged/non disadvantaged, gender, SEN/non SEN and class. \n\nOther Notes:The sheets are protected in order to prevent accidental changes to the formulae.Also, the system may ask you to enable macros in order to work correctly and is built for Excel 2010 onwards, earlier versions will still work, but with a loss of some features. \n\nDisclaimer: This is a new system set up for 2016. Whereas it has been tested, some bugs may remain. If an error has been found, please email info@PrimaryTools.co.uk so the error can be fixed. \n\nIf you have any suggestions for features or feedback in general, please email info@PrimaryTools.co.uk. \n\nWe hope you find the tool useful, easy to use, and a time saver. Primary Tools has many other useful assessment tools and we hope you have some time to browse the website. "]
[]
[]
[]
[]
[]
[]
[]
[]
[]
[]
[]
[]
[]
[null,null,null,null,null,null,null,null,null,"© 2016-2017 Primary Tools.co.uk"]

{"sheet":"Assessment Input","index":1,"n_rows":21,"n_cols":13,"rows_kept":21,"cut":false,"hidden":false,"merged":[]}
["Class","Disadvantaged","Gender","SEN","Surname Forename","Reading","Writing","Maths","Science "]
["Class 1","T","M",null,"Please delete me! Just a demo.",2,3,1,2,"Entry","Meaning","_","_2"]
[null,null,null,null,null,null,null,null,null,1,"Greater Depth"]
[null,null,null,null,null,null,null,null,null,2,"Expected Standard"]
[null,null,null,null,null,null,null,null,null,3,"Towards Expected"]
[null,null,null,null,null,null,null,null,null,4,"Foundations of Expected"]
[null,null,null,null,null,null,null,null,null,5,"Below Standard of pre key stage"]
[null,null,null,null,null,null,null,null,null,"w","p - levels"]
[]
[null,null,null,null,null,null,null,null,null,"_","Group","Number:","% of cohort"]
[null,null,null,null,null,null,null,null,null,"Groups","All Pupils",{"$f":"COUNTA(E2:E131)","v":1},{"$f":"L11/$L$11","v":1}]
[null,null,null,null,null,null,null,null,null,null,"Disadvantaged",{"$f":"COUNTIF(B2:B131, \"T\")","v":1},1]
[null,null,null,null,null,null,null,null,null,null,"Non disadvantaged",{"$f":"COUNTIF(B2:B131, \"F\")","v":0},0]
[null,null,null,null,null,null,null,null,null,null,"Males",{"$f":"COUNTIF(C2:C131, \"M\")","v":1},1]
[null,null,null,null,null,null,null,null,null,null,"Females",{"$f":"COUNTIF(C2:C131, \"F\")","v":0},0]
[null,null,null,null,null,null,null,null,null,null,"SEN",{"$f":"COUNTA($D$2:$D$131)","v":0},0]
[null,null,null,null,null,null,null,null,null,null,"Non SEN",{"$f":"L11-L16","v":1},1]
[null,null,null,null,null,null,null,null,null,"Class Codes",{"$f":"Welcome!F3","v":"Class 1"},{"$f":"COUNTIF($A$2:$A$131, K18)","v":1},{"$f":"L18/$L$11","v":1}]
[null,null,null,null,null,null,null,null,null,null,{"$f":"Welcome!G3","v":"Class 2"},{"$f":"COUNTIF($A$2:$A$131, K19)","v":0},{"$f":"L19/$L$11","v":0}]
[null,null,null,null,null,null,null,null,null,null,{"$f":"Welcome!H3","v":"Class 3"},0,{"$f":"L20/$L$11","v":0}]
[null,null,null,null,null,null,null,null,null,null,{"$f":"Welcome!I3","v":"Class 4"},0,{"$f":"L21/$L$11","v":0}]

{"sheet":"Statistics","index":2,"n_rows":101,"n_cols":23,"rows_kept":101,"cut":false,"hidden":false,"merged":[[92,1,92,4],[81,1,81,4],[68,1,68,22],[34,1,34,10],[0,13,0,22],[0,1,0,4],[0,7,0,10],[20,1,20,2],[2,1,2,4],[2,13,2,16],[13,13,13,16],[2,19,2,22],[13,19,13,22],[47,13,47,16],[58,13,58,16],[36,19,36,22],[47,19,47,22],[58,19,58,22],[70,19,70,22],[81,19,81,22],[92,19,92,22],[70,13,70,16],[92,7,92,10],[70,7,70,10],[81,7,81,10],[92,13,92,16],[81,13,81,16],[70,1,70,4],[47,1,47,4],[58,1,58,4],[47,7,47,10],[58,7,58,10],[24,19,24,22],[13,7,13,10],[24,7,24,10],[2,7,2,10],[36,1,36,4],[36,7,36,10],[24,13,24,16],[34,13,34,22],[36,13,36,16],[11,1,11,4]]}
[null,"Headlines:",null,null,null,null,null,"Whole Cohort",null,null,null,null,null,"Disadvantaged"]
[null,{"$f":"'Assessment Input'!$F$1","v":"Reading"},{"$f":"'Assessment Input'!$G$1","v":"Writing"},{"$f":"'Assessment Input'!$H$1","v":"Maths"},{"$f":"'Assessment Input'!$I$1","v":"Science "},null,null,{"$f":"'Assessment Input'!$F$1","v":"Reading"},{"$f":"'Assessment Input'!$G$1","v":"Writing"},{"$f":"'Assessment Input'!$H$1","v":"Maths"},{"$f":"'Assessment Input'!$I$1","v":"Science "},null,null,{"$f":"'Assessment Input'!$F$1","v":"Reading"},{"$f":"'Assessment Input'!$G$1","v":"Writing"},{"$f":"'Assessment Input'!$H$1","v":"Maths"},{"$f":"'Assessment Input'!$I$1","v":"Science "},null,null,{"$f":"'Assessment Input'!$F$1","v":"Reading"},{"$f":"'Assessment Input'!$G$1","v":"Writing"},{"$f":"'Assessment Input'!$H$1","v":"Maths"},{"$f":"'Assessment Input'!$I$1","v":"Science "}]
[null,"At Expected or Above:",null,null,null,null,null,{"$f":"'Assessment Input'!$K$11 &\": \"&Sheet1!$I$4&\" (/\"&B23&\")\"","v":"All Pupils: Number at (/1)"},null,null,null,null,{"$f":"\"T\"","v":"T"},{"$f":"'Assessment Input'!$K$12 &\": \"&Sheet1!$I$4&\" (/\"&B24&\")\"","v":"Disadvantaged: Number at (/1)"},null,null,null,null,{"$f":"\"F\"","v":"F"},{"$f":"'Assessment Input'!$K$13 &\": \"&Sheet1!$I$4&\" (/\"&B25&\")\"","v":"Non disadvantaged: Number at (/0)"}]
["All Pupils:",{"$f":"H27","v":1},{"$f":"I27","v":0},{"$f":"J27","v":1},{"$f":"K27","v":1},null,"Greater:1",{"$f":"COUNTIF('Assessment Input'!$F$2:$F$131,\"1\")","v":0},{"$f":"COUNTIF('Assessment Input'!G$2:G$131,\"1\")","v":0},{"$f":"COUNTIF('Assessment Input'!H$2:H$131,\"1\")","v":1},{"$f":"COUNTIF('Assessment Input'!I$2:I$131,\"1\")","v":0},null,"Greater:1",{"$f":"COUNTIFS('Assessment Input'!$F$2:$F$131,\"1\", 'Assessment Input'!$B$2:$B$131, $M$3)","v":0},{"$f":"COUNTIFS('Assessment Input'!$G$2:$G$131,\"1\", 'Assessment Input'!$B$2:$B$131, $M$3)","v":0},{"$f":"COUNTIFS('Assessment Input'!$H$2:$H$131,\"1\", 'Assessment Input'!$B$2:$B$131, $M$3)","v":1},{"$f":"COUNTIFS('Assessment Input'!$I$2:$I$131,\"1\", 'Assessment Input'!$B$2:$B$131, $M$3)","v":0},null,"Greater:1",{"$f":"COUNTIFS('Assessment Input'!$F$2:$F$131,\"1\", 'Assessment Input'!$B$2:$B$131, $S$3)","v":0},{"$f":"COUNTIFS('Assessment Input'!$G$2:$G$131,\"1\", 'Assessment Input'!$B$2:$B$131, $S$3)","v":0},{"$f":"COUNTIFS('Assessment Input'!$H$2:$H$131,\"1\", 'Assessment Input'!$B$2:$B$131, $S$3)","v":0},{"$f":"COUNTIFS('Assessment Input'!$I$2:$I$131,\"1\", 'Assessment Input'!$B$2:$B$131, $S$3)","v":0}]
["Disadvantaged",{"$f":"N27","v":1},{"$f":"O27","v":0},{"$f":"P27","v":1},{"$f":"Q27","v":1},null,"Expected: 2",{"$f":"COUNTIF('Assessment Input'!$F$2:$F$131,\"2\")","v":1},{"$f":"COUNTIF('Assessment Input'!$G$2:$G$131,\"2\")","v":0},{"$f":"COUNTIF('Assessment Input'!H$2:H$131,\"2\")","v":0},{"$f":"COUNTIF('Assessment Input'!I$2:I$131,\"2\")","v":1},null,"Expected: 2",{"$f":"COUNTIFS('Assessment Input'!$F$2:$F$131,\"2\", 'Assessment Input'!$B$2:$B$131, $M$3)","v":1},{"$f":"COUNTIFS('Assessment Input'!$G$2:$G$131,\"2\", 'Assessment Input'!$B$2:$B$131, $M$3)","v":0},{"$f":"COUNTIFS('Assessment Input'!$H$2:$H$131,\"2\", 'Assessment Input'!$B$2:$B$131, $M$3)","v":0},{"$f":"COUNTIFS('Assessment Input'!$I$2:$I$131,\"2\", 'Assessment Input'!$B$2:$B$131, $M$3)","v":1},null,"Expected: 2",{"$f":"COUNTIFS('Assessment Input'!$F$2:$F$131,\"2\", 'Assessment Input'!$B$2:$B$131, $S$3)","v":0},{"$f":"COUNTIFS('Assessment Input'!$G$2:$G$131,\"2\", 'Assessment Input'!$B$2:$B$131, $S$3)","v":0},{"$f":"COUNTIFS('Assessment Input'!$H$2:$H$131,\"2\", 'Assessment Input'!$B$2:$B$131, $S$3)","v":0},{"$f":"COUNTIFS('Assessment Input'!$I$2:$I$131,\"2\", 'Assessment Input'!$B$2:$B$131, $S$3)","v":0}]
["Non-Disadvantaged",{"$f":"T27","v":{"$error":"#DIV/0!"}},{"$f":"U27","v":{"$error":"#DIV/0!"}},{"$f":"V27","v":{"$error":"#DIV/0!"}},{"$f":"W27","v":{"$error":"#DIV/0!"}},null,"Towards: 3",{"$f":"COUNTIF('Assessment Input'!$F$2:$F$131,\"3\")","v":0},{"$f":"COUNTIF('Assessment Input'!$G$2:$G$131,\"3\")","v":1},{"$f":"COUNTIF('Assessment Input'!H$2:H$131,\"3\")","v":0},{"$f":"COUNTIF('Assessment Input'!I$2:I$131,\"3\")","v":0},null,"Towards: 3",{"$f":"COUNTIFS('Assessment Input'!$F$2:$F$131,\"3\", 'Assessment Input'!$B$2:$B$131, $M$3)","v":0},{"$f":"COUNTIFS('Assessment Input'!$G$2:$G$131,\"3\", 'Assessment Input'!$B$2:$B$131, $M$3)","v":1},{"$f":"COUNTIFS('Assessment Input'!$H$2:$H$131,\"3\", 'Assessment Input'!$B$2:$B$131, $M$3)","v":0},{"$f":"COUNTIFS('Assessment Input'!$I$2:$I$131,\"3\", 'Assessment Input'!$B$2:$B$131, $M$3)","v":0},null,"Towards: 3",{"$f":"COUNTIFS('Assessment Input'!$F$2:$F$131,\"3\", 'Assessment Input'!$B$2:$B$131, $S$3)","v":0},{"$f":"COUNTIFS('Assessment Input'!$G$2:$G$131,\"3\", 'Assessment Input'!$B$2:$B$131, $S$3)","v":0},{"$f":"COUNTIFS('Assessment Input'!$H$2:$H$131,\"3\", 'Assessment Input'!$B$2:$B$131, $S$3)","v":0},{"$f":"COUNTIFS('Assessment Input'!$I$2:$I$131,\"3\", 'Assessment Input'!$B$2:$B$131, $S$3)","v":0}]
["Males",{"$f":"B61","v":1},{"$f":"C61","v":0},{"$f":"D61","v":1},{"$f":"E61","v":1},null,"Foundations: 4",{"$f":"COUNTIF('Assessment Input'!$F$2:$F$131,\"4\")","v":0},{"$f":"COUNTIF('Assessment Input'!$G$2:$G$131,\"4\")","v":0},{"$f":"COUNTIF('Assessment Input'!H$2:H$131,\"4\")","v":0},{"$f":"COUNTIF('Assessment Input'!I$2:I$131,\"4\")","v":0},null,"Foundations: 4",{"$f":"COUNTIFS('Assessment Input'!$F$2:$F$131,\"4\", 'Assessment Input'!$B$2:$B$131, $M$3)","v":0},{"$f":"COUNTIFS('Assessment Input'!$G$2:$G$131,\"4\", 'Assessment Input'!$B$2:$B$131, $M$3)","v":0},{"$f":"COUNTIFS('Assessment Input'!$H$2:$H$131,\"4\", 'Assessment Input'!$B$2:$B$131, $M$3)","v":0},{"$f":"COUNTIFS('Assessment Input'!$I$2:$I$131,\"4\", 'Assessment Input'!$B$2:$B$131, $M$3)","v":0},null,"Foundations: 4",{"$f":"COUNTIFS('Assessment Input'!$F$2:$F$131,\"4\", 'Assessment Input'!$B$2:$B$131, $S$3)","v":0},{"$f":"COUNTIFS('Assessment Input'!$G$2:$G$131,\"4\", 'Assessment Input'!$B$2:$B$131, $S$3)","v":0},{"$f":"COUNTIFS('Assessment Input'!$H$2:$H$131,\"4\", 'Assessment Input'!$B$2:$B$131, $S$3)","v":0},{"$f":"COUNTIFS('Assessment Input'!$I$2:$I$131,\"4\", 'Assessment Input'!$B$2:$B$131, $S$3)","v":0}]
["Females",{"$f":"H61","v":{"$error":"#DIV/0!"}},{"$f":"I61","v":{"$error":"#DIV/0!"}},{"$f":"J61","v":{"$error":"#DIV/0!"}},{"$f":"K61","v":{"$error":"#DIV/0!"}},null,"Below: 5",{"$f":"COUNTIF('Assessment Input'!$F$2:$F$131,\"5\")","v":0},{"$f":"COUNTIF('Assessment Input'!$G$2:$G$131,\"5\")","v":0},{"$f":"COUNTIF('Assessment Input'!H$2:H$131,\"5\")","v":0},{"$f":"COUNTIF('Assessment Input'!I$2:I$131,\"5\")","v":0},null,"Below: 5",{"$f":"COUNTIFS('Assessment Input'!$F$2:$F$131,\"5\", 'Assessment Input'!$B$2:$B$131, $M$3)","v":0},{"$f":"COUNTIFS('Assessment Input'!$G$2:$G$131,\"5\", 'Assessment Input'!$B$2:$B$131, $M$3)","v":0},{"$f":"COUNTIFS('Assessment Input'!$H$2:$H$131,\"5\", 'Assessment Input'!$B$2:$B$131, $M$3)","v":0},{"$f":"COUNTIFS('Assessment Input'!$I$2:$I$131,\"5\", 'Assessment Input'!$B$2:$B$131, $M$3)","v":0},null,"Below: 5",{"$f":"COUNTIFS('Assessment Input'!$F$2:$F$131,\"5\", 'Assessment Input'!$B$2:$B$131, $S$3)","v":0},{"$f":"COUNTIFS('Assessment Input'!$G$2:$G$131,\"5\", 'Assessment Input'!$B$2:$B$131, $S$3)","v":0},{"$f":"COUNTIFS('Assessment Input'!$H$2:$H$131,\"5\", 'Assessment Input'!$B$2:$B$131, $S$3)","v":0},{"$f":"COUNTIFS('Assessment Input'!$I$2:$I$131,\"5\", 'Assessment Input'!$B$2:$B$131, $S$3)","v":0}]
["SEN",{"$f":"N61","v":{"$error":"#DIV/0!"}},{"$f":"O61","v":{"$error":"#DIV/0!"}},{"$f":"P61","v":{"$error":"#DIV/0!"}},{"$f":"Q61","v":{"$error":"#DIV/0!"}},null,"p",{"$f":"COUNTIF('Assessment Input'!$F$2:$F$131,\"w\")","v":0},{"$f":"COUNTIF('Assessment Input'!$G$2:$G$131,\"w\")","v":0},{"$f":"COUNTIF('Assessment Input'!H$2:H$131,\"w\")","v":0},{"$f":"COUNTIF('Assessment Input'!I$2:I$131,\"w\")","v":0},null,"p",{"$f":"COUNTIFS('Assessment Input'!$F$2:$F$131,\"w\", 'Assessment Input'!$B$2:$B$131, $M$3)","v":0},{"$f":"COUNTIFS('Assessment Input'!$G$2:$G$131,\"w\", 'Assessment Input'!$B$2:$B$131, $M$3)","v":0},{"$f":"COUNTIFS('Assessment Input'!$H$2:$H$131,\"w\", 'Assessment Input'!$B$2:$B$131, $M$3)","v":0},{"$f":"COUNTIFS('Assessment Input'!$I$2:$I$131,\"w\", 'Assessment Input'!$B$2:$B$131, $M$3)","v":0},null,"p",{"$f":"COUNTIFS('Assessment Input'!$F$2:$F$131,\"w\", 'Assessment Input'!$B$2:$B$131, $S$3)","v":0},{"$f":"COUNTIFS('Assessment Input'!$G$2:$G$131,\"w\", 'Assessment Input'!$B$2:$B$131, $S$3)","v":0},{"$f":"COUNTIFS('Assessment Input'!$H$2:$H$131,\"w\", 'Assessment Input'!$B$2:$B$131, $S$3)","v":0},{"$f":"COUNTIFS('Assessment Input'!$I$2:$I$131,\"w\", 'Assessment Input'!$B$2:$B$131, $S$3)","v":0}]
["Non-SEN",{"$f":"T61","v":1},{"$f":"U61","v":0},{"$f":"V61","v":1},{"$f":"W61","v":1},null,"blank",{"$f":"COUNTIFS('Assessment Input'!$A$2:$A$131,\"?*\",'Assessment Input'!$F$2:$F$131,\"\")","v":0},{"$f":"COUNTIFS('Assessment Input'!$A$2:$A$131,\"?*\",'Assessment Input'!$G$2:$G$131,\"\")","v":0},{"$f":"COUNTIFS('Assessment Input'!$A$2:$A$131,\"?*\",'Assessment Input'!$H$2:$H$131,\"\")","v":0},{"$f":"COUNTIFS('Assessment Input'!$A$2:$A$131,\"?*\",'Assessment Input'!$I$2:$I$131,\"\")","v":0},null,"blank",{"$f":"COUNTIFS('Assessment Input'!$F$2:$F$131,\"\", 'Assessment Input'!$B$2:$B$131, $M$3)","v":0},{"$f":"COUNTIFS('Assessment Input'!$G$2:$G$131,\"\", 'Assessment Input'!$B$2:$B$131, $M$3)","v":0},{"$f":"COUNTIFS('Assessment Input'!$H$2:$H$131,\"\", 'Assessment Input'!$B$2:$B$131, $M$3)","v":0},{"$f":"COUNTIFS('Assessment Input'!$I$2:$I$131,\"\", 'Assessment Input'!$B$2:$B$131, $M$3)","v":0},null,"blank",{"$f":"COUNTIFS('Assessment Input'!$F$2:$F$131,\"\", 'Assessment Input'!$B$2:$B$131, $S$3)","v":0},{"$f":"COUNTIFS('Assessment Input'!$G$2:$G$131,\"\", 'Assessment Input'!$B$2:$B$131, $S$3)","v":0},{"$f":"COUNTIFS('Assessment Input'!$H$2:$H$131,\"\", 'Assessment Input'!$B$2:$B$131, $S$3)","v":0},{"$f":"COUNTIFS('Assessment Input'!$I$2:$I$131,\"\", 'Assessment Input'!$B$2:$B$131, $S$3)","v":0}]
[null,null,null,null,null,null,"A",{"$f":"COUNTIF('Assessment Input'!$F$2:$F$131,\"A\")","v":0},{"$f":"COUNTIF('Assessment Input'!$G$2:$G$131,\"A\")","v":0},{"$f":"COUNTIF('Assessment Input'!$H$2:$H$131,\"A\")","v":0},{"$f":"COUNTIF('Assessment Input'!$I$2:$I$131,\"A\")","v":0},null,"A",{"$f":"COUNTIFS('Assessment Input'!$F$2:$F$131,\"A\", 'Assessment Input'!$B$2:$B$131, $M$3)","v":0},{"$f":"COUNTIFS('Assessment Input'!$G$2:$G$131,\"A\", 'Assessment Input'!$B$2:$B$131, $M$3)","v":0},{"$f":"COUNTIFS('Assessment Input'!$H$2:$H$131,\"A\", 'Assessment Input'!$B$2:$B$131, $M$3)","v":0},{"$f":"COUNTIFS('Assessment Input'!$I$2:$I$131,\"A\", 'Assessment Input'!$B$2:$B$131, $M$3)","v":0},null,"A",{"$f":"COUNTIFS('Assessment Input'!$F$2:$F$131,\"A\", 'Assessment Input'!$B$2:$B$131, $S$3)","v":0},{"$f":"COUNTIFS('Assessment Input'!$G$2:$G$131,\"A\", 'Assessment Input'!$B$2:$B$131, $S$3)","v":0},{"$f":"COUNTIFS('Assessment Input'!$H$2:$H$131,\"A\", 'Assessment Input'!$B$2:$B$131, $S$3)","v":0},{"$f":"COUNTIFS('Assessment Input'!$I$2:$I$131,\"A\", 'Assessment Input'!$B$2:$B$131, $S$3)","v":0}]
[null,"At Greater Depth",null,null,null,null,"Total:",{"$f":"SUM(H4:H11)","v":1},{"$f":"SUM(I4:I11)","v":1},{"$f":"SUM(J4:J11)","v":1},{"$f":"SUM(K4:K11)","v":1},null,"Total:",{"$f":"SUM(N4:N11)","v":1},{"$f":"SUM(O4:O11)","v":1},{"$f":"SUM(P4:P11)","v":1},{"$f":"SUM(Q4:Q11)","v":1},null,"Total:",{"$f":"SUM(T4:T11)","v":0},{"$f":"SUM(U4:U11)","v":0},{"$f":"SUM(V4:V11)","v":0},{"$f":"SUM(W4:W11)","v":0}]
["All Pupils:",{"$f":"H26","v":0},{"$f":"I26","v":0},{"$f":"J26","v":1},{"$f":"K26","v":0}]
["Disadvantaged",{"$f":"N26","v":0},{"$f":"O26","v":0},{"$f":"P26","v":1},{"$f":"Q26","v":0},null,null,{"$f":"'Assessment Input'!$K$11 &\": \"&Sheet1!$I$5&\" (/\"&B23&\")\"","v":"All Pupils: % at (/1)"},null,null,null,null,null,{"$f":"'Assessment Input'!$K$12 &\": \"&Sheet1!$I$5&\" (/\"&B24&\")\"","v":"Disadvantaged: % at (/1)"},null,null,null,null,null,{"$f":"'Assessment Input'!$K$13 &\": \"&Sheet1!$I$5&\" (/\"&B25&\")\"","v":"Non disadvantaged: % at (/0)"}]
["Non-Disadvantaged",{"$f":"T26","v":{"$error":"#DIV/0!"}},{"$f":"U26","v":{"$error":"#DIV/0!"}},{"$f":"V26","v":{"$error":"#DIV/0!"}},{"$f":"W26","v":{"$error":"#DIV/0!"}},null,"Greater:1",{"$f":"H4/'Assessment Input'!$L$11","v":0},{"$f":"I4/'Assessment Input'!$L$11","v":0},{"$f":"J4/'Assessment Input'!$L$11","v":1},{"$f":"K4/'Assessment Input'!$L$11","v":0},null,"Greater:1",{"$f":"N4/'Assessment Input'!$L$12","v":0},{"$f":"O4/'Assessment Input'!$L$12","v":0},{"$f":"P4/'Assessment Input'!$L$12","v":1},{"$f":"Q4/'Assessment Input'!$L$12","v":0},null,"Greater:1",{"$f":"T4/'Assessment Input'!$L$13","v":{"$error":"#DIV/0!"}},{"$f":"U4/'Assessment Input'!$L$13","v":{"$error":"#DIV/0!"}},{"$f":"V4/'Assessment Input'!$L$13","v":{"$error":"#DIV/0!"}},{"$f":"W4/'Assessment Input'!$L$13","v":{"$error":"#DIV/0!"}}]
["Males",{"$f":"B60","v":0},{"$f":"C60","v":0},{"$f":"D60","v":1},{"$f":"E60","v":0},null,"Expected: 2",{"$f":"H5/'Assessment Input'!$L$11","v":1},{"$f":"I5/'Assessment Input'!$L$11","v":0},{"$f":"J5/'Assessment Input'!$L$11","v":0},{"$f":"K5/'Assessment Input'!$L$11","v":1},null,"Expected: 2",{"$f":"N5/'Assessment Input'!$L$12","v":1},{"$f":"O5/'Assessment Input'!$L$12","v":0},{"$f":"P5/'Assessment Input'!$L$12","v":0},{"$f":"Q5/'Assessment Input'!$L$12","v":1},null,"Expected: 2",{"$f":"T5/'Assessment Input'!$L$13","v":{"$error":"#DIV/0!"}},{"$f":"U5/'Assessment Input'!$L$13","v":{"$error":"#DIV/0!"}},{"$f":"V5/'Assessment Input'!$L$13","v":{"$error":"#DIV/0!"}},{"$f":"W5/'Assessment Input'!$L$13","v":{"$error":"#DIV/0!"}}]
["Females",{"$f":"H60","v":{"$error":"#DIV/0!"}},{"$f":"I60","v":{"$error":"#DIV/0!"}},{"$f":"J60","v":{"$error":"#DIV/0!"}},{"$f":"K60","v":{"$error":"#DIV/0!"}},null,"Towards: 3",{"$f":"H6/'Assessment Input'!$L$11","v":0},{"$f":"I6/'Assessment Input'!$L$11","v":1},{"$f":"J6/'Assessment Input'!$L$11","v":0},{"$f":"K6/'Assessment Input'!$L$11","v":0},null,"Towards: 3",{"$f":"N6/'Assessment Input'!$L$12","v":0},{"$f":"O6/'Assessment Input'!$L$12","v":1},{"$f":"P6/'Assessment Input'!$L$12","v":0},{"$f":"Q6/'Assessment Input'!$L$12","v":0},null,"Towards: 3",{"$f":"T6/'Assessment Input'!$L$13","v":{"$error":"#DIV/0!"}},{"$f":"U6/'Assessment Input'!$L$13","v":{"$error":"#DIV/0!"}},{"$f":"V6/'Assessment Input'!$L$13","v":{"$error":"#DIV/0!"}},{"$f":"W6/'Assessment Input'!$L$13","v":{"$error":"#DIV/0!"}}]
["SEN",{"$f":"N60","v":{"$error":"#DIV/0!"}},{"$f":"O60","v":{"$error":"#DIV/0!"}},{"$f":"P60","v":{"$error":"#DIV/0!"}},{"$f":"Q60","v":{"$error":"#DIV/0!"}},null,"Foundations: 4",{"$f":"H7/'Assessment Input'!$L$11","v":0},{"$f":"I7/'Assessment Input'!$L$11","v":0},{"$f":"J7/'Assessment Input'!$L$11","v":0},{"$f":"K7/'Assessment Input'!$L$11","v":0},null,"Foundations: 4",{"$f":"N7/'Assessment Input'!$L$12","v":0},{"$f":"O7/'Assessment Input'!$L$12","v":0},{"$f":"P7/'Assessment Input'!$L$12","v":0},{"$f":"Q7/'Assessment Input'!$L$12","v":0},null,"Foundations: 4",{"$f":"T7/'Assessment Input'!$L$13","v":{"$error":"#DIV/0!"}},{"$f":"U7/'Assessment Input'!$L$13","v":{"$error":"#DIV/0!"}},{"$f":"V7/'Assessment Input'!$L$13","v":{"$error":"#DIV/0!"}},{"$f":"W7/'Assessment Input'!$L$13","v":{"$error":"#DIV/0!"}}]
["Non-SEN",{"$f":"T60","v":0},{"$f":"U60","v":0},{"$f":"V60","v":1},{"$f":"W60","v":0},null,"Below: 5",{"$f":"H8/'Assessment Input'!$L$11","v":0},{"$f":"I8/'Assessment Input'!$L$11","v":0},{"$f":"J8/'Assessment Input'!$L$11","v":0},{"$f":"K8/'Assessment Input'!$L$11","v":0},null,"Below: 5",{"$f":"N8/'Assessment Input'!$L$12","v":0},{"$f":"O8/'Assessment Input'!$L$12","v":0},{"$f":"P8/'Assessment Input'!$L$12","v":0},{"$f":"Q8/'Assessment Input'!$L$12","v":0},null,"Below: 5",{"$f":"T8/'Assessment Input'!$L$13","v":{"$error":"#DIV/0!"}},{"$f":"U8/'Assessment Input'!$L$13","v":{"$error":"#DIV/0!"}},{"$f":"V8/'Assessment Input'!$L$13","v":{"$error":"#DIV/0!"}},{"$f":"W8/'Assessment Input'!$L$13","v":{"$error":"#DIV/0!"}}]
[null,null,null,null,null,null,"p",{"$f":"H9/'Assessment Input'!$L$11","v":0},{"$f":"I9/'Assessment Input'!$L$11","v":0},{"$f":"J9/'Assessment Input'!$L$11","v":0},{"$f":"K9/'Assessment Input'!$L$11","v":0},null,"p",{"$f":"N9/'Assessment Input'!$L$12","v":0},{"$f":"O9/'Assessment Input'!$L$12","v":0},{"$f":"P9/'Assessment Input'!$L$12","v":0},{"$f":"Q9/'Assessment Input'!$L$12","v":0},null,"p",{"$f":"T9/'Assessment Input'!$L$13","v":{"$error":"#DIV/0!"}},{"$f":"U9/'Assessment Input'!$L$13","v":{"$error":"#DIV/0!"}},{"$f":"V9/'Assessment Input'!$L$13","v":{"$error":"#DIV/0!"}},{"$f":"W9/'Assessment Input'!$L$13","v":{"$error":"#DIV/0!"}}]
[null,"Cohort Context:",null,null,null,null,"blank",{"$f":"H10/'Assessment Input'!$L$11","v":0},{"$f":"I10/'Assessment Input'!$L$11","v":0},{"$f":"J10/'Assessment Input'!$L$11","v":0},{"$f":"K10/'Assessment Input'!$L$11","v":0},null,"blank",{"$f":"N10/'Assessment Input'!$L$12","v":0},{"$f":"O10/'Assessment Input'!$L$12","v":0},{"$f":"P10/'Assessment Input'!$L$12","v":0},{"$f":"Q10/'Assessment Input'!$L$12","v":0},null,"blank",{"$f":"T10/'Assessment Input'!$L$13","v":{"$error":"#DIV/0!"}},{"$f":"U10/'Assessment Input'!$L$13","v":{"$error":"#DIV/0!"}},{"$f":"V10/'Assessment Input'!$L$13","v":{"$error":"#DIV/0!"}},{"$f":"W10/'Assessment Input'!$L$13","v":{"$error":"#DIV/0!"}}]
[null,{"$f":"'Assessment Input'!L10","v":"Number:"},{"$f":"'Assessment Input'!M10","v":"% of cohort"},null,null,null,"A",{"$f":"H11/'Assessment Input'!$L$11","v":0},{"$f":"I11/'Assessment Input'!$L$11","v":0},{"$f":"J11/'Assessment Input'!$L$11","v":0},{"$f":"K11/'Assessment Input'!$L$11","v":0},null,"A",{"$f":"N11/'Assessment Input'!$L$12","v":0},{"$f":"O11/'Assessment Input'!$L$12","v":0},{"$f":"P11/'Assessment Input'!$L$12","v":0},{"$f":"Q11/'Assessment Input'!$L$12","v":0},null,"A",{"$f":"T11/'Assessment Input'!$L$13","v":{"$error":"#DIV/0!"}},{"$f":"U11/'Assessment Input'!$L$13","v":{"$error":"#DIV/0!"}},{"$f":"V11/'Assessment Input'!$L$13","v":{"$error":"#DIV/0!"}},{"$f":"W11/'Assessment Input'!$L$13","v":{"$error":"#DIV/0!"}}]
[{"$f":"'Assessment Input'!K11","v":"All Pupils"},{"$f":"'Assessment Input'!L11","v":1},{"$f":"'Assessment Input'!M11","v":1},null,null,null,"Total:",{"$f":"SUM(H15:H22)","v":1},{"$f":"SUM(I15:I22)","v":1},{"$f":"SUM(J15:J22)","v":1},{"$f":"SUM(K15:K22)","v":1},null,"Total:",{"$f":"SUM(N15:N22)","v":1},{"$f":"SUM(O15:O22)","v":1},{"$f":"SUM(P15:P22)","v":1},{"$f":"SUM(Q15:Q22)","v":1},null,"Total:",{"$f":"SUM(T15:T22)","v":{"$error":"#DIV/0!"}},{"$f":"SUM(U15:U22)","v":{"$error":"#DIV/0!"}},{"$f":"SUM(V15:V22)","v":{"$error":"#DIV/0!"}},{"$f":"SUM(W15:W22)","v":{"$error":"#DIV/0!"}}]
[{"$f":"'Assessment Input'!K12","v":"Disadvantaged"},{"$f":"'Assessment Input'!L12","v":1},{"$f":"'Assessment Input'!M12","v":1}]
[{"$f":"'Assessment Input'!K13","v":"Non disadvantaged"},{"$f":"'Assessment Input'!L13","v":0},{"$f":"'Assessment Input'!M13","v":0},null,null,null,null,{"$f":"'Assessment Input'!$K$11 &\": \"&Sheet1!$I$6&\" (/\"&B23&\")\"","v":"All Pupils: % and above (/1)"},null,null,null,null,null,{"$f":"'Assessment Input'!$K$12 &\": \"&Sheet1!$I$6&\" (/\"&B24&\")\"","v":"Disadvantaged: % and above (/1)"},null,null,null,null,null,{"$f":"'Assessment Input'!$K$13 &\": \"&Sheet1!$I$6&\" (/\"&B25&\")\"","v":"Non disadvantaged: % and above (/0)"}]
[{"$f":"'Assessment Input'!K14","v":"Males"},{"$f":"'Assessment Input'!L14","v":1},{"$f":"'Assessment Input'!M14","v":1},null,null,null,"Greater:1",{"$f":"H15","v":0},{"$f":"I15","v":0},{"$f":"J15","v":1},{"$f":"K15","v":0},null,"Greater:1",{"$f":"N15","v":0},{"$f":"O15","v":0},{"$f":"P15","v":1},{"$f":"Q15","v":0},null,"Greater:1",{"$f":"T15","v":{"$error":"#DIV/0!"}},{"$f":"U15","v":{"$error":"#DIV/0!"}},{"$f":"V15","v":{"$error":"#DIV/0!"}},{"$f":"W15","v":{"$error":"#DIV/0!"}}]
[{"$f":"'Assessment Input'!K15","v":"Females"},{"$f":"'Assessment Input'!L15","v":0},{"$f":"'Assessment Input'!M15","v":0},null,null,null,"Expected: 2",{"$f":"SUM($H$15:H16)","v":1},{"$f":"SUM($I$15:I16)","v":0},{"$f":"SUM($J$15:J16)","v":1},{"$f":"SUM($K$15:K16)","v":1},null,"Expected: 2",{"$f":"SUM($N$15:N16)","v":1},{"$f":"SUM($O$15:O16)","v":0},{"$f":"SUM($P$15:P16)","v":1},{"$f":"SUM($Q$15:Q16)","v":1},null,"Expected: 2",{"$f":"SUM($T$15:T16)","v":{"$error":"#DIV/0!"}},{"$f":"SUM($U$15:U16)","v":{"$error":"#DIV/0!"}},{"$f":"SUM($V$15:V16)","v":{"$error":"#DIV/0!"}},{"$f":"SUM($W$15:W16)","v":{"$error":"#DIV/0!"}}]
[{"$f":"'Assessment Input'!K16","v":"SEN"},{"$f":"'Assessment Input'!L16","v":0},{"$f":"'Assessment Input'!M16","v":0},null,null,null,"Towards: 3",{"$f":"SUM($H$15:H17)","v":1},{"$f":"SUM($I$15:I17)","v":1},{"$f":"SUM($J$15:J17)","v":1},{"$f":"SUM($K$15:K17)","v":1},null,"Towards: 3",{"$f":"SUM($N$15:N17)","v":1},{"$f":"SUM($O$15:O17)","v":1},{"$f":"SUM($P$15:P17)","v":1},{"$f":"SUM($Q$15:Q17)","v":1},null,"Towards: 3",{"$f":"SUM($T$15:T17)","v":{"$error":"#DIV/0!"}},{"$f":"SUM($U$15:U17)","v":{"$error":"#DIV/0!"}},{"$f":"SUM($V$15:V17)","v":{"$error":"#DIV/0!"}},{"$f":"SUM($W$15:W17)","v":{"$error":"#DIV/0!"}}]
[{"$f":"'Assessment Input'!K17","v":"Non SEN"},{"$f":"'Assessment Input'!L17","v":1},{"$f":"'Assessment Input'!M17","v":1},null,null,null,"Foundations: 4",{"$f":"SUM($H$15:H18)","v":1},{"$f":"SUM($I$15:I18)","v":1},{"$f":"SUM($J$15:J18)","v":1},{"$f":"SUM($K$15:K18)","v":1},null,"Foundations: 4",{"$f":"SUM($N$15:N18)","v":1},{"$f":"SUM($O$15:O18)","v":1},{"$f":"SUM($P$15:P18)","v":1},{"$f":"SUM($Q$15:Q18)","v":1},null,"Foundations: 4",{"$f":"SUM($T$15:T18)","v":{"$error":"#DIV/0!"}},{"$f":"SUM($U$15:U18)","v":{"$error":"#DIV/0!"}},{"$f":"SUM($V$15:V18)","v":{"$error":"#DIV/0!"}},{"$f":"SUM($W$15:W18)","v":{"$error":"#DIV/0!"}}]
[{"$f":"'Assessment Input'!K18","v":"Class 1"},{"$f":"'Assessment Input'!L18","v":1},{"$f":"'Assessment Input'!M18","v":1},null,null,null,"Below: 5",{"$f":"SUM($H$15:H19)","v":1},{"$f":"SUM($I$15:I19)","v":1},{"$f":"SUM($J$15:J19)","v":1},{"$f":"SUM($K$15:K19)","v":1},null,"Below: 5",{"$f":"SUM($N$15:N19)","v":1},{"$f":"SUM($O$15:O19)","v":1},{"$f":"SUM($P$15:P19)","v":1},{"$f":"SUM($Q$15:Q19)","v":1},null,"Below: 5",{"$f":"SUM($T$15:T19)","v":{"$error":"#DIV/0!"}},{"$f":"SUM($U$15:U19)","v":{"$error":"#DIV/0!"}},{"$f":"SUM($V$15:V19)","v":{"$error":"#DIV/0!"}},{"$f":"SUM($W$15:W19)","v":{"$error":"#DIV/0!"}}]
[{"$f":"'Assessment Input'!K19","v":"Class 2"},{"$f":"'Assessment Input'!L19","v":0},{"$f":"'Assessment Input'!M19","v":0},null,null,null,"p",{"$f":"SUM($H$15:H20)","v":1},{"$f":"SUM($I$15:I20)","v":1},{"$f":"SUM($J$15:J20)","v":1},{"$f":"SUM($K$15:K20)","v":1},null,"p",{"$f":"SUM($N$15:N20)","v":1},{"$f":"SUM($O$15:O20)","v":1},{"$f":"SUM($P$15:P20)","v":1},{"$f":"SUM($Q$15:Q20)","v":1},null,"p",{"$f":"SUM($T$15:T20)","v":{"$error":"#DIV/0!"}},{"$f":"SUM($U$15:U20)","v":{"$error":"#DIV/0!"}},{"$f":"SUM($V$15:V20)","v":{"$error":"#DIV/0!"}},{"$f":"SUM($W$15:W20)","v":{"$error":"#DIV/0!"}}]
[{"$f":"'Assessment Input'!K20","v":"Class 3"},{"$f":"'Assessment Input'!L20","v":0},{"$f":"'Assessment Input'!M20","v":0},null,null,null,"blank",{"$f":"SUM($H$15:H21)","v":1},{"$f":"SUM($I$15:I21)","v":1},{"$f":"SUM($J$15:J21)","v":1},{"$f":"SUM($K$15:K21)","v":1},null,"blank",{"$f":"SUM($N$15:N21)","v":1},{"$f":"SUM($O$15:O21)","v":1},{"$f":"SUM($P$15:P21)","v":1},{"$f":"SUM($Q$15:Q21)","v":1},null,"blank",{"$f":"SUM($T$15:T21)","v":{"$error":"#DIV/0!"}},{"$f":"SUM($U$15:U21)","v":{"$error":"#DIV/0!"}},{"$f":"SUM($V$15:V21)","v":{"$error":"#DIV/0!"}},{"$f":"SUM($W$15:W21)","v":{"$error":"#DIV/0!"}}]
[{"$f":"'Assessment Input'!K21","v":"Class 4"},{"$f":"'Assessment Input'!L21","v":0},{"$f":"'Assessment Input'!M21","v":0},null,null,null,"A",{"$f":"SUM($H$15:H22)","v":1},{"$f":"SUM($I$15:I22)","v":1},{"$f":"SUM($J$15:J22)","v":1},{"$f":"SUM($K$15:K22)","v":1},null,"A",{"$f":"SUM($N$15:N22)","v":1},{"$f":"SUM($O$15:O22)","v":1},{"$f":"SUM($P$15:P22)","v":1},{"$f":"SUM($Q$15:Q22)","v":1},null,"A",{"$f":"SUM($T$15:T22)","v":{"$error":"#DIV/0!"}},{"$f":"SUM($U$15:U22)","v":{"$error":"#DIV/0!"}},{"$f":"SUM($V$15:V22)","v":{"$error":"#DIV/0!"}},{"$f":"SUM($W$15:W22)","v":{"$error":"#DIV/0!"}}]
[]
[null,"Gender",null,null,null,null,null,null,null,null,null,null,null,"SEN"]
[null,{"$f":"'Assessment Input'!$F$1","v":"Reading"},{"$f":"'Assessment Input'!$G$1","v":"Writing"},{"$f":"'Assessment Input'!$H$1","v":"Maths"},{"$f":"'Assessment Input'!$I$1","v":"Science "},null,null,{"$f":"'Assessment Input'!$F$1","v":"Reading"},{"$f":"'Assessment Input'!$G$1","v":"Writing"},{"$f":"'Assessment Input'!$H$1","v":"Maths"},{"$f":"'Assessment Input'!$I$1","v":"Science "},null,null,{"$f":"'Assessment Input'!$F$1","v":"Reading"},{"$f":"'Assessment Input'!$G$1","v":"Writing"},{"$f":"'Assessment Input'!$H$1","v":"Maths"},{"$f":"'Assessment Input'!$I$1","v":"Science "},null,null,{"$f":"'Assessment Input'!$F$1","v":"Reading"},{"$f":"'Assessment Input'!$G$1","v":"Writing"},{"$f":"'Assessment Input'!$H$1","v":"Maths"},{"$f":"'Assessment Input'!$I$1","v":"Science "}]
["M",{"$f":"'Assessment Input'!$K$14 &\": \"&Sheet1!$I$4&\" (/\"&B26&\")\"","v":"Males: Number at (/1)"},null,null,null,null,"F",{"$f":"'Assessment Input'!$K$15 &\": \"&Sheet1!$I$4&\" (/\"&B27&\")\"","v":"Females: Number at (/0)"},null,null,null,null,null,{"$f":"'Assessment Input'!$K$16 &\": \"&Sheet1!$I$4&\" (/\"&B28&\")\"","v":"SEN: Number at (/0)"},null,null,null,null,null,{"$f":"'Assessment Input'!$K$17 &\": \"&Sheet1!$I$4&\" (/\"&B29&\")\"","v":"Non SEN: Number at (/1)"}]
["Greater:1",{"$f":"COUNTIFS('Assessment Input'!$F$2:$F$131,\"1\", 'Assessment Input'!$C$2:$C$131, $A$37)","v":0},{"$f":"COUNTIFS('Assessment Input'!$G$2:$G$131,\"1\", 'Assessment Input'!$C$2:$C$131, $A$37)","v":0},{"$f":"COUNTIFS('Assessment Input'!$H$2:$H$131,\"1\", 'Assessment Input'!$C$2:$C$131, $A$37)","v":1},{"$f":"COUNTIFS('Assessment Input'!$I$2:$I$131,\"1\", 'Assessment Input'!$C$2:$C$131, $A$37)","v":0},null,"Greater:1",{"$f":"COUNTIFS('Assessment Input'!$F$2:$F$131,\"1\", 'Assessment Input'!$C$2:$C$131, $G$37)","v":0},{"$f":"COUNTIFS('Assessment Input'!$G$2:$G$131,\"1\", 'Assessment Input'!$C$2:$C$131, $G$37)","v":0},{"$f":"COUNTIFS('Assessment Input'!$H$2:$H$131,\"1\", 'Assessment Input'!$C$2:$C$131, $G$37)","v":0},{"$f":"COUNTIFS('Assessment Input'!$I$2:$I$131,\"1\", 'Assessment Input'!$C$2:$C$131, $G$37)","v":0},null,"Greater:1",{"$f":"COUNTIFS('Assessment Input'!$F$2:$F$131,\"1\", 'Assessment Input'!$D$2:$D$131, \"?*\")","v":0},{"$f":"COUNTIFS('Assessment Input'!$G$2:$G$131,\"1\", 'Assessment Input'!$D$2:$D$131, \"?*\")","v":0},{"$f":"COUNTIFS('Assessment Input'!$H$2:$H$131,\"1\", 'Assessment Input'!$D$2:$D$131, \"?*\")","v":0},{"$f":"COUNTIFS('Assessment Input'!$I$2:$I$131,\"1\", 'Assessment Input'!$D$2:$D$131, \"?*\")","v":0},null,"Greater:1",{"$f":"COUNTIFS('Assessment Input'!$F$2:$F$131,\"1\", 'Assessment Input'!$D$2:$D$131, \"\")","v":0},{"$f":"COUNTIFS('Assessment Input'!$G$2:$G$131,\"1\", 'Assessment Input'!$D$2:$D$131, \"\")","v":0},{"$f":"COUNTIFS('Assessment Input'!$H$2:$H$131,\"1\", 'Assessment Input'!$D$2:$D$131, \"\")","v":1},{"$f":"COUNTIFS('Assessment Input'!$I$2:$I$131,\"1\", 'Assessment Input'!$D$2:$D$131, \"\")","v":0}]
["Expected: 2",{"$f":"COUNTIFS('Assessment Input'!$F$2:$F$131,\"2\", 'Assessment Input'!$C$2:$C$131, $A$37)","v":1},{"$f":"COUNTIFS('Assessment Input'!$G$2:$G$131,\"2\", 'Assessment Input'!$C$2:$C$131, $A$37)","v":0},{"$f":"COUNTIFS('Assessment Input'!$H$2:$H$131,\"2\", 'Assessment Input'!$C$2:$C$131, $A$37)","v":0},{"$f":"COUNTIFS('Assessment Input'!$I$2:$I$131,\"2\", 'Assessment Input'!$C$2:$C$131, $A$37)","v":1},null,"Expected: 2",{"$f":"COUNTIFS('Assessment Input'!$F$2:$F$131,\"2\", 'Assessment Input'!$C$2:$C$131, $G$37)","v":0},{"$f":"COUNTIFS('Assessment Input'!$G$2:$G$131,\"2\", 'Assessment Input'!$C$2:$C$131, $G$37)","v":0},{"$f":"COUNTIFS('Assessment Input'!$H$2:$H$131,\"2\", 'Assessment Input'!$C$2:$C$131, $G$37)","v":0},{"$f":"COUNTIFS('Assessment Input'!$I$2:$I$131,\"2\", 'Assessment Input'!$C$2:$C$131, $G$37)","v":0},null,"Expected: 2",{"$f":"COUNTIFS('Assessment Input'!$F$2:$F$131,\"2\", 'Assessment Input'!$D$2:$D$131, \"?*\")","v":0},{"$f":"COUNTIFS('Assessment Input'!$G$2:$G$131,\"2\", 'Assessment Input'!$D$2:$D$131, \"?*\")","v":0},{"$f":"COUNTIFS('Assessment Input'!$H$2:$H$131,\"2\", 'Assessment Input'!$D$2:$D$131, \"?*\")","v":0},{"$f":"COUNTIFS('Assessment Input'!$I$2:$I$131,\"2\", 'Assessment Input'!$D$2:$D$131, \"?*\")","v":0},null,"Expected: 2",{"$f":"COUNTIFS('Assessment Input'!$F$2:$F$131,\"2\", 'Assessment Input'!$D$2:$D$131, \"\")","v":1},{"$f":"COUNTIFS('Assessment Input'!$G$2:$G$131,\"2\", 'Assessment Input'!$D$2:$D$131, \"\")","v":0},{"$f":"COUNTIFS('Assessment Input'!$H$2:$H$131,\"2\", 'Assessment Input'!$D$2:$D$131, \"\")","v":0},{"$f":"COUNTIFS('Assessment Input'!$I$2:$I$131,\"2\", 'Assessment Input'!$D$2:$D$131, \"\")","v":1}]
["Towards: 3",{"$f":"COUNTIFS('Assessment Input'!$F$2:$F$131,\"3\", 'Assessment Input'!$C$2:$C$131, $A$37)","v":0},{"$f":"COUNTIFS('Assessment Input'!$G$2:$G$131,\"3\", 'Assessment Input'!$C$2:$C$131, $A$37)","v":1},{"$f":"COUNTIFS('Assessment Input'!$H$2:$H$131,\"3\", 'Assessment Input'!$C$2:$C$131, $A$37)","v":0},{"$f":"COUNTIFS('Assessment Input'!$I$2:$I$131,\"3\", 'Assessment Input'!$C$2:$C$131, $A$37)","v":0},null,"Towards: 3",{"$f":"COUNTIFS('Assessment Input'!$F$2:$F$131,\"3\", 'Assessment Input'!$C$2:$C$131, $G$37)","v":0},{"$f":"COUNTIFS('Assessment Input'!$G$2:$G$131,\"3\", 'Assessment Input'!$C$2:$C$131, $G$37)","v":0},{"$f":"COUNTIFS('Assessment Input'!$H$2:$H$131,\"3\", 'Assessment Input'!$C$2:$C$131, $G$37)","v":0},{"$f":"COUNTIFS('Assessment Input'!$I$2:$I$131,\"3\", 'Assessment Input'!$C$2:$C$131, $G$37)","v":0},null,"Towards: 3",{"$f":"COUNTIFS('Assessment Input'!$F$2:$F$131,\"3\", 'Assessment Input'!$D$2:$D$131, \"?*\")","v":0},{"$f":"COUNTIFS('Assessment Input'!$G$2:$G$131,\"3\", 'Assessment Input'!$D$2:$D$131, \"?*\")","v":0},{"$f":"COUNTIFS('Assessment Input'!$H$2:$H$131,\"3\", 'Assessment Input'!$D$2:$D$131, \"?*\")","v":0},{"$f":"COUNTIFS('Assessment Input'!$I$2:$I$131,\"3\", 'Assessment Input'!$D$2:$D$131, \"?*\")","v":0},null,"Towards: 3",{"$f":"COUNTIFS('Assessment Input'!$F$2:$F$131,\"3\", 'Assessment Input'!$D$2:$D$131, \"\")","v":0},{"$f":"COUNTIFS('Assessment Input'!$G$2:$G$131,\"3\", 'Assessment Input'!$D$2:$D$131, \"\")","v":1},{"$f":"COUNTIFS('Assessment Input'!$H$2:$H$131,\"3\", 'Assessment Input'!$D$2:$D$131, \"\")","v":0},{"$f":"COUNTIFS('Assessment Input'!$I$2:$I$131,\"3\", 'Assessment Input'!$D$2:$D$131, \"\")","v":0}]
["Foundations: 4",{"$f":"COUNTIFS('Assessment Input'!$F$2:$F$131,\"4\", 'Assessment Input'!$C$2:$C$131, $A$37)","v":0},{"$f":"COUNTIFS('Assessment Input'!$G$2:$G$131,\"4\", 'Assessment Input'!$C$2:$C$131, $A$37)","v":0},{"$f":"COUNTIFS('Assessment Input'!$H$2:$H$131,\"4\", 'Assessment Input'!$C$2:$C$131, $A$37)","v":0},{"$f":"COUNTIFS('Assessment Input'!$I$2:$I$131,\"4\", 'Assessment Input'!$C$2:$C$131, $A$37)","v":0},null,"Foundations: 4",{"$f":"COUNTIFS('Assessment Input'!$F$2:$F$131,\"4\", 'Assessment Input'!$C$2:$C$131, $G$37)","v":0},{"$f":"COUNTIFS('Assessment Input'!$G$2:$G$131,\"4\", 'Assessment Input'!$C$2:$C$131, $G$37)","v":0},{"$f":"COUNTIFS('Assessment Input'!$H$2:$H$131,\"4\", 'Assessment Input'!$C$2:$C$131, $G$37)","v":0},{"$f":"COUNTIFS('Assessment Input'!$I$2:$I$131,\"4\", 'Assessment Input'!$C$2:$C$131, $G$37)","v":0},null,"Foundations: 4",{"$f":"COUNTIFS('Assessment Input'!$F$2:$F$131,\"4\", 'Assessment Input'!$D$2:$D$131, \"?*\")","v":0},{"$f":"COUNTIFS('Assessment Input'!$G$2:$G$131,\"4\", 'Assessment Input'!$D$2:$D$131, \"?*\")","v":0},{"$f":"COUNTIFS('Assessment Input'!$H$2:$H$131,\"4\", 'Assessment Input'!$D$2:$D$131, \"?*\")","v":0},{"$f":"COUNTIFS('Assessment Input'!$I$2:$I$131,\"4\", 'Assessment Input'!$D$2:$D$131, \"?*\")","v":0},null,"Foundations: 4",{"$f":"COUNTIFS('Assessment Input'!$F$2:$F$131,\"4\", 'Assessment Input'!$D$2:$D$131, \"\")","v":0},{"$f":"COUNTIFS('Assessment Input'!$G$2:$G$131,\"4\", 'Assessment Input'!$D$2:$D$131, \"\")","v":0},{"$f":"COUNTIFS('Assessment Input'!$H$2:$H$131,\"4\", 'Assessment Input'!$D$2:$D$131, \"\")","v":0},{"$f":"COUNTIFS('Assessment Input'!$I$2:$I$131,\"4\", 'Assessment Input'!$D$2:$D$131, \"\")","v":0}]
["Below: 5",{"$f":"COUNTIFS('Assessment Input'!$F$2:$F$131,\"5\", 'Assessment Input'!$C$2:$C$131, $A$37)","v":0},{"$f":"COUNTIFS('Assessment Input'!$G$2:$G$131,\"5\", 'Assessment Input'!$C$2:$C$131, $A$37)","v":0},{"$f":"COUNTIFS('Assessment Input'!$H$2:$H$131,\"5\", 'Assessment Input'!$C$2:$C$131, $A$37)","v":0},{"$f":"COUNTIFS('Assessment Input'!$I$2:$I$131,\"5\", 'Assessment Input'!$C$2:$C$131, $A$37)","v":0},null,"Below: 5",{"$f":"COUNTIFS('Assessment Input'!$F$2:$F$131,\"5\", 'Assessment Input'!$C$2:$C$131, $G$37)","v":0},{"$f":"COUNTIFS('Assessment Input'!$G$2:$G$131,\"5\", 'Assessment Input'!$C$2:$C$131, $G$37)","v":0},{"$f":"COUNTIFS('Assessment Input'!$H$2:$H$131,\"5\", 'Assessment Input'!$C$2:$C$131, $G$37)","v":0},{"$f":"COUNTIFS('Assessment Input'!$I$2:$I$131,\"5\", 'Assessment Input'!$C$2:$C$131, $G$37)","v":0},null,"Below: 5",{"$f":"COUNTIFS('Assessment Input'!$F$2:$F$131,\"5\", 'Assessment Input'!$D$2:$D$131, \"?*\")","v":0},{"$f":"COUNTIFS('Assessment Input'!$G$2:$G$131,\"5\", 'Assessment Input'!$D$2:$D$131, \"?*\")","v":0},{"$f":"COUNTIFS('Assessment Input'!$H$2:$H$131,\"5\", 'Assessment Input'!$D$2:$D$131, \"?*\")","v":0},{"$f":"COUNTIFS('Assessment Input'!$I$2:$I$131,\"5\", 'Assessment Input'!$D$2:$D$131, \"?*\")","v":0},null,"Below: 5",{"$f":"COUNTIFS('Assessment Input'!$F$2:$F$131,\"5\", 'Assessment Input'!$D$2:$D$131, \"\")","v":0},{"$f":"COUNTIFS('Assessment Input'!$G$2:$G$131,\"5\", 'Assessment Input'!$D$2:$D$131, \"\")","v":0},{"$f":"COUNTIFS('Assessment Input'!$H$2:$H$131,\"5\", 'Assessment Input'!$D$2:$D$131, \"\")","v":0},{"$f":"COUNTIFS('Assessment Input'!$I$2:$I$131,\"5\", 'Assessment Input'!$D$2:$D$131, \"\")","v":0}]
["p",{"$f":"COUNTIFS('Assessment Input'!$F$2:$F$131,\"w\", 'Assessment Input'!$C$2:$C$131, $A$37)","v":0},{"$f":"COUNTIFS('Assessment Input'!$G$2:$G$131,\"w\", 'Assessment Input'!$C$2:$C$131, $A$37)","v":0},{"$f":"COUNTIFS('Assessment Input'!$H$2:$H$131,\"w\", 'Assessment Input'!$C$2:$C$131, $A$37)","v":0},{"$f":"COUNTIFS('Assessment Input'!$I$2:$I$131,\"w\", 'Assessment Input'!$C$2:$C$131, $A$37)","v":0},null,"p",{"$f":"COUNTIFS('Assessment Input'!$F$2:$F$131,\"w\", 'Assessment Input'!$C$2:$C$131, $G$37)","v":0},{"$f":"COUNTIFS('Assessment Input'!$G$2:$G$131,\"w\", 'Assessment Input'!$C$2:$C$131, $G$37)","v":0},{"$f":"COUNTIFS('Assessment Input'!$H$2:$H$131,\"w\", 'Assessment Input'!$C$2:$C$131, $G$37)","v":0},{"$f":"COUNTIFS('Assessment Input'!$I$2:$I$131,\"w\", 'Assessment Input'!$C$2:$C$131, $G$37)","v":0},null,"p",{"$f":"COUNTIFS('Assessment Input'!$F$2:$F$131,\"w\", 'Assessment Input'!$D$2:$D$131, \"?*\")","v":0},{"$f":"COUNTIFS('Assessment Input'!$G$2:$G$131,\"w\", 'Assessment Input'!$D$2:$D$131, \"?*\")","v":0},{"$f":"COUNTIFS('Assessment Input'!$H$2:$H$131,\"w\", 'Assessment Input'!$D$2:$D$131, \"?*\")","v":0},{"$f":"COUNTIFS('Assessment Input'!$I$2:$I$131,\"w\", 'Assessment Input'!$D$2:$D$131, \"?*\")","v":0},null,"p",{"$f":"COUNTIFS('Assessment Input'!$F$2:$F$131,\"w\", 'Assessment Input'!$D$2:$D$131, \"\")","v":0},{"$f":"COUNTIFS('Assessment Input'!$G$2:$G$131,\"w\", 'Assessment Input'!$D$2:$D$131, \"\")","v":0},{"$f":"COUNTIFS('Assessment Input'!$H$2:$H$131,\"w\", 'Assessment Input'!$D$2:$D$131, \"\")","v":0},{"$f":"COUNTIFS('Assessment Input'!$I$2:$I$131,\"w\", 'Assessment Input'!$D$2:$D$131, \"\")","v":0}]
["blank",{"$f":"COUNTIFS('Assessment Input'!$F$2:$F$131,\"\", 'Assessment Input'!$C$2:$C$131, $A$37)","v":0},{"$f":"COUNTIFS('Assessment Input'!$G$2:$G$131,\"\", 'Assessment Input'!$C$2:$C$131, $A$37)","v":0},{"$f":"COUNTIFS('Assessment Input'!$H$2:$H$131,\"\", 'Assessment Input'!$C$2:$C$131, $A$37)","v":0},{"$f":"COUNTIFS('Assessment Input'!$I$2:$I$131,\"\", 'Assessment Input'!$C$2:$C$131, $A$37)","v":0},null,"blank",{"$f":"COUNTIFS('Assessment Input'!$F$2:$F$131,\"\", 'Assessment Input'!$C$2:$C$131, $G$37)","v":0},{"$f":"COUNTIFS('Assessment Input'!$G$2:$G$131,\"\", 'Assessment Input'!$C$2:$C$131, $G$37)","v":0},{"$f":"COUNTIFS('Assessment Input'!$H$2:$H$131,\"\", 'Assessment Input'!$C$2:$C$131, $G$37)","v":0},{"$f":"COUNTIFS('Assessment Input'!$I$2:$I$131,\"\", 'Assessment Input'!$C$2:$C$131, $G$37)","v":0},null,"blank",{"$f":"COUNTIFS('Assessment Input'!$F$2:$F$131,\"\", 'Assessment Input'!$D$2:$D$131, \"?*\")","v":0},{"$f":"COUNTIFS('Assessment Input'!$G$2:$G$131,\"\", 'Assessment Input'!$D$2:$D$131, \"?*\")","v":0},{"$f":"COUNTIFS('Assessment Input'!$H$2:$H$131,\"\", 'Assessment Input'!$D$2:$D$131, \"?*\")","v":0},{"$f":"COUNTIFS('Assessment Input'!$I$2:$I$131,\"\", 'Assessment Input'!$D$2:$D$131, \"?*\")","v":0},null,"blank",{"$f":"COUNTIFS('Assessment Input'!$A$2:$A$131,\"?*\",'Assessment Input'!$F$2:$F$131,\"\", 'Assessment Input'!$D$2:$D$131, \"\")","v":0},{"$f":"COUNTIFS('Assessment Input'!$A$2:$A$131,\"?*\",'Assessment Input'!$G$2:$G$131,\"\", 'Assessment Input'!$D$2:$D$131, \"\")","v":0},{"$f":"COUNTIFS('Assessment Input'!$A$2:$A$131,\"?*\",'Assessment Input'!$H$2:$H$131,\"\", 'Assessment Input'!$D$2:$D$131, \"\")","v":0},{"$f":"COUNTIFS('Assessment Input'!$A$2:$A$131,\"?*\",'Assessment Input'!$I$2:$I$131,\"\", 'Assessment Input'!$D$2:$D$131, \"\")","v":0}]
["A",{"$f":"COUNTIFS('Assessment Input'!$F$2:$F$131,\"A\", 'Assessment Input'!$C$2:$C$131, $A$37)","v":0},{"$f":"COUNTIFS('Assessment Input'!$G$2:$G$131,\"A\", 'Assessment Input'!$C$2:$C$131, $A$37)","v":0},{"$f":"COUNTIFS('Assessment Input'!$H$2:$H$131,\"A\", 'Assessment Input'!$C$2:$C$131, $A$37)","v":0},{"$f":"COUNTIFS('Assessment Input'!$I$2:$I$131,\"A\", 'Assessment Input'!$C$2:$C$131, $A$37)","v":0},null,"A",{"$f":"COUNTIFS('Assessment Input'!$F$2:$F$131,\"A\", 'Assessment Input'!$C$2:$C$131, $G$37)","v":0},{"$f":"COUNTIFS('Assessment Input'!$G$2:$G$131,\"A\", 'Assessment Input'!$C$2:$C$131, $G$37)","v":0},{"$f":"COUNTIFS('Assessment Input'!$H$2:$H$131,\"A\", 'Assessment Input'!$C$2:$C$131, $G$37)","v":0},{"$f":"COUNTIFS('Assessment Input'!$I$2:$I$131,\"A\", 'Assessment Input'!$C$2:$C$131, $G$37)","v":0},null,"A",{"$f":"COUNTIFS('Assessment Input'!$F$2:$F$131,\"a\", 'Assessment Input'!$D$2:$D$131, \"?*\")","v":0},{"$f":"COUNTIFS('Assessment Input'!$G$2:$G$131,\"a\", 'Assessment Input'!$D$2:$D$131, \"?*\")","v":0},{"$f":"COUNTIFS('Assessment Input'!$H$2:$H$131,\"a\", 'Assessment Input'!$D$2:$D$131, \"?*\")","v":0},{"$f":"COUNTIFS('Assessment Input'!$I$2:$I$131,\"a\", 'Assessment Input'!$D$2:$D$131, \"?*\")","v":0},null,"A",{"$f":"COUNTIFS('Assessment Input'!$F$2:$F$131,\"a\", 'Assessment Input'!$D$2:$D$131, \"\")","v":0},{"$f":"COUNTIFS('Assessment Input'!$G$2:$G$131,\"a\", 'Assessment Input'!$D$2:$D$131, \"\")","v":0},{"$f":"COUNTIFS('Assessment Input'!$H$2:$H$131,\"a\", 'Assessment Input'!$D$2:$D$131, \"\")","v":0},{"$f":"COUNTIFS('Assessment Input'!$I$2:$I$131,\"a\", 'Assessment Input'!$D$2:$D$131, \"\")","v":0}]
["Total:",{"$f":"SUM(B38:B45)","v":1},{"$f":"SUM(C38:C45)","v":1},{"$f":"SUM(D38:D45)","v":1},{"$f":"SUM(E38:E45)","v":1},null,"Total:",{"$f":"SUM(H38:H45)","v":0},{"$f":"SUM(I38:I45)","v":0},{"$f":"SUM(J38:J45)","v":0},{"$f":"SUM(K38:K45)","v":0},null,"Total:",{"$f":"SUM(N38:N45)","v":0},{"$f":"SUM(O38:O45)","v":0},{"$f":"SUM(P38:P45)","v":0},{"$f":"SUM(Q38:Q45)","v":0},null,"Total:",{"$f":"SUM(T38:T45)","v":1},{"$f":"SUM(U38:U45)","v":1},1,1]
[]
[null,{"$f":"'Assessment Input'!$K$14 &\": \"&Sheet1!$I$5&\" (/\"&B26&\")\"","v":"Males: % at (/1)"},null,null,null,null,null,{"$f":"'Assessment Input'!$K$15 &\": \"&Sheet1!$I$5&\" (/\"&B27&\")\"","v":"Females: % at (/0)"},null,null,null,null,null,{"$f":"'Assessment Input'!$K$16 &\": \"&Sheet1!$I$5&\" (/\"&B28&\")\"","v":"SEN: % at (/0)"},null,null,null,null,null,{"$f":"'Assessment Input'!$K$17 &\": \"&Sheet1!$I$5&\" (/\"&B29&\")\"","v":"Non SEN: % at (/1)"}]
["Greater:1",{"$f":"B38/'Assessment Input'!$L$14","v":0},{"$f":"C38/'Assessment Input'!$L$14","v":0},{"$f":"D38/'Assessment Input'!$L$14","v":1},{"$f":"E38/'Assessment Input'!$L$14","v":0},null,"Greater:1",{"$f":"H38/'Assessment Input'!$L$15","v":{"$error":"#DIV/0!"}},{"$f":"I38/'Assessment Input'!$L$15","v":{"$error":"#DIV/0!"}},{"$f":"J38/'Assessment Input'!$L$15","v":{"$error":"#DIV/0!"}},{"$f":"K38/'Assessment Input'!$L$15","v":{"$error":"#DIV/0!"}},null,"Greater:1",{"$f":"N38/'Assessment Input'!$L$16","v":{"$error":"#DIV/0!"}},{"$f":"O38/'Assessment Input'!$L$16","v":{"$error":"#DIV/0!"}},{"$f":"P38/'Assessment Input'!$L$16","v":{"$error":"#DIV/0!"}},{"$f":"Q38/'Assessment Input'!$L$16","v":{"$error":"#DIV/0!"}},null,"Greater:1",{"$f":"T38/'Assessment Input'!$L$17","v":0},{"$f":"U38/'Assessment Input'!$L$17","v":0},{"$f":"V38/'Assessment Input'!$L$17","v":1},{"$f":"W38/'Assessment Input'!$L$17","v":0}]
["Expected: 2",{"$f":"B39/'Assessment Input'!$L$14","v":1},{"$f":"C39/'Assessment Input'!$L$14","v":0},{"$f":"D39/'Assessment Input'!$L$14","v":0},{"$f":"E39/'Assessment Input'!$L$14","v":1},null,"Expected: 2",{"$f":"H39/'Assessment Input'!$L$15","v":{"$error":"#DIV/0!"}},{"$f":"I39/'Assessment Input'!$L$15","v":{"$error":"#DIV/0!"}},{"$f":"J39/'Assessment Input'!$L$15","v":{"$error":"#DIV/0!"}},{"$f":"K39/'Assessment Input'!$L$15","v":{"$error":"#DIV/0!"}},null,"Expected: 2",{"$f":"N39/'Assessment Input'!$L$16","v":{"$error":"#DIV/0!"}},{"$f":"O39/'Assessment Input'!$L$16","v":{"$error":"#DIV/0!"}},{"$f":"P39/'Assessment Input'!$L$16","v":{"$error":"#DIV/0!"}},{"$f":"Q39/'Assessment Input'!$L$16","v":{"$error":"#DIV/0!"}},null,"Expected: 2",{"$f":"T39/'Assessment Input'!$L$17","v":1},{"$f":"U39/'Assessment Input'!$L$17","v":0},{"$f":"V39/'Assessment Input'!$L$17","v":0},{"$f":"W39/'Assessment Input'!$L$17","v":1}]
["Towards: 3",{"$f":"B40/'Assessment Input'!$L$14","v":0},{"$f":"C40/'Assessment Input'!$L$14","v":1},{"$f":"D40/'Assessment Input'!$L$14","v":0},{"$f":"E40/'Assessment Input'!$L$14","v":0},null,"Towards: 3",{"$f":"H40/'Assessment Input'!$L$15","v":{"$error":"#DIV/0!"}},{"$f":"I40/'Assessment Input'!$L$15","v":{"$error":"#DIV/0!"}},{"$f":"J40/'Assessment Input'!$L$15","v":{"$error":"#DIV/0!"}},{"$f":"K40/'Assessment Input'!$L$15","v":{"$error":"#DIV/0!"}},null,"Towards: 3",{"$f":"N40/'Assessment Input'!$L$16","v":{"$error":"#DIV/0!"}},{"$f":"O40/'Assessment Input'!$L$16","v":{"$error":"#DIV/0!"}},{"$f":"P40/'Assessment Input'!$L$16","v":{"$error":"#DIV/0!"}},{"$f":"Q40/'Assessment Input'!$L$16","v":{"$error":"#DIV/0!"}},null,"Towards: 3",{"$f":"T40/'Assessment Input'!$L$17","v":0},{"$f":"U40/'Assessment Input'!$L$17","v":1},{"$f":"V40/'Assessment Input'!$L$17","v":0},{"$f":"W40/'Assessment Input'!$L$17","v":0}]
["Foundations: 4",{"$f":"B41/'Assessment Input'!$L$14","v":0},{"$f":"C41/'Assessment Input'!$L$14","v":0},{"$f":"D41/'Assessment Input'!$L$14","v":0},{"$f":"E41/'Assessment Input'!$L$14","v":0},null,"Foundations: 4",{"$f":"H41/'Assessment Input'!$L$15","v":{"$error":"#DIV/0!"}},{"$f":"I41/'Assessment Input'!$L$15","v":{"$error":"#DIV/0!"}},{"$f":"J41/'Assessment Input'!$L$15","v":{"$error":"#DIV/0!"}},{"$f":"K41/'Assessment Input'!$L$15","v":{"$error":"#DIV/0!"}},null,"Foundations: 4",{"$f":"N41/'Assessment Input'!$L$16","v":{"$error":"#DIV/0!"}},{"$f":"O41/'Assessment Input'!$L$16","v":{"$error":"#DIV/0!"}},{"$f":"P41/'Assessment Input'!$L$16","v":{"$error":"#DIV/0!"}},{"$f":"Q41/'Assessment Input'!$L$16","v":{"$error":"#DIV/0!"}},null,"Foundations: 4",{"$f":"T41/'Assessment Input'!$L$17","v":0},{"$f":"U41/'Assessment Input'!$L$17","v":0},{"$f":"V41/'Assessment Input'!$L$17","v":0},{"$f":"W41/'Assessment Input'!$L$17","v":0}]
["Below: 5",{"$f":"B42/'Assessment Input'!$L$14","v":0},{"$f":"C42/'Assessment Input'!$L$14","v":0},{"$f":"D42/'Assessment Input'!$L$14","v":0},{"$f":"E42/'Assessment Input'!$L$14","v":0},null,"Below: 5",{"$f":"H42/'Assessment Input'!$L$15","v":{"$error":"#DIV/0!"}},{"$f":"I42/'Assessment Input'!$L$15","v":{"$error":"#DIV/0!"}},{"$f":"J42/'Assessment Input'!$L$15","v":{"$error":"#DIV/0!"}},{"$f":"K42/'Assessment Input'!$L$15","v":{"$error":"#DIV/0!"}},null,"Below: 5",{"$f":"N42/'Assessment Input'!$L$16","v":{"$error":"#DIV/0!"}},{"$f":"O42/'Assessment Input'!$L$16","v":{"$error":"#DIV/0!"}},{"$f":"P42/'Assessment Input'!$L$16","v":{"$error":"#DIV/0!"}},{"$f":"Q42/'Assessment Input'!$L$16","v":{"$error":"#DIV/0!"}},null,"Below: 5",{"$f":"T42/'Assessment Input'!$L$17","v":0},{"$f":"U42/'Assessment Input'!$L$17","v":0},{"$f":"V42/'Assessment Input'!$L$17","v":0},{"$f":"W42/'Assessment Input'!$L$17","v":0}]
["p",{"$f":"B43/'Assessment Input'!$L$14","v":0},{"$f":"C43/'Assessment Input'!$L$14","v":0},{"$f":"D43/'Assessment Input'!$L$14","v":0},{"$f":"E43/'Assessment Input'!$L$14","v":0},null,"p",{"$f":"H43/'Assessment Input'!$L$15","v":{"$error":"#DIV/0!"}},{"$f":"I43/'Assessment Input'!$L$15","v":{"$error":"#DIV/0!"}},{"$f":"J43/'Assessment Input'!$L$15","v":{"$error":"#DIV/0!"}},{"$f":"K43/'Assessment Input'!$L$15","v":{"$error":"#DIV/0!"}},null,"p",{"$f":"N43/'Assessment Input'!$L$16","v":{"$error":"#DIV/0!"}},{"$f":"O43/'Assessment Input'!$L$16","v":{"$error":"#DIV/0!"}},{"$f":"P43/'Assessment Input'!$L$16","v":{"$error":"#DIV/0!"}},{"$f":"Q43/'Assessment Input'!$L$16","v":{"$error":"#DIV/0!"}},null,"p",{"$f":"T43/'Assessment Input'!$L$17","v":0},{"$f":"U43/'Assessment Input'!$L$17","v":0},{"$f":"V43/'Assessment Input'!$L$17","v":0},{"$f":"W43/'Assessment Input'!$L$17","v":0}]
["blank",{"$f":"B44/'Assessment Input'!$L$14","v":0},{"$f":"C44/'Assessment Input'!$L$14","v":0},{"$f":"D44/'Assessment Input'!$L$14","v":0},{"$f":"E44/'Assessment Input'!$L$14","v":0},null,"blank",{"$f":"H44/'Assessment Input'!$L$15","v":{"$error":"#DIV/0!"}},{"$f":"I44/'Assessment Input'!$L$15","v":{"$error":"#DIV/0!"}},{"$f":"J44/'Assessment Input'!$L$15","v":{"$error":"#DIV/0!"}},{"$f":"K44/'Assessment Input'!$L$15","v":{"$error":"#DIV/0!"}},null,"blank",{"$f":"N44/'Assessment Input'!$L$16","v":{"$error":"#DIV/0!"}},{"$f":"O44/'Assessment Input'!$L$16","v":{"$error":"#DIV/0!"}},{"$f":"P44/'Assessment Input'!$L$16","v":{"$error":"#DIV/0!"}},{"$f":"Q44/'Assessment Input'!$L$16","v":{"$error":"#DIV/0!"}},null,"blank",{"$f":"T44/'Assessment Input'!$L$17","v":0},{"$f":"U44/'Assessment Input'!$L$17","v":0},{"$f":"V44/'Assessment Input'!$L$17","v":0},{"$f":"W44/'Assessment Input'!$L$17","v":0}]
["A",{"$f":"B45/'Assessment Input'!$L$14","v":0},{"$f":"C45/'Assessment Input'!$L$14","v":0},{"$f":"D45/'Assessment Input'!$L$14","v":0},{"$f":"E45/'Assessment Input'!$L$14","v":0},null,"A",{"$f":"H45/'Assessment Input'!$L$15","v":{"$error":"#DIV/0!"}},{"$f":"I45/'Assessment Input'!$L$15","v":{"$error":"#DIV/0!"}},{"$f":"J45/'Assessment Input'!$L$15","v":{"$error":"#DIV/0!"}},{"$f":"K45/'Assessment Input'!$L$15","v":{"$error":"#DIV/0!"}},null,"A",{"$f":"N45/'Assessment Input'!$L$16","v":{"$error":"#DIV/0!"}},{"$f":"O45/'Assessment Input'!$L$16","v":{"$error":"#DIV/0!"}},{"$f":"P45/'Assessment Input'!$L$16","v":{"$error":"#DIV/0!"}},{"$f":"Q45/'Assessment Input'!$L$16","v":{"$error":"#DIV/0!"}},null,"A",{"$f":"T45/'Assessment Input'!$L$17","v":0},{"$f":"U45/'Assessment Input'!$L$17","v":0},{"$f":"V45/'Assessment Input'!$L$17","v":0},{"$f":"W45/'Assessment Input'!$L$17","v":0}]
["Total:",{"$f":"SUM(B49:B56)","v":1},{"$f":"SUM(C49:C56)","v":1},{"$f":"SUM(D49:D56)","v":1},{"$f":"SUM(E49:E56)","v":1},null,"Total:",{"$f":"SUM(H49:H56)","v":{"$error":"#DIV/0!"}},{"$f":"SUM(I49:I56)","v":{"$error":"#DIV/0!"}},{"$f":"SUM(J49:J56)","v":{"$error":"#DIV/0!"}},{"$f":"SUM(K49:K56)","v":{"$error":"#DIV/0!"}},null,"Total:",{"$f":"SUM(N49:N56)","v":{"$error":"#DIV/0!"}},{"$f":"SUM(O49:O56)","v":{"$error":"#DIV/0!"}},{"$f":"SUM(P49:P56)","v":{"$error":"#DIV/0!"}},{"$f":"SUM(Q49:Q56)","v":{"$error":"#DIV/0!"}},null,"Total:",{"$f":"SUM(T49:T56)","v":1},{"$f":"SUM(U49:U56)","v":1},{"$f":"SUM(V49:V56)","v":1},{"$f":"SUM(W49:W56)","v":1}]
[]
[null,{"$f":"'Assessment Input'!$K$14 &\": \"&Sheet1!$I$6&\" (/\"&B26&\")\"","v":"Males: % and above (/1)"},null,null,null,null,null,{"$f":"'Assessment Input'!$K$15 &\": \"&Sheet1!$I$6&\" (/\"&B27&\")\"","v":"Females: % and above (/0)"},null,null,null,null,null,{"$f":"'Assessment Input'!$K$16 &\": \"&Sheet1!$I$6&\" (/\"&B28&\")\"","v":"SEN: % and above (/0)"},null,null,null,null,null,{"$f":"'Assessment Input'!$K$17 &\": \"&Sheet1!$I$6&\" (/\"&B29&\")\"","v":"Non SEN: % and above (/1)"}]
["Greater:1",{"$f":"B49","v":0},{"$f":"C49","v":0},{"$f":"D49","v":1},{"$f":"E49","v":0},null,"Greater:1",{"$f":"H49","v":{"$error":"#DIV/0!"}},{"$f":"I49","v":{"$error":"#DIV/0!"}},{"$f":"J49","v":{"$error":"#DIV/0!"}},{"$f":"K49","v":{"$error":"#DIV/0!"}},null,"Greater:1",{"$f":"N49","v":{"$error":"#DIV/0!"}},{"$f":"O49","v":{"$error":"#DIV/0!"}},{"$f":"P49","v":{"$error":"#DIV/0!"}},{"$f":"Q49","v":{"$error":"#DIV/0!"}},null,"Greater:1",{"$f":"T49","v":0},{"$f":"U49","v":0},{"$f":"V49","v":1},{"$f":"W49","v":0}]
["Expected: 2",{"$f":"SUM($B$49:B50)","v":1},{"$f":"SUM($C$49:C50)","v":0},{"$f":"SUM($D$49:D50)","v":1},{"$f":"SUM($E$49:E50)","v":1},null,"Expected: 2",{"$f":"SUM($H$49:H50)","v":{"$error":"#DIV/0!"}},{"$f":"SUM($I$49:I50)","v":{"$error":"#DIV/0!"}},{"$f":"SUM($J$49:J50)","v":{"$error":"#DIV/0!"}},{"$f":"SUM($K$49:K50)","v":{"$error":"#DIV/0!"}},null,"Expected: 2",{"$f":"SUM($N$49:N50)","v":{"$error":"#DIV/0!"}},{"$f":"SUM($O$49:O50)","v":{"$error":"#DIV/0!"}},{"$f":"SUM($P$49:P50)","v":{"$error":"#DIV/0!"}},{"$f":"SUM($Q$49:Q50)","v":{"$error":"#DIV/0!"}},null,"Expected: 2",{"$f":"SUM($T$49:T50)","v":1},{"$f":"SUM($U$49:U50)","v":0},{"$f":"SUM($V$49:V50)","v":1},{"$f":"SUM($W$49:W50)","v":1}]
["Towards: 3",{"$f":"SUM($B$49:B51)","v":1},{"$f":"SUM($C$49:C51)","v":1},{"$f":"SUM($D$49:D51)","v":1},{"$f":"SUM($E$49:E51)","v":1},null,"Towards: 3",{"$f":"SUM($H$49:H51)","v":{"$error":"#DIV/0!"}},{"$f":"SUM($I$49:I51)","v":{"$error":"#DIV/0!"}},{"$f":"SUM($J$49:J51)","v":{"$error":"#DIV/0!"}},{"$f":"SUM($K$49:K51)","v":{"$error":"#DIV/0!"}},null,"Towards: 3",{"$f":"SUM($N$49:N51)","v":{"$error":"#DIV/0!"}},{"$f":"SUM($O$49:O51)","v":{"$error":"#DIV/0!"}},{"$f":"SUM($P$49:P51)","v":{"$error":"#DIV/0!"}},{"$f":"SUM($Q$49:Q51)","v":{"$error":"#DIV/0!"}},null,"Towards: 3",{"$f":"SUM($T$49:T51)","v":1},{"$f":"SUM($U$49:U51)","v":1},{"$f":"SUM($V$49:V51)","v":1},{"$f":"SUM($W$49:W51)","v":1}]
["Foundations: 4",{"$f":"SUM($B$49:B52)","v":1},{"$f":"SUM($C$49:C52)","v":1},{"$f":"SUM($D$49:D52)","v":1},{"$f":"SUM($E$49:E52)","v":1},null,"Foundations: 4",{"$f":"SUM($H$49:H52)","v":{"$error":"#DIV/0!"}},{"$f":"SUM($I$49:I52)","v":{"$error":"#DIV/0!"}},{"$f":"SUM($J$49:J52)","v":{"$error":"#DIV/0!"}},{"$f":"SUM($K$49:K52)","v":{"$error":"#DIV/0!"}},null,"Foundations: 4",{"$f":"SUM($N$49:N52)","v":{"$error":"#DIV/0!"}},{"$f":"SUM($O$49:O52)","v":{"$error":"#DIV/0!"}},{"$f":"SUM($P$49:P52)","v":{"$error":"#DIV/0!"}},{"$f":"SUM($Q$49:Q52)","v":{"$error":"#DIV/0!"}},null,"Foundations: 4",{"$f":"SUM($T$49:T52)","v":1},{"$f":"SUM($U$49:U52)","v":1},{"$f":"SUM($V$49:V52)","v":1},{"$f":"SUM($W$49:W52)","v":1}]
["Below: 5",{"$f":"SUM($B$49:B53)","v":1},{"$f":"SUM($C$49:C53)","v":1},{"$f":"SUM($D$49:D53)","v":1},{"$f":"SUM($E$49:E53)","v":1},null,"Below: 5",{"$f":"SUM($H$49:H53)","v":{"$error":"#DIV/0!"}},{"$f":"SUM($I$49:I53)","v":{"$error":"#DIV/0!"}},{"$f":"SUM($J$49:J53)","v":{"$error":"#DIV/0!"}},{"$f":"SUM($K$49:K53)","v":{"$error":"#DIV/0!"}},null,"Below: 5",{"$f":"SUM($N$49:N53)","v":{"$error":"#DIV/0!"}},{"$f":"SUM($O$49:O53)","v":{"$error":"#DIV/0!"}},{"$f":"SUM($P$49:P53)","v":{"$error":"#DIV/0!"}},{"$f":"SUM($Q$49:Q53)","v":{"$error":"#DIV/0!"}},null,"Below: 5",{"$f":"SUM($T$49:T53)","v":1},{"$f":"SUM($U$49:U53)","v":1},{"$f":"SUM($V$49:V53)","v":1},{"$f":"SUM($W$49:W53)","v":1}]
["p",{"$f":"SUM($B$49:B54)","v":1},{"$f":"SUM($C$49:C54)","v":1},{"$f":"SUM($D$49:D54)","v":1},{"$f":"SUM($E$49:E54)","v":1},null,"p",{"$f":"SUM($H$49:H54)","v":{"$error":"#DIV/0!"}},{"$f":"SUM($I$49:I54)","v":{"$error":"#DIV/0!"}},{"$f":"SUM($J$49:J54)","v":{"$error":"#DIV/0!"}},{"$f":"SUM($K$49:K54)","v":{"$error":"#DIV/0!"}},null,"p",{"$f":"SUM($N$49:N54)","v":{"$error":"#DIV/0!"}},{"$f":"SUM($O$49:O54)","v":{"$error":"#DIV/0!"}},{"$f":"SUM($P$49:P54)","v":{"$error":"#DIV/0!"}},{"$f":"SUM($Q$49:Q54)","v":{"$error":"#DIV/0!"}},null,"p",{"$f":"SUM($T$49:T54)","v":1},{"$f":"SUM($U$49:U54)","v":1},{"$f":"SUM($V$49:V54)","v":1},{"$f":"SUM($W$49:W54)","v":1}]
["blank",{"$f":"SUM($B$49:B55)","v":1},{"$f":"SUM($C$49:C55)","v":1},{"$f":"SUM($D$49:D55)","v":1},{"$f":"SUM($E$49:E55)","v":1},null,"blank",{"$f":"SUM($H$49:H55)","v":{"$error":"#DIV/0!"}},{"$f":"SUM($I$49:I55)","v":{"$error":"#DIV/0!"}},{"$f":"SUM($J$49:J55)","v":{"$error":"#DIV/0!"}},{"$f":"SUM($K$49:K55)","v":{"$error":"#DIV/0!"}},null,"blank",{"$f":"SUM($N$49:N55)","v":{"$error":"#DIV/0!"}},{"$f":"SUM($O$49:O55)","v":{"$error":"#DIV/0!"}},{"$f":"SUM($P$49:P55)","v":{"$error":"#DIV/0!"}},{"$f":"SUM($Q$49:Q55)","v":{"$error":"#DIV/0!"}},null,"blank",{"$f":"SUM($T$49:T55)","v":1},{"$f":"SUM($U$49:U55)","v":1},{"$f":"SUM($V$49:V55)","v":1},{"$f":"SUM($W$49:W55)","v":1}]
["A",{"$f":"SUM($B$49:B56)","v":1},{"$f":"SUM($C$49:C56)","v":1},{"$f":"SUM($D$49:D56)","v":1},{"$f":"SUM($E$49:E56)","v":1},null,"A",{"$f":"SUM($H$49:H56)","v":{"$error":"#DIV/0!"}},{"$f":"SUM($I$49:I56)","v":{"$error":"#DIV/0!"}},{"$f":"SUM($J$49:J56)","v":{"$error":"#DIV/0!"}},{"$f":"SUM($K$49:K56)","v":{"$error":"#DIV/0!"}},null,"A",{"$f":"SUM($N$49:N56)","v":{"$error":"#DIV/0!"}},{"$f":"SUM($O$49:O56)","v":{"$error":"#DIV/0!"}},{"$f":"SUM($P$49:P56)","v":{"$error":"#DIV/0!"}},{"$f":"SUM($Q$49:Q56)","v":{"$error":"#DIV/0!"}},null,"A",{"$f":"SUM($T$49:T56)","v":1},{"$f":"SUM($U$49:U56)","v":1},{"$f":"SUM($V$49:V56)","v":1},{"$f":"SUM($W$49:W56)","v":1}]
[]
[null,"Classes"]
[null,{"$f":"'Assessment Input'!$F$1","v":"Reading"},{"$f":"'Assessment Input'!$G$1","v":"Writing"},{"$f":"'Assessment Input'!$H$1","v":"Maths"},{"$f":"'Assessment Input'!$I$1","v":"Science "},null,null,{"$f":"'Assessment Input'!$F$1","v":"Reading"},{"$f":"'Assessment Input'!$G$1","v":"Writing"},{"$f":"'Assessment Input'!$H$1","v":"Maths"},{"$f":"'Assessment Input'!$I$1","v":"Science "},null,null,{"$f":"'Assessment Input'!$F$1","v":"Reading"},{"$f":"'Assessment Input'!$G$1","v":"Writing"},{"$f":"'Assessment Input'!$H$1","v":"Maths"},{"$f":"'Assessment Input'!$I$1","v":"Science "},null,null,{"$f":"'Assessment Input'!$F$1","v":"Reading"},{"$f":"'Assessment Input'!$G$1","v":"Writing"},{"$f":"'Assessment Input'!$H$1","v":"Maths"},{"$f":"'Assessment Input'!$I$1","v":"Science "}]
[null,{"$f":"'Assessment Input'!K18 &\": \"&Sheet1!I4&\" (/\"&B30&\")\"","v":"Class 1: Number at (/1)"},null,null,null,null,null,{"$f":"'Assessment Input'!$K$19 &\": \"&Sheet1!$I$4&\" (/\"&B31&\")\"","v":"Class 2: Number at (/0)"},null,null,null,null,null,{"$f":"'Assessment Input'!$K$20 &\": \"&Sheet1!$I$4&\" (/\"&B32&\")\"","v":"Class 3: Number at (/0)"},null,null,null,null,null,{"$f":"'Assessment Input'!K21 &\": \"&Sheet1!I4&\" (/\"&B33&\")\"","v":"Class 4: Number at (/0)"}]
["Greater:1",{"$f":"COUNTIFS('Assessment Input'!$F$2:$F$131,\"1\", 'Assessment Input'!$A$2:$A$131, 'Assessment Input'!K18)","v":0},{"$f":"COUNTIFS('Assessment Input'!$G$2:$G$131,\"1\", 'Assessment Input'!$A$2:$A$131, 'Assessment Input'!K18)","v":0},{"$f":"COUNTIFS('Assessment Input'!$H$2:$H$131,\"1\", 'Assessment Input'!$A$2:$A$131, 'Assessment Input'!K18)","v":1},{"$f":"COUNTIFS('Assessment Input'!$I$2:$I$131,\"1\", 'Assessment Input'!$A$2:$A$131, 'Assessment Input'!K18)","v":0},null,"Greater:1",{"$f":"COUNTIFS('Assessment Input'!$F$2:$F$131,\"1\", 'Assessment Input'!$A$2:$A$131, 'Assessment Input'!$K$19)","v":0},{"$f":"COUNTIFS('Assessment Input'!$G$2:$G$131,\"1\", 'Assessment Input'!$A$2:$A$131, 'Assessment Input'!$K$19)","v":0},{"$f":"COUNTIFS('Assessment Input'!$H$2:$H$131,\"1\", 'Assessment Input'!$A$2:$A$131, 'Assessment Input'!$K$19)","v":0},{"$f":"COUNTIFS('Assessment Input'!$I$2:$I$131,\"1\", 'Assessment Input'!$A$2:$A$131, 'Assessment Input'!$K$19)","v":0},null,"Greater:1",{"$f":"COUNTIFS('Assessment Input'!$F$2:$F$131,\"1\", 'Assessment Input'!$A$2:$A$131, 'Assessment Input'!$K$20)","v":0},{"$f":"COUNTIFS('Assessment Input'!$G$2:$G$131,\"1\", 'Assessment Input'!$A$2:$A$131, 'Assessment Input'!$K$20)","v":0},{"$f":"COUNTIFS('Assessment Input'!$H$2:$H$131,\"1\", 'Assessment Input'!$A$2:$A$131, 'Assessment Input'!$K$20)","v":0},{"$f":"COUNTIFS('Assessment Input'!$I$2:$I$131,\"1\", 'Assessment Input'!$A$2:$A$131, 'Assessment Input'!$K$20)","v":0},null,"Greater:1",{"$f":"COUNTIFS('Assessment Input'!$F$2:$F$131,\"1\", 'Assessment Input'!$A$2:$A$131,'Assessment Input'!K21)","v":0},{"$f":"COUNTIFS('Assessment Input'!$G$2:$G$131,\"1\", 'Assessment Input'!$A$2:$A$131,'Assessment Input'!$K$21)","v":0},{"$f":"COUNTIFS('Assessment Input'!$H$2:$H$131,\"1\", 'Assessment Input'!$A$2:$A$131,'Assessment Input'!$K$21)","v":0},{"$f":"COUNTIFS('Assessment Input'!$I$2:$I$131,\"1\", 'Assessment Input'!$A$2:$A$131,'Assessment Input'!$K$21)","v":0}]
["Expected: 2",{"$f":"COUNTIFS('Assessment Input'!$F$2:$F$131,\"2\", 'Assessment Input'!$A$2:$A$131, 'Assessment Input'!K18)","v":1},{"$f":"COUNTIFS('Assessment Input'!$G$2:$G$131,\"2\", 'Assessment Input'!$A$2:$A$131, 'Assessment Input'!K18)","v":0},{"$f":"COUNTIFS('Assessment Input'!$H$2:$H$131,\"2\", 'Assessment Input'!$A$2:$A$131, 'Assessment Input'!K18)","v":0},{"$f":"COUNTIFS('Assessment Input'!$I$2:$I$131,\"2\", 'Assessment Input'!$A$2:$A$131, 'Assessment Input'!K18)","v":1},null,"Expected: 2",{"$f":"COUNTIFS('Assessment Input'!$F$2:$F$131,\"2\", 'Assessment Input'!$A$2:$A$131, 'Assessment Input'!$K$19)","v":0},{"$f":"COUNTIFS('Assessment Input'!$G$2:$G$131,\"2\", 'Assessment Input'!$A$2:$A$131, 'Assessment Input'!$K$19)","v":0},{"$f":"COUNTIFS('Assessment Input'!$H$2:$H$131,\"2\", 'Assessment Input'!$A$2:$A$131, 'Assessment Input'!$K$19)","v":0},{"$f":"COUNTIFS('Assessment Input'!$I$2:$I$131,\"2\", 'Assessment Input'!$A$2:$A$131, 'Assessment Input'!$K$19)","v":0},null,"Expected: 2",{"$f":"COUNTIFS('Assessment Input'!$F$2:$F$131,\"2\", 'Assessment Input'!$A$2:$A$131, 'Assessment Input'!$K$20)","v":0},{"$f":"COUNTIFS('Assessment Input'!$G$2:$G$131,\"2\", 'Assessment Input'!$A$2:$A$131, 'Assessment Input'!$K$20)","v":0},{"$f":"COUNTIFS('Assessment Input'!$H$2:$H$131,\"2\", 'Assessment Input'!$A$2:$A$131, 'Assessment Input'!$K$20)","v":0},{"$f":"COUNTIFS('Assessment Input'!$I$2:$I$131,\"2\", 'Assessment Input'!$A$2:$A$131, 'Assessment Input'!$K$20)","v":0},null,"Expected: 2",{"$f":"COUNTIFS('Assessment Input'!$F$2:$F$131,\"2\", 'Assessment Input'!$A$2:$A$131,'Assessment Input'!$K$21)","v":0},{"$f":"COUNTIFS('Assessment Input'!$G$2:$G$131,\"2\", 'Assessment Input'!$A$2:$A$131,'Assessment Input'!$K$21)","v":0},{"$f":"COUNTIFS('Assessment Input'!$H$2:$H$131,\"2\", 'Assessment Input'!$A$2:$A$131,'Assessment Input'!$K$21)","v":0},{"$f":"COUNTIFS('Assessment Input'!$I$2:$I$131,\"2\", 'Assessment Input'!$A$2:$A$131,'Assessment Input'!$K$21)","v":0}]
["Towards: 3",{"$f":"COUNTIFS('Assessment Input'!$F$2:$F$131,\"3\", 'Assessment Input'!$A$2:$A$131, 'Assessment Input'!K18)","v":0},{"$f":"COUNTIFS('Assessment Input'!$G$2:$G$131,\"3\", 'Assessment Input'!$A$2:$A$131, 'Assessment Input'!K18)","v":1},{"$f":"COUNTIFS('Assessment Input'!$H$2:$H$131,\"3\", 'Assessment Input'!$A$2:$A$131, 'Assessment Input'!K18)","v":0},{"$f":"COUNTIFS('Assessment Input'!$I$2:$I$131,\"3\", 'Assessment Input'!$A$2:$A$131, 'Assessment Input'!K18)","v":0},null,"Towards: 3",{"$f":"COUNTIFS('Assessment Input'!$F$2:$F$131,\"3\", 'Assessment Input'!$A$2:$A$131, 'Assessment Input'!$K$19)","v":0},{"$f":"COUNTIFS('Assessment Input'!$G$2:$G$131,\"3\", 'Assessment Input'!$A$2:$A$131, 'Assessment Input'!$K$19)","v":0},{"$f":"COUNTIFS('Assessment Input'!$H$2:$H$131,\"3\", 'Assessment Input'!$A$2:$A$131, 'Assessment Input'!$K$19)","v":0},{"$f":"COUNTIFS('Assessment Input'!$I$2:$I$131,\"3\", 'Assessment Input'!$A$2:$A$131, 'Assessment Input'!$K$19)","v":0},null,"Towards: 3",{"$f":"COUNTIFS('Assessment Input'!$F$2:$F$131,\"3\", 'Assessment Input'!$A$2:$A$131, 'Assessment Input'!$K$20)","v":0},{"$f":"COUNTIFS('Assessment Input'!$G$2:$G$131,\"3\", 'Assessment Input'!$A$2:$A$131, 'Assessment Input'!$K$20)","v":0},{"$f":"COUNTIFS('Assessment Input'!$H$2:$H$131,\"3\", 'Assessment Input'!$A$2:$A$131, 'Assessment Input'!$K$20)","v":0},{"$f":"COUNTIFS('Assessment Input'!$I$2:$I$131,\"3\", 'Assessment Input'!$A$2:$A$131, 'Assessment Input'!$K$20)","v":0},null,"Towards: 3",{"$f":"COUNTIFS('Assessment Input'!$F$2:$F$131,\"3\", 'Assessment Input'!$A$2:$A$131,'Assessment Input'!$K$21)","v":0},{"$f":"COUNTIFS('Assessment Input'!$G$2:$G$131,\"3\", 'Assessment Input'!$A$2:$A$131,'Assessment Input'!$K$21)","v":0},{"$f":"COUNTIFS('Assessment Input'!$H$2:$H$131,\"3\", 'Assessment Input'!$A$2:$A$131,'Assessment Input'!$K$21)","v":0},{"$f":"COUNTIFS('Assessment Input'!$I$2:$I$131,\"3\", 'Assessment Input'!$A$2:$A$131,'Assessment Input'!$K$21)","v":0}]
["Foundations: 4",{"$f":"COUNTIFS('Assessment Input'!$F$2:$F$131,\"4\", 'Assessment Input'!$A$2:$A$131, 'Assessment Input'!K18)","v":0},{"$f":"COUNTIFS('Assessment Input'!$G$2:$G$131,\"4\", 'Assessment Input'!$A$2:$A$131, 'Assessment Input'!K18)","v":0},{"$f":"COUNTIFS('Assessment Input'!$H$2:$H$131,\"4\", 'Assessment Input'!$A$2:$A$131, 'Assessment Input'!K18)","v":0},{"$f":"COUNTIFS('Assessment Input'!$I$2:$I$131,\"4\", 'Assessment Input'!$A$2:$A$131, 'Assessment Input'!K18)","v":0},null,"Foundations: 4",{"$f":"COUNTIFS('Assessment Input'!$F$2:$F$131,\"4\", 'Assessment Input'!$A$2:$A$131, 'Assessment Input'!$K$19)","v":0},{"$f":"COUNTIFS('Assessment Input'!$G$2:$G$131,\"4\", 'Assessment Input'!$A$2:$A$131, 'Assessment Input'!$K$19)","v":0},{"$f":"COUNTIFS('Assessment Input'!$H$2:$H$131,\"4\", 'Assessment Input'!$A$2:$A$131, 'Assessment Input'!$K$19)","v":0},{"$f":"COUNTIFS('Assessment Input'!$I$2:$I$131,\"4\", 'Assessment Input'!$A$2:$A$131, 'Assessment Input'!$K$19)","v":0},null,"Foundations: 4",{"$f":"COUNTIFS('Assessment Input'!$F$2:$F$131,\"4\", 'Assessment Input'!$A$2:$A$131, 'Assessment Input'!$K$20)","v":0},{"$f":"COUNTIFS('Assessment Input'!$G$2:$G$131,\"4\", 'Assessment Input'!$A$2:$A$131, 'Assessment Input'!$K$20)","v":0},{"$f":"COUNTIFS('Assessment Input'!$H$2:$H$131,\"4\", 'Assessment Input'!$A$2:$A$131, 'Assessment Input'!$K$20)","v":0},{"$f":"COUNTIFS('Assessment Input'!$I$2:$I$131,\"4\", 'Assessment Input'!$A$2:$A$131, 'Assessment Input'!$K$20)","v":0},null,"Foundations: 4",{"$f":"COUNTIFS('Assessment Input'!$F$2:$F$131,\"4\", 'Assessment Input'!$A$2:$A$131,'Assessment Input'!$K$21)","v":0},{"$f":"COUNTIFS('Assessment Input'!$G$2:$G$131,\"4\", 'Assessment Input'!$A$2:$A$131,'Assessment Input'!$K$21)","v":0},{"$f":"COUNTIFS('Assessment Input'!$H$2:$H$131,\"4\", 'Assessment Input'!$A$2:$A$131,'Assessment Input'!$K$21)","v":0},{"$f":"COUNTIFS('Assessment Input'!$I$2:$I$131,\"4\", 'Assessment Input'!$A$2:$A$131,'Assessment Input'!$K$21)","v":0}]
["Below: 5",{"$f":"COUNTIFS('Assessment Input'!$F$2:$F$131,\"5\", 'Assessment Input'!$A$2:$A$131, 'Assessment Input'!K18)","v":0},{"$f":"COUNTIFS('Assessment Input'!$G$2:$G$131,\"5\", 'Assessment Input'!$A$2:$A$131, 'Assessment Input'!K18)","v":0},{"$f":"COUNTIFS('Assessment Input'!$H$2:$H$131,\"5\", 'Assessment Input'!$A$2:$A$131, 'Assessment Input'!K18)","v":0},{"$f":"COUNTIFS('Assessment Input'!$I$2:$I$131,\"5\", 'Assessment Input'!$A$2:$A$131, 'Assessment Input'!K18)","v":0},null,"Below: 5",{"$f":"COUNTIFS('Assessment Input'!$F$2:$F$131,\"5\", 'Assessment Input'!$A$2:$A$131, 'Assessment Input'!$K$19)","v":0},{"$f":"COUNTIFS('Assessment Input'!$G$2:$G$131,\"5\", 'Assessment Input'!$A$2:$A$131, 'Assessment Input'!$K$19)","v":0},{"$f":"COUNTIFS('Assessment Input'!$H$2:$H$131,\"5\", 'Assessment Input'!$A$2:$A$131, 'Assessment Input'!$K$19)","v":0},{"$f":"COUNTIFS('Assessment Input'!$I$2:$I$131,\"5\", 'Assessment Input'!$A$2:$A$131, 'Assessment Input'!$K$19)","v":0},null,"Below: 5",{"$f":"COUNTIFS('Assessment Input'!$F$2:$F$131,\"5\", 'Assessment Input'!$A$2:$A$131, 'Assessment Input'!$K$20)","v":0},{"$f":"COUNTIFS('Assessment Input'!$G$2:$G$131,\"5\", 'Assessment Input'!$A$2:$A$131, 'Assessment Input'!$K$20)","v":0},{"$f":"COUNTIFS('Assessment Input'!$H$2:$H$131,\"5\", 'Assessment Input'!$A$2:$A$131, 'Assessment Input'!$K$20)","v":0},{"$f":"COUNTIFS('Assessment Input'!$I$2:$I$131,\"5\", 'Assessment Input'!$A$2:$A$131, 'Assessment Input'!$K$20)","v":0},null,"Below: 5",{"$f":"COUNTIFS('Assessment Input'!$F$2:$F$131,\"5\", 'Assessment Input'!$A$2:$A$131,'Assessment Input'!$K$21)","v":0},{"$f":"COUNTIFS('Assessment Input'!$G$2:$G$131,\"5\", 'Assessment Input'!$A$2:$A$131,'Assessment Input'!$K$21)","v":0},{"$f":"COUNTIFS('Assessment Input'!$H$2:$H$131,\"5\", 'Assessment Input'!$A$2:$A$131,'Assessment Input'!$K$21)","v":0},{"$f":"COUNTIFS('Assessment Input'!$I$2:$I$131,\"5\", 'Assessment Input'!$A$2:$A$131,'Assessment Input'!$K$21)","v":0}]
["p",{"$f":"COUNTIFS('Assessment Input'!$F$2:$F$131,\"w\", 'Assessment Input'!$A$2:$A$131, 'Assessment Input'!K18)","v":0},{"$f":"COUNTIFS('Assessment Input'!$G$2:$G$131,\"w\", 'Assessment Input'!$A$2:$A$131, 'Assessment Input'!K18)","v":0},{"$f":"COUNTIFS('Assessment Input'!$H$2:$H$131,\"w\", 'Assessment Input'!$A$2:$A$131, 'Assessment Input'!K18)","v":0},{"$f":"COUNTIFS('Assessment Input'!$I$2:$I$131,\"w\", 'Assessment Input'!$A$2:$A$131, 'Assessment Input'!K18)","v":0},null,"p",{"$f":"COUNTIFS('Assessment Input'!$F$2:$F$131,\"w\", 'Assessment Input'!$A$2:$A$131, 'Assessment Input'!$K$19)","v":0},{"$f":"COUNTIFS('Assessment Input'!$G$2:$G$131,\"w\", 'Assessment Input'!$A$2:$A$131, 'Assessment Input'!$K$19)","v":0},{"$f":"COUNTIFS('Assessment Input'!$H$2:$H$131,\"w\", 'Assessment Input'!$A$2:$A$131, 'Assessment Input'!$K$19)","v":0},{"$f":"COUNTIFS('Assessment Input'!$I$2:$I$131,\"w\", 'Assessment Input'!$A$2:$A$131, 'Assessment Input'!$K$19)","v":0},null,"p",{"$f":"COUNTIFS('Assessment Input'!$F$2:$F$131,\"w\", 'Assessment Input'!$A$2:$A$131, 'Assessment Input'!$K$20)","v":0},{"$f":"COUNTIFS('Assessment Input'!$G$2:$G$131,\"w\", 'Assessment Input'!$A$2:$A$131, 'Assessment Input'!$K$20)","v":0},{"$f":"COUNTIFS('Assessment Input'!$H$2:$H$131,\"w\", 'Assessment Input'!$A$2:$A$131, 'Assessment Input'!$K$20)","v":0},{"$f":"COUNTIFS('Assessment Input'!$I$2:$I$131,\"w\", 'Assessment Input'!$A$2:$A$131, 'Assessment Input'!$K$20)","v":0},null,"p",{"$f":"COUNTIFS('Assessment Input'!$F$2:$F$131,\"w\", 'Assessment Input'!$A$2:$A$131,'Assessment Input'!$K$21)","v":0},{"$f":"COUNTIFS('Assessment Input'!$G$2:$G$131,\"w\", 'Assessment Input'!$A$2:$A$131,'Assessment Input'!$K$21)","v":0},{"$f":"COUNTIFS('Assessment Input'!$H$2:$H$131,\"w\", 'Assessment Input'!$A$2:$A$131,'Assessment Input'!$K$21)","v":0},{"$f":"COUNTIFS('Assessment Input'!$I$2:$I$131,\"w\", 'Assessment Input'!$A$2:$A$131,'Assessment Input'!$K$21)","v":0}]
["blank",{"$f":"COUNTIFS('Assessment Input'!$F$2:$F$131,\"\", 'Assessment Input'!$A$2:$A$131, 'Assessment Input'!K18)","v":0},{"$f":"COUNTIFS('Assessment Input'!$G$2:$G$131,\"\", 'Assessment Input'!$A$2:$A$131, 'Assessment Input'!K18)","v":0},{"$f":"COUNTIFS('Assessment Input'!$H$2:$H$131,\"\", 'Assessment Input'!$A$2:$A$131, 'Assessment Input'!K18)","v":0},{"$f":"COUNTIFS('Assessment Input'!$I$2:$I$131,\"\", 'Assessment Input'!$A$2:$A$131, 'Assessment Input'!K18)","v":0},null,"blank",{"$f":"COUNTIFS('Assessment Input'!$F$2:$F$131,\"\", 'Assessment Input'!$A$2:$A$131, 'Assessment Input'!$K$19)","v":0},{"$f":"COUNTIFS('Assessment Input'!$G$2:$G$131,\"\", 'Assessment Input'!$A$2:$A$131, 'Assessment Input'!$K$19)","v":0},{"$f":"COUNTIFS('Assessment Input'!$H$2:$H$131,\"\", 'Assessment Input'!$A$2:$A$131, 'Assessment Input'!$K$19)","v":0},{"$f":"COUNTIFS('Assessment Input'!$I$2:$I$131,\"\", 'Assessment Input'!$A$2:$A$131, 'Assessment Input'!$K$19)","v":0},null,"blank",{"$f":"COUNTIFS('Assessment Input'!$F$2:$F$131,\"\", 'Assessment Input'!$A$2:$A$131, 'Assessment Input'!$K$20)","v":0},{"$f":"COUNTIFS('Assessment Input'!$G$2:$G$131,\"\", 'Assessment Input'!$A$2:$A$131, 'Assessment Input'!$K$20)","v":0},{"$f":"COUNTIFS('Assessment Input'!$H$2:$H$131,\"\", 'Assessment Input'!$A$2:$A$131, 'Assessment Input'!$K$20)","v":0},{"$f":"COUNTIFS('Assessment Input'!$I$2:$I$131,\"\", 'Assessment Input'!$A$2:$A$131, 'Assessment Input'!$K$20)","v":0},null,"blank",{"$f":"COUNTIFS('Assessment Input'!$F$2:$F$131,\"\", 'Assessment Input'!$A$2:$A$131,'Assessment Input'!$K$21)","v":0},{"$f":"COUNTIFS('Assessment Input'!$G$2:$G$131,\"\", 'Assessment Input'!$A$2:$A$131,'Assessment Input'!$K$21)","v":0},{"$f":"COUNTIFS('Assessment Input'!$H$2:$H$131,\"\", 'Assessment Input'!$A$2:$A$131,'Assessment Input'!$K$21)","v":0},{"$f":"COUNTIFS('Assessment Input'!$I$2:$I$131,\"\", 'Assessment Input'!$A$2:$A$131,'Assessment Input'!$K$21)","v":0}]
["A",{"$f":"COUNTIFS('Assessment Input'!$F$2:$F$131,\"A\", 'Assessment Input'!$A$2:$A$131, 'Assessment Input'!K18)","v":0},{"$f":"COUNTIFS('Assessment Input'!$G$2:$G$131,\"A\", 'Assessment Input'!$A$2:$A$131, 'Assessment Input'!K18)","v":0},{"$f":"COUNTIFS('Assessment Input'!$H$2:$H$131,\"A\", 'Assessment Input'!$A$2:$A$131, 'Assessment Input'!K18)","v":0},{"$f":"COUNTIFS('Assessment Input'!$I$2:$I$131,\"A\", 'Assessment Input'!$A$2:$A$131, 'Assessment Input'!K18)","v":0},null,"A",{"$f":"COUNTIFS('Assessment Input'!$F$2:$F$131,\"A\", 'Assessment Input'!$A$2:$A$131, 'Assessment Input'!$K$19)","v":0},{"$f":"COUNTIFS('Assessment Input'!$G$2:$G$131,\"A\", 'Assessment Input'!$A$2:$A$131, 'Assessment Input'!$K$19)","v":0},{"$f":"COUNTIFS('Assessment Input'!$H$2:$H$131,\"A\", 'Assessment Input'!$A$2:$A$131, 'Assessment Input'!$K$19)","v":0},{"$f":"COUNTIFS('Assessment Input'!$I$2:$I$131,\"A\", 'Assessment Input'!$A$2:$A$131, 'Assessment Input'!$K$19)","v":0},null,"A",{"$f":"COUNTIFS('Assessment Input'!$F$2:$F$131,\"A\", 'Assessment Input'!$A$2:$A$131, 'Assessment Input'!$K$20)","v":0},{"$f":"COUNTIFS('Assessment Input'!$G$2:$G$131,\"A\", 'Assessment Input'!$A$2:$A$131, 'Assessment Input'!$K$20)","v":0},{"$f":"COUNTIFS('Assessment Input'!$H$2:$H$131,\"A\", 'Assessment Input'!$A$2:$A$131, 'Assessment Input'!$K$20)","v":0},{"$f":"COUNTIFS('Assessment Input'!$I$2:$I$131,\"A\", 'Assessment Input'!$A$2:$A$131, 'Assessment Input'!$K$20)","v":0},null,"A",{"$f":"COUNTIFS('Assessment Input'!$F$2:$F$131,\"A\", 'Assessment Input'!$A$2:$A$131,'Assessment Input'!$K$21)","v":0},{"$f":"COUNTIFS('Assessment Input'!$G$2:$G$131,\"A\", 'Assessment Input'!$A$2:$A$131,'Assessment Input'!$K$21)","v":0},{"$f":"COUNTIFS('Assessment Input'!$H$2:$H$131,\"A\", 'Assessment Input'!$A$2:$A$131,'Assessment Input'!$K$21)","v":0},{"$f":"COUNTIFS('Assessment Input'!$I$2:$I$131,\"A\", 'Assessment Input'!$A$2:$A$131,'Assessment Input'!$K$21)","v":0}]
["Total:",{"$f":"SUM(B72:B79)","v":1},{"$f":"SUM(C72:C79)","v":1},{"$f":"SUM(D72:D79)","v":1},{"$f":"SUM(E72:E79)","v":1},null,"Total:",{"$f":"SUM(H72:H79)","v":0},{"$f":"SUM(I72:I79)","v":0},{"$f":"SUM(J72:J79)","v":0},{"$f":"SUM(K72:K79)","v":0},null,"Total:",{"$f":"SUM(N72:N79)","v":0},{"$f":"SUM(O72:O79)","v":0},{"$f":"SUM(P72:P79)","v":0},{"$f":"SUM(Q72:Q79)","v":0},null,"Total:",{"$f":"SUM(T72:T79)","v":0},{"$f":"SUM(U72:U79)","v":0},{"$f":"SUM(V72:V79)","v":0},{"$f":"SUM(W72:W79)","v":0}]
[]
[null,{"$f":"'Assessment Input'!K18 &\": \"&Sheet1!I5&\" (/\"&B30&\")\"","v":"Class 1: % at (/1)"},null,null,null,null,null,{"$f":"'Assessment Input'!$K$19 &\": \"&Sheet1!$I$5&\" (/\"&B31&\")\"","v":"Class 2: % at (/0)"},null,null,null,null,null,{"$f":"'Assessment Input'!$K$20 &\": \"&Sheet1!$I$5&\" (/\"&B32&\")\"","v":"Class 3: % at (/0)"},null,null,null,null,null,{"$f":"'Assessment Input'!K21 &\": \"&Sheet1!I5&\" (/\"&B33&\")\"","v":"Class 4: % at (/0)"}]
["Greater:1",{"$f":"B72/'Assessment Input'!L18","v":0},{"$f":"C72/'Assessment Input'!L18","v":0},{"$f":"D72/'Assessment Input'!L18","v":1},{"$f":"E72/'Assessment Input'!L18","v":0},null,"Greater:1",{"$f":"H72/'Assessment Input'!$L$19","v":{"$error":"#DIV/0!"}},{"$f":"I72/'Assessment Input'!$L$19","v":{"$error":"#DIV/0!"}},{"$f":"J72/'Assessment Input'!$L$19","v":{"$error":"#DIV/0!"}},{"$f":"K72/'Assessment Input'!$L$19","v":{"$error":"#DIV/0!"}},null,"Greater:1",{"$f":"N72/'Assessment Input'!$L$20","v":{"$error":"#DIV/0!"}},{"$f":"O72/'Assessment Input'!$L$20","v":{"$error":"#DIV/0!"}},{"$f":"P72/'Assessment Input'!$L$20","v":{"$error":"#DIV/0!"}},{"$f":"Q72/'Assessment Input'!$L$20","v":{"$error":"#DIV/0!"}},null,"Greater:1",{"$f":"T72/'Assessment Input'!$L$21","v":{"$error":"#DIV/0!"}},{"$f":"U72/'Assessment Input'!$L$21","v":{"$error":"#DIV/0!"}},{"$f":"V72/'Assessment Input'!$L$21","v":{"$error":"#DIV/0!"}},{"$f":"W72/'Assessment Input'!$L$21","v":{"$error":"#DIV/0!"}}]
["Expected: 2",{"$f":"B73/'Assessment Input'!L18","v":1},{"$f":"C73/'Assessment Input'!L18","v":0},{"$f":"D73/'Assessment Input'!L18","v":0},{"$f":"E73/'Assessment Input'!L18","v":1},null,"Expected: 2",{"$f":"H73/'Assessment Input'!$L$19","v":{"$error":"#DIV/0!"}},{"$f":"I73/'Assessment Input'!$L$19","v":{"$error":"#DIV/0!"}},{"$f":"J73/'Assessment Input'!$L$19","v":{"$error":"#DIV/0!"}},{"$f":"K73/'Assessment Input'!$L$19","v":{"$error":"#DIV/0!"}},null,"Expected: 2",{"$f":"N73/'Assessment Input'!$L$20","v":{"$error":"#DIV/0!"}},{"$f":"O73/'Assessment Input'!$L$20","v":{"$error":"#DIV/0!"}},{"$f":"P73/'Assessment Input'!$L$20","v":{"$error":"#DIV/0!"}},{"$f":"Q73/'Assessment Input'!$L$20","v":{"$error":"#DIV/0!"}},null,"Expected: 2",{"$f":"T73/'Assessment Input'!$L$21","v":{"$error":"#DIV/0!"}},{"$f":"U73/'Assessment Input'!$L$21","v":{"$error":"#DIV/0!"}},{"$f":"V73/'Assessment Input'!$L$21","v":{"$error":"#DIV/0!"}},{"$f":"W73/'Assessment Input'!$L$21","v":{"$error":"#DIV/0!"}}]
["Towards: 3",{"$f":"B74/'Assessment Input'!L18","v":0},{"$f":"C74/'Assessment Input'!L18","v":1},{"$f":"D74/'Assessment Input'!L18","v":0},{"$f":"E74/'Assessment Input'!L18","v":0},null,"Towards: 3",{"$f":"H74/'Assessment Input'!$L$19","v":{"$error":"#DIV/0!"}},{"$f":"I74/'Assessment Input'!$L$19","v":{"$error":"#DIV/0!"}},{"$f":"J74/'Assessment Input'!$L$19","v":{"$error":"#DIV/0!"}},{"$f":"K74/'Assessment Input'!$L$19","v":{"$error":"#DIV/0!"}},null,"Towards: 3",{"$f":"N74/'Assessment Input'!$L$20","v":{"$error":"#DIV/0!"}},{"$f":"O74/'Assessment Input'!$L$20","v":{"$error":"#DIV/0!"}},{"$f":"P74/'Assessment Input'!$L$20","v":{"$error":"#DIV/0!"}},{"$f":"Q74/'Assessment Input'!$L$20","v":{"$error":"#DIV/0!"}},null,"Towards: 3",{"$f":"T74/'Assessment Input'!$L$21","v":{"$error":"#DIV/0!"}},{"$f":"U74/'Assessment Input'!$L$21","v":{"$error":"#DIV/0!"}},{"$f":"V74/'Assessment Input'!$L$21","v":{"$error":"#DIV/0!"}},{"$f":"W74/'Assessment Input'!$L$21","v":{"$error":"#DIV/0!"}}]
["Foundations: 4",{"$f":"B75/'Assessment Input'!L18","v":0},{"$f":"C75/'Assessment Input'!L18","v":0},{"$f":"D75/'Assessment Input'!L18","v":0},{"$f":"E75/'Assessment Input'!L18","v":0},null,"Foundations: 4",{"$f":"H75/'Assessment Input'!$L$19","v":{"$error":"#DIV/0!"}},{"$f":"I75/'Assessment Input'!$L$19","v":{"$error":"#DIV/0!"}},{"$f":"J75/'Assessment Input'!$L$19","v":{"$error":"#DIV/0!"}},{"$f":"K75/'Assessment Input'!$L$19","v":{"$error":"#DIV/0!"}},null,"Foundations: 4",{"$f":"N75/'Assessment Input'!$L$20","v":{"$error":"#DIV/0!"}},{"$f":"O75/'Assessment Input'!$L$20","v":{"$error":"#DIV/0!"}},{"$f":"P75/'Assessment Input'!$L$20","v":{"$error":"#DIV/0!"}},{"$f":"Q75/'Assessment Input'!$L$20","v":{"$error":"#DIV/0!"}},null,"Foundations: 4",{"$f":"T75/'Assessment Input'!$L$21","v":{"$error":"#DIV/0!"}},{"$f":"U75/'Assessment Input'!$L$21","v":{"$error":"#DIV/0!"}},{"$f":"V75/'Assessment Input'!$L$21","v":{"$error":"#DIV/0!"}},{"$f":"W75/'Assessment Input'!$L$21","v":{"$error":"#DIV/0!"}}]
["Below: 5",{"$f":"B76/'Assessment Input'!L18","v":0},{"$f":"C76/'Assessment Input'!L18","v":0},{"$f":"D76/'Assessment Input'!L18","v":0},{"$f":"E76/'Assessment Input'!L18","v":0},null,"Below: 5",{"$f":"H76/'Assessment Input'!$L$19","v":{"$error":"#DIV/0!"}},{"$f":"I76/'Assessment Input'!$L$19","v":{"$error":"#DIV/0!"}},{"$f":"J76/'Assessment Input'!$L$19","v":{"$error":"#DIV/0!"}},{"$f":"K76/'Assessment Input'!$L$19","v":{"$error":"#DIV/0!"}},null,"Below: 5",{"$f":"N76/'Assessment Input'!$L$20","v":{"$error":"#DIV/0!"}},{"$f":"O76/'Assessment Input'!$L$20","v":{"$error":"#DIV/0!"}},{"$f":"P76/'Assessment Input'!$L$20","v":{"$error":"#DIV/0!"}},{"$f":"Q76/'Assessment Input'!$L$20","v":{"$error":"#DIV/0!"}},null,"Below: 5",{"$f":"T76/'Assessment Input'!$L$21","v":{"$error":"#DIV/0!"}},{"$f":"U76/'Assessment Input'!$L$21","v":{"$error":"#DIV/0!"}},{"$f":"V76/'Assessment Input'!$L$21","v":{"$error":"#DIV/0!"}},{"$f":"W76/'Assessment Input'!$L$21","v":{"$error":"#DIV/0!"}}]
["p",{"$f":"B77/'Assessment Input'!L18","v":0},{"$f":"C77/'Assessment Input'!L18","v":0},{"$f":"D77/'Assessment Input'!L18","v":0},{"$f":"E77/'Assessment Input'!L18","v":0},null,"p",{"$f":"H77/'Assessment Input'!$L$19","v":{"$error":"#DIV/0!"}},{"$f":"I77/'Assessment Input'!$L$19","v":{"$error":"#DIV/0!"}},{"$f":"J77/'Assessment Input'!$L$19","v":{"$error":"#DIV/0!"}},{"$f":"K77/'Assessment Input'!$L$19","v":{"$error":"#DIV/0!"}},null,"p",{"$f":"N77/'Assessment Input'!$L$20","v":{"$error":"#DIV/0!"}},{"$f":"O77/'Assessment Input'!$L$20","v":{"$error":"#DIV/0!"}},{"$f":"P77/'Assessment Input'!$L$20","v":{"$error":"#DIV/0!"}},{"$f":"Q77/'Assessment Input'!$L$20","v":{"$error":"#DIV/0!"}},null,"p",{"$f":"T77/'Assessment Input'!$L$21","v":{"$error":"#DIV/0!"}},{"$f":"U77/'Assessment Input'!$L$21","v":{"$error":"#DIV/0!"}},{"$f":"V77/'Assessment Input'!$L$21","v":{"$error":"#DIV/0!"}},{"$f":"W77/'Assessment Input'!$L$21","v":{"$error":"#DIV/0!"}}]
["blank",{"$f":"B78/'Assessment Input'!L18","v":0},{"$f":"C78/'Assessment Input'!L18","v":0},{"$f":"D78/'Assessment Input'!L18","v":0},{"$f":"E78/'Assessment Input'!L18","v":0},null,"blank",{"$f":"H78/'Assessment Input'!$L$19","v":{"$error":"#DIV/0!"}},{"$f":"I78/'Assessment Input'!$L$19","v":{"$error":"#DIV/0!"}},{"$f":"J78/'Assessment Input'!$L$19","v":{"$error":"#DIV/0!"}},{"$f":"K78/'Assessment Input'!$L$19","v":{"$error":"#DIV/0!"}},null,"blank",{"$f":"N78/'Assessment Input'!$L$20","v":{"$error":"#DIV/0!"}},{"$f":"O78/'Assessment Input'!$L$20","v":{"$error":"#DIV/0!"}},{"$f":"P78/'Assessment Input'!$L$20","v":{"$error":"#DIV/0!"}},{"$f":"Q78/'Assessment Input'!$L$20","v":{"$error":"#DIV/0!"}},null,"blank",{"$f":"T78/'Assessment Input'!$L$21","v":{"$error":"#DIV/0!"}},{"$f":"U78/'Assessment Input'!$L$21","v":{"$error":"#DIV/0!"}},{"$f":"V78/'Assessment Input'!$L$21","v":{"$error":"#DIV/0!"}},{"$f":"W78/'Assessment Input'!$L$21","v":{"$error":"#DIV/0!"}}]
["A",{"$f":"B79/'Assessment Input'!L18","v":0},{"$f":"C79/'Assessment Input'!L18","v":0},{"$f":"D79/'Assessment Input'!L18","v":0},{"$f":"E79/'Assessment Input'!L18","v":0},null,"A",{"$f":"H79/'Assessment Input'!$L$19","v":{"$error":"#DIV/0!"}},{"$f":"I79/'Assessment Input'!$L$19","v":{"$error":"#DIV/0!"}},{"$f":"J79/'Assessment Input'!$L$19","v":{"$error":"#DIV/0!"}},{"$f":"K79/'Assessment Input'!$L$19","v":{"$error":"#DIV/0!"}},null,"A",{"$f":"N79/'Assessment Input'!$L$20","v":{"$error":"#DIV/0!"}},{"$f":"O79/'Assessment Input'!$L$20","v":{"$error":"#DIV/0!"}},{"$f":"P79/'Assessment Input'!$L$20","v":{"$error":"#DIV/0!"}},{"$f":"Q79/'Assessment Input'!$L$20","v":{"$error":"#DIV/0!"}},null,"A",{"$f":"T79/'Assessment Input'!$L$21","v":{"$error":"#DIV/0!"}},{"$f":"U79/'Assessment Input'!$L$21","v":{"$error":"#DIV/0!"}},{"$f":"V79/'Assessment Input'!$L$21","v":{"$error":"#DIV/0!"}},{"$f":"W79/'Assessment Input'!$L$21","v":{"$error":"#DIV/0!"}}]
["Total:",{"$f":"SUM(B83:B90)","v":1},{"$f":"SUM(C83:C90)","v":1},{"$f":"SUM(D83:D90)","v":1},{"$f":"SUM(E83:E90)","v":1},null,"Total:",{"$f":"SUM(H83:H90)","v":{"$error":"#DIV/0!"}},{"$f":"SUM(I83:I90)","v":{"$error":"#DIV/0!"}},{"$f":"SUM(J83:J90)","v":{"$error":"#DIV/0!"}},{"$f":"SUM(K83:K90)","v":{"$error":"#DIV/0!"}},null,"Total:",{"$f":"SUM(N83:N90)","v":{"$error":"#DIV/0!"}},{"$f":"SUM(O83:O90)","v":{"$error":"#DIV/0!"}},{"$f":"SUM(P83:P90)","v":{"$error":"#DIV/0!"}},{"$f":"SUM(Q83:Q90)","v":{"$error":"#DIV/0!"}},null,"Total:",{"$f":"SUM(T83:T90)","v":{"$error":"#DIV/0!"}},{"$f":"SUM(U83:U90)","v":{"$error":"#DIV/0!"}},{"$f":"SUM(V83:V90)","v":{"$error":"#DIV/0!"}},{"$f":"SUM(W83:W90)","v":{"$error":"#DIV/0!"}}]
[]
[null,{"$f":"'Assessment Input'!K18 &\": \"&Sheet1!I6&\" (/\"&B30&\")\"","v":"Class 1: % and above (/1)"},null,null,null,null,null,{"$f":"'Assessment Input'!$K$19 &\": \"&Sheet1!$I$6&\" (/\"&B31&\")\"","v":"Class 2: % and above (/0)"},null,null,null,null,null,{"$f":"'Assessment Input'!$K$20 &\": \"&Sheet1!$I$6&\" (/\"&B32&\")\"","v":"Class 3: % and above (/0)"},null,null,null,null,null,{"$f":"'Assessment Input'!K21 &\": \"&Sheet1!I6&\" (/\"&B33&\")\"","v":"Class 4: % and above (/0)"}]
["Greater:1",{"$f":"B83","v":0},{"$f":"C83","v":0},{"$f":"D83","v":1},{"$f":"E83","v":0},null,"Greater:1",{"$f":"H83","v":{"$error":"#DIV/0!"}},{"$f":"I83","v":{"$error":"#DIV/0!"}},{"$f":"J83","v":{"$error":"#DIV/0!"}},{"$f":"K83","v":{"$error":"#DIV/0!"}},null,"Greater:1",{"$f":"N83","v":{"$error":"#DIV/0!"}},{"$f":"O83","v":{"$error":"#DIV/0!"}},{"$f":"P83","v":{"$error":"#DIV/0!"}},{"$f":"Q83","v":{"$error":"#DIV/0!"}},null,"Greater:1",{"$f":"T83","v":{"$error":"#DIV/0!"}},{"$f":"U83","v":{"$error":"#DIV/0!"}},{"$f":"V83","v":{"$error":"#DIV/0!"}},{"$f":"W83","v":{"$error":"#DIV/0!"}}]
["Expected: 2",{"$f":"SUM(B$83:$B84)","v":1},{"$f":"SUM(C$83:$C84)","v":0},{"$f":"SUM(D$83:$D84)","v":1},{"$f":"SUM(E$83:$E84)","v":1},null,"Expected: 2",{"$f":"SUM(H$83:$H84)","v":{"$error":"#DIV/0!"}},{"$f":"SUM(I$83:$I84)","v":{"$error":"#DIV/0!"}},{"$f":"SUM(J$83:$J84)","v":{"$error":"#DIV/0!"}},{"$f":"SUM($K$83:K84)","v":{"$error":"#DIV/0!"}},null,"Expected: 2",{"$f":"SUM($N$83:N84)","v":{"$error":"#DIV/0!"}},{"$f":"SUM($O$83:O84)","v":{"$error":"#DIV/0!"}},{"$f":"SUM($P$83:P84)","v":{"$error":"#DIV/0!"}},{"$f":"SUM(Q$83:$Q84)","v":{"$error":"#DIV/0!"}},null,"Expected: 2",{"$f":"SUM($T$83:T84)","v":{"$error":"#DIV/0!"}},{"$f":"SUM($U$83:U84)","v":{"$error":"#DIV/0!"}},{"$f":"SUM($V$83:V84)","v":{"$error":"#DIV/0!"}},{"$f":"SUM($W$83:W84)","v":{"$error":"#DIV/0!"}}]
["Towards: 3",{"$f":"SUM(B$83:$B85)","v":1},{"$f":"SUM(C$83:$C85)","v":1},{"$f":"SUM(D$83:$D85)","v":1},{"$f":"SUM(E$83:$E85)","v":1},null,"Towards: 3",{"$f":"SUM(H$83:$H85)","v":{"$error":"#DIV/0!"}},{"$f":"SUM(I$83:$I85)","v":{"$error":"#DIV/0!"}},{"$f":"SUM(J$83:$J85)","v":{"$error":"#DIV/0!"}},{"$f":"SUM($K$83:K85)","v":{"$error":"#DIV/0!"}},null,"Towards: 3",{"$f":"SUM($N$83:N85)","v":{"$error":"#DIV/0!"}},{"$f":"SUM($O$83:O85)","v":{"$error":"#DIV/0!"}},{"$f":"SUM($P$83:P85)","v":{"$error":"#DIV/0!"}},{"$f":"SUM(Q$83:$Q85)","v":{"$error":"#DIV/0!"}},null,"Towards: 3",{"$f":"SUM($T$83:T85)","v":{"$error":"#DIV/0!"}},{"$f":"SUM($U$83:U85)","v":{"$error":"#DIV/0!"}},{"$f":"SUM($V$83:V85)","v":{"$error":"#DIV/0!"}},{"$f":"SUM($W$83:W85)","v":{"$error":"#DIV/0!"}}]
["Foundations: 4",{"$f":"SUM(B$83:$B86)","v":1},{"$f":"SUM(C$83:$C86)","v":1},{"$f":"SUM(D$83:$D86)","v":1},{"$f":"SUM(E$83:$E86)","v":1},null,"Foundations: 4",{"$f":"SUM(H$83:$H86)","v":{"$error":"#DIV/0!"}},{"$f":"SUM(I$83:$I86)","v":{"$error":"#DIV/0!"}},{"$f":"SUM(J$83:$J86)","v":{"$error":"#DIV/0!"}},{"$f":"SUM($K$83:K86)","v":{"$error":"#DIV/0!"}},null,"Foundations: 4",{"$f":"SUM($N$83:N86)","v":{"$error":"#DIV/0!"}},{"$f":"SUM($O$83:O86)","v":{"$error":"#DIV/0!"}},{"$f":"SUM($P$83:P86)","v":{"$error":"#DIV/0!"}},{"$f":"SUM(Q$83:$Q86)","v":{"$error":"#DIV/0!"}},null,"Foundations: 4",{"$f":"SUM($T$83:T86)","v":{"$error":"#DIV/0!"}},{"$f":"SUM($U$83:U86)","v":{"$error":"#DIV/0!"}},{"$f":"SUM($V$83:V86)","v":{"$error":"#DIV/0!"}},{"$f":"SUM($W$83:W86)","v":{"$error":"#DIV/0!"}}]
["Below: 5",{"$f":"SUM(B$83:$B87)","v":1},{"$f":"SUM(C$83:$C87)","v":1},{"$f":"SUM(D$83:$D87)","v":1},{"$f":"SUM(E$83:$E87)","v":1},null,"Below: 5",{"$f":"SUM(H$83:$H87)","v":{"$error":"#DIV/0!"}},{"$f":"SUM(I$83:$I87)","v":{"$error":"#DIV/0!"}},{"$f":"SUM(J$83:$J87)","v":{"$error":"#DIV/0!"}},{"$f":"SUM($K$83:K87)","v":{"$error":"#DIV/0!"}},null,"Below: 5",{"$f":"SUM($N$83:N87)","v":{"$error":"#DIV/0!"}},{"$f":"SUM($O$83:O87)","v":{"$error":"#DIV/0!"}},{"$f":"SUM($P$83:P87)","v":{"$error":"#DIV/0!"}},{"$f":"SUM(Q$83:$Q87)","v":{"$error":"#DIV/0!"}},null,"Below: 5",{"$f":"SUM($T$83:T87)","v":{"$error":"#DIV/0!"}},{"$f":"SUM($U$83:U87)","v":{"$error":"#DIV/0!"}},{"$f":"SUM($V$83:V87)","v":{"$error":"#DIV/0!"}},{"$f":"SUM($W$83:W87)","v":{"$error":"#DIV/0!"}}]
["p",{"$f":"SUM(B$83:$B88)","v":1},{"$f":"SUM(C$83:$C88)","v":1},{"$f":"SUM(D$83:$D88)","v":1},{"$f":"SUM(E$83:$E88)","v":1},null,"p",{"$f":"SUM(H$83:$H88)","v":{"$error":"#DIV/0!"}},{"$f":"SUM(I$83:$I88)","v":{"$error":"#DIV/0!"}},{"$f":"SUM(J$83:$J88)","v":{"$error":"#DIV/0!"}},{"$f":"SUM($K$83:K88)","v":{"$error":"#DIV/0!"}},null,"p",{"$f":"SUM($N$83:N88)","v":{"$error":"#DIV/0!"}},{"$f":"SUM($O$83:O88)","v":{"$error":"#DIV/0!"}},{"$f":"SUM($P$83:P88)","v":{"$error":"#DIV/0!"}},{"$f":"SUM(Q$83:$Q88)","v":{"$error":"#DIV/0!"}},null,"p",{"$f":"SUM($T$83:T88)","v":{"$error":"#DIV/0!"}},{"$f":"SUM($U$83:U88)","v":{"$error":"#DIV/0!"}},{"$f":"SUM($V$83:V88)","v":{"$error":"#DIV/0!"}},{"$f":"SUM($W$83:W88)","v":{"$error":"#DIV/0!"}}]
["blank",{"$f":"SUM(B$83:$B89)","v":1},{"$f":"SUM(C$83:$C89)","v":1},{"$f":"SUM(D$83:$D89)","v":1},{"$f":"SUM(E$83:$E89)","v":1},null,"blank",{"$f":"SUM(H$83:$H89)","v":{"$error":"#DIV/0!"}},{"$f":"SUM(I$83:$I89)","v":{"$error":"#DIV/0!"}},{"$f":"SUM(J$83:$J89)","v":{"$error":"#DIV/0!"}},{"$f":"SUM($K$83:K89)","v":{"$error":"#DIV/0!"}},null,"blank",{"$f":"SUM($N$83:N89)","v":{"$error":"#DIV/0!"}},{"$f":"SUM($O$83:O89)","v":{"$error":"#DIV/0!"}},{"$f":"SUM($P$83:P89)","v":{"$error":"#DIV/0!"}},{"$f":"SUM(Q$83:$Q89)","v":{"$error":"#DIV/0!"}},null,"blank",{"$f":"SUM($T$83:T89)","v":{"$error":"#DIV/0!"}},{"$f":"SUM($U$83:U89)","v":{"$error":"#DIV/0!"}},{"$f":"SUM($V$83:V89)","v":{"$error":"#DIV/0!"}},{"$f":"SUM($W$83:W89)","v":{"$error":"#DIV/0!"}}]
["A",{"$f":"SUM(B$83:$B90)","v":1},{"$f":"SUM(C$83:$C90)","v":1},{"$f":"SUM(D$83:$D90)","v":1},{"$f":"SUM(E$83:$E90)","v":1},null,"A",{"$f":"SUM(H$83:$H90)","v":{"$error":"#DIV/0!"}},{"$f":"SUM(I$83:$I90)","v":{"$error":"#DIV/0!"}},{"$f":"SUM(J$83:$J90)","v":{"$error":"#DIV/0!"}},{"$f":"SUM($K$83:K90)","v":{"$error":"#DIV/0!"}},null,"A",{"$f":"SUM($N$83:N90)","v":{"$error":"#DIV/0!"}},{"$f":"SUM($O$83:O90)","v":{"$error":"#DIV/0!"}},{"$f":"SUM($P$83:P90)","v":{"$error":"#DIV/0!"}},{"$f":"SUM(Q$83:$Q90)","v":{"$error":"#DIV/0!"}},null,"A",{"$f":"SUM($T$83:T90)","v":{"$error":"#DIV/0!"}},{"$f":"SUM($U$83:U90)","v":{"$error":"#DIV/0!"}},{"$f":"SUM($V$83:V90)","v":{"$error":"#DIV/0!"}},{"$f":"SUM($W$83:W90)","v":{"$error":"#DIV/0!"}}]

{"sheet":"Sheet1","index":3,"n_rows":9,"n_cols":9,"rows_kept":9,"cut":false,"hidden":true,"merged":[]}
[]
[null,null,null,null,"point score"]
[null,null,null,null,"w"]
[null,null,null,null,1,"greater depth",null,null,"Number at"]
[null,null,null,null,2,"expected",null,null,"% at"]
[null,null,null,null,3,"towards expected",null,null,"% and above"]
[null,null,null,null,4,"foundations"]
[null,null,null,null,5,"below"]
[null,null,null,null,"A","absent"]