{"text_format":"1","workbook":"xlsx","n_sheets":4,"sheets":["Welcome","Assessment Input","Statistics","Sheet1"],"not_rendered":{"charts":0,"images":1,"macros":1,"external_links":0,"defined_names":4,"comments":1,"pivot_tables":0},"unopened":[],"bounds":{"document_bytes":16777216,"sheet_cells":100000,"rows_first":2000,"rows_last":500,"rows_between":2000,"halvings":0,"cell_chars":16384,"cell_head_chars":4096},"cells_cut":0,"cells_raw":0,"read":"whole","date_system":"1900"}

{"sheet":"Welcome","index":0,"n_rows":23,"n_cols":10,"rows_kept":23,"cut":false,"hidden":false,"merged":[[1,3,1,12],[8,2,21,11]]}
[]
[null,null,null,"2016/17 KS2 Assessment Analysis"]
[null,null,null,null,"Class Codes:","Change me","Class 2","Class 3","Class 4"]
[]
[]
[]
[]
[]
[null,"Guidance:","Setup: For most schools, you can copy information from your school management system. Class codes need to be entered on this sheet (up to 4 classes can be accommodated and approximately 125 pupils). The Disadvantaged Column will take T/F (True/False), the Gender Column will take M/F (Male/Female). The SEN Column works a little differently: leave blank if no SEN, any other value can be entered if the pupil has SEN. \n\nData entry: Enter the numbers or codes listed to the right hand side of the table, the sheet will warn you if an error is made to ensure the statistics run properly. \n\nStatistics Sheet: This gives a detailed analysis by group: attainment headlines, whole cohort, disadvantaged/non disadvantaged, gender, SEN/non SEN and class. \n\nOther Notes:The sheets are protected in order to prevent accidental changes to the formulae.Also, the system may ask you to enable macros in order to work correctly and is built for Excel 2010 onwards, earlier versions will still work, but with a loss of some features. \n\nDisclaimer: This is a new system set up for 2016. Whereas it has been tested, some bugs may remain. If an error has been found, please email info@PrimaryTools.co.uk so the error can be fixed. \n\nIf you have any suggestions for features or feedback in general, please email info@PrimaryTools.co.uk. \n\nWe hope you find the tool useful, easy to use, and a time saver. Primary Tools has many other useful assessment tools and we hope you have some time to browse the website. "]
[]
[]
[]
[]
[]
[]
[]
[]
[]
[]
[]
[]
[]
[null,null,null,null,null,null,null,null,null,"© 2016-2017 Primary Tools.co.uk"]

{"sheet":"Assessment Input","index":1,"n_rows":136,"n_cols":15,"rows_kept":136,"cut":false,"hidden":false,"merged":[]}
["Class","Disadvantaged","Gender","SEN","Name","Reading","Writing","Maths","Science ","Grammar, Punctuation and Spelling","Expected or Greater Depth in Re/Wr/Ma"]
["Change me","T","M",null,"Demo Name, Please Delete!",2,1,2,8,2,{"$f":"IF(ISBLANK(E2),\"\",IF(AND(F2<3,F2>0,G2<3,G2>0,H2<3,H2>0),\"Y\",\"N\"))","v":"Y"},"Entry","Meaning*","_","_2"]
[null,null,null,null,null,null,null,null,null,null,"",1,"Greater Depth*"]
[null,null,null,null,null,null,null,null,null,null,"",2,"Expected Standard"]
[null,null,null,null,null,null,null,null,null,null,"",3,"Towards Expected"]
[null,null,null,null,null,null,null,null,null,null,"",4,"Growing Development"]
[null,null,null,null,null,null,null,null,null,null,"",5,"Early Development"]
[null,null,null,null,null,null,null,null,null,null,"",6,"Foundations "]
[null,null,null,null,null,null,null,null,null,null,"",7,"Below Key Stage Standard"]
[null,null,null,null,null,null,null,null,null,null,"",8,"Standard not met*"]
[null,null,null,null,null,null,null,null,null,null,"","A","Absent or Disappliad"]
[null,null,null,null,null,null,null,null,null,null,"","W","p - levels"]
[null,null,null,null,null,null,null,null,null,null,""]
[null,null,null,null,null,null,null,null,null,null,"","_","Group","Number:","% of cohort"]
[null,null,null,null,null,null,null,null,null,null,"","Groups","All Pupils",{"$f":"COUNTA(E2:E135)","v":1},{"$f":"N15/$N$15","v":1}]
[null,null,null,null,null,null,null,null,null,null,"",null,"Disadvantaged",{"$f":"COUNTIF(B2:B135, \"T\")","v":1},1]
[null,null,null,null,null,null,null,null,null,null,"",null,"Non disadvantaged",{"$f":"COUNTIF(B2:B135, \"F\")","v":0},0]
[null,null,null,null,null,null,null,null,null,null,"",null,"Males",{"$f":"COUNTIF(C2:C135, \"M\")","v":1},1]
[null,null,null,null,null,null,null,null,null,null,"",null,"Females",{"$f":"COUNTIF(C2:C135, \"F\")","v":0},0]
[null,null,null,null,null,null,null,null,null,null,"",null,"SEN",{"$f":"COUNTA($D$2:$D$135)","v":0},0]
[null,null,null,null,null,null,null,null,null,null,"",null,"Non SEN",{"$f":"N15-N20","v":1},1]
[null,null,null,null,null,null,null,null,null,null,"","Class Codes",{"$f":"Welcome!F3","v":"Change me"},{"$f":"COUNTIF($A$2:$A$135, M22)","v":1},{"$f":"N22/$N$15","v":1}]
[null,null,null,null,null,null,null,null,null,null,"",null,{"$f":"Welcome!G3","v":"Class 2"},{"$f":"COUNTIF($A$2:$A$135, M23)","v":0},{"$f":"N23/$N$15","v":0}]
[null,null,null,null,null,null,null,null,null,null,"",null,{"$f":"Welcome!H3","v":"Class 3"},{"$f":"COUNTIF($A$2:$A$135, M24)","v":0},{"$f":"N24/$N$15","v":0}]
[null,null,null,null,null,null,null,null,null,null,"",null,{"$f":"Welcome!I3","v":"Class 4"},{"$f":"COUNTIF($A$2:$A$135, M25)","v":0},{"$f":"N25/$N$15","v":0}]
[null,null,null,null,null,null,null,null,null,null,""]
[null,null,null,null,null,null,null,null,null,null,""]
[null,null,null,null,null,null,null,null,null,null,""]
[null,null,null,null,null,null,null,null,null,null,""]
[null,null,null,null,null,null,null,null,null,null,""]
[null,null,null,null,null,null,null,null,null,null,""]
[null,null,null,null,null,null,null,null,null,null,""]
[null,null,null,null,null,null,null,null,null,null,""]
[null,null,null,null,null,null,null,null,null,null,{"$f":"IF(ISBLANK(E34),\"\",IF(AND(F34<3,F34>0,G34<3,G34>0,H34<3,H34>0),\"Y\",\"N\"))","v":""}]
[null,null,null,null,null,null,null,null,null,null,""]
[null,null,null,null,null,null,null,null,null,null,""]
[null,null,null,null,null,null,null,null,null,null,""]
[null,null,null,null,null,null,null,null,null,null,""]
[null,null,null,null,null,null,null,null,null,null,""]
[null,null,null,null,null,null,null,null,null,null,""]
[null,null,null,null,null,null,null,null,null,null,""]
[null,null,null,null,null,null,null,null,null,null,""]
[null,null,null,null,null,null,null,null,null,null,""]
[null,null,null,null,null,null,null,null,null,null,""]
[null,null,null,null,null,null,null,null,null,null,""]
[null,null,null,null,null,null,null,null,null,null,""]
[null,null,null,null,null,null,null,null,null,null,""]
[null,null,null,null,null,null,null,null,null,null,""]
[null,null,null,null,null,null,null,null,null,null,""]
[null,null,null,null,null,null,null,null,null,null,""]
[null,null,null,null,null,null,null,null,null,null,""]
[null,null,null,null,null,null,null,null,null,null,""]
[null,null,null,null,null,null,null,null,null,null,""]
[null,null,null,null,null,null,null,null,null,null,""]
[null,null,null,null,null,null,null,null,null,null,""]
[null,null,null,null,null,null,null,null,null,null,""]
[null,null,null,null,null,null,null,null,null,null,""]
[null,null,null,null,null,null,null,null,null,null,""]
[null,null,null,null,null,null,null,null,null,null,""]
[null,null,null,null,null,null,null,null,null,null,""]
[null,null,null,null,null,null,null,null,null,null,""]
[null,null,null,null,null,null,null,null,null,null,""]
[null,null,null,null,null,null,null,null,null,null,""]
[null,null,null,null,null,null,null,null,null,null,""]
[null,null,null,null,null,null,null,null,null,null,""]
[null,null,null,null,null,null,null,null,null,null,{"$f":"IF(ISBLANK(E66),\"\",IF(AND(F66<3,F66>0,G66<3,G66>0,H66<3,H66>0),\"Y\",\"N\"))","v":""}]
[null,null,null,null,null,null,null,null,null,null,""]
[null,null,null,null,null,null,null,null,null,null,""]
[null,null,null,null,null,null,null,null,null,null,""]
[null,null,null,null,null,null,null,null,null,null,""]
[null,null,null,null,null,null,null,null,null,null,""]
[null,null,null,null,null,null,null,null,null,null,""]
[null,null,null,null,null,null,null,null,null,null,""]
[null,null,null,null,null,null,null,null,null,null,""]
[null,null,null,null,null,null,null,null,null,null,""]
[null,null,null,null,null,null,null,null,null,null,""]
[null,null,null,null,null,null,null,null,null,null,""]
[null,null,null,null,null,null,null,null,null,null,""]
[null,null,null,null,null,null,null,null,null,null,""]
[null,null,null,null,null,null,null,null,null,null,""]
[null,null,null,null,null,null,null,null,null,null,""]
[null,null,null,null,null,null,null,null,null,null,""]
[null,null,null,null,null,null,null,null,null,null,""]
[null,null,null,null,null,null,null,null,null,null,""]
[null,null,null,null,null,null,null,null,null,null,""]
[null,null,null,null,null,null,null,null,null,null,""]
[null,null,null,null,null,null,null,null,null,null,""]
[null,null,null,null,null,null,null,null,null,null,""]
[null,null,null,null,null,null,null,null,null,null,""]
[null,null,null,null,null,null,null,null,null,null,""]
[null,null,null,null,null,null,null,null,null,null,""]
[null,null,null,null,null,null,null,null,null,null,""]
[null,null,null,null,null,null,null,null,null,null,""]
[null,null,null,null,null,null,null,null,null,null,""]
[null,null,null,null,null,null,null,null,null,null,""]
[null,null,null,null,null,null,null,null,null,null,""]
[null,null,null,null,null,null,null,null,null,null,""]
[null,null,null,null,null,null,null,null,null,null,{"$f":"IF(ISBLANK(E98),\"\",IF(AND(F98<3,F98>0,G98<3,G98>0,H98<3,H98>0),\"Y\",\"N\"))","v":""}]
[null,null,null,null,null,null,null,null,null,null,""]
[null,null,null,null,null,null,null,null,null,null,""]
[null,null,null,null,null,null,null,null,null,null,""]
[null,null,null,null,null,null,null,null,null,null,""]
[null,null,null,null,null,null,null,null,null,null,""]
[null,null,null,null,null,null,null,null,null,null,""]
[null,null,null,null,null,null,null,null,null,null,""]
[null,null,null,null,null,null,null,null,null,null,""]
[null,null,null,null,null,null,null,null,null,null,""]
[null,null,null,null,null,null,null,null,null,null,""]
[null,null,null,null,null,null,null,null,null,null,""]
[null,null,null,null,null,null,null,null,null,null,""]
[null,null,null,null,null,null,null,null,null,null,""]
[null,null,null,null,null,null,null,null,null,null,""]
[null,null,null,null,null,null,null,null,null,null,""]
[null,null,null,null,null,null,null,null,null,null,""]
[null,null,null,null,null,null,null,null,null,null,""]
[null,null,null,null,null,null,null,null,null,null,""]
[null,null,null,null,null,null,null,null,null,null,""]
[null,null,null,null,null,null,null,null,null,null,""]
[null,null,null,null,null,null,null,null,null,null,""]
[null,null,null,null,null,null,null,null,null,null,""]
[null,null,null,null,null,null,null,null,null,null,""]
[null,null,null,null,null,null,null,null,null,null,""]
[null,null,null,null,null,null,null,null,null,null,""]
[null,null,null,null,null,null,null,null,null,null,""]
[null,null,null,null,null,null,null,null,null,null,""]
[null,null,null,null,null,null,null,null,null,null,""]
[null,null,null,null,null,null,null,null,null,null,""]
[null,null,null,null,null,null,null,null,null,null,""]
[null,null,null,null,null,null,null,null,null,null,""]
[null,null,null,null,null,null,null,null,null,null,{"$f":"IF(ISBLANK(E130),\"\",IF(AND(F130<3,F130>0,G130<3,G130>0,H130<3,H130>0),\"Y\",\"N\"))","v":""}]
[null,null,null,null,null,null,null,null,null,null,""]
[null,null,null,null,null,null,null,null,null,null,""]
[null,null,null,null,null,null,null,null,null,null,""]
[null,null,null,null,null,null,null,null,null,null,""]
[null,null,null,null,null,null,null,null,null,null,""]
[null,null,null,null,null,null,null,null,null,null,""]

{"sheet":"Statistics","index":2,"n_rows":269,"n_cols":15,"rows_kept":269,"cut":false,"hidden":false,"merged":[[225,1,225,14],[227,1,227,6],[242,1,242,6],[257,1,257,6],[227,9,227,14],[242,9,242,14],[257,9,257,14],[24,2,24,3],[25,2,25,3],[47,1,47,6],[47,9,47,14],[26,2,26,3],[27,2,27,3],[28,2,28,3],[29,2,29,3],[30,2,30,3],[31,2,31,3],[32,2,32,3],[180,1,180,14],[62,9,62,14],[0,9,0,14],[0,1,0,6],[11,1,11,5],[2,1,2,5],[22,2,22,3],[20,1,20,3],[21,2,21,3],[2,9,2,14],[17,9,17,14],[92,1,92,6],[92,9,92,14],[137,1,137,6],[137,9,137,14],[23,2,23,3],[182,1,182,6],[182,9,182,14],[212,9,212,14],[197,9,197,14],[197,1,197,6],[212,1,212,6],[32,9,32,14],[77,1,77,6],[77,9,77,14],[62,1,62,6],[167,1,167,4],[167,9,167,12],[122,1,122,4],[122,9,122,12],[152,9,152,14],[152,1,152,6],[135,1,135,14],[107,9,107,14],[107,1,107,6],[90,1,90,14],[45,1,45,14]]}
[null,"Headlines:",null,null,null,null,null,null,null,"Whole Cohort"]
[null,{"$f":"'Assessment Input'!$F$1","v":"Reading"},{"$f":"'Assessment Input'!$G$1","v":"Writing"},{"$f":"'Assessment Input'!$H$1","v":"Maths"},{"$f":"'Assessment Input'!$I$1","v":"Science "},"GP&S","Re/Wr/Ma",null,null,{"$f":"'Assessment Input'!$F$1","v":"Reading"},{"$f":"'Assessment Input'!$G$1","v":"Writing"},{"$f":"'Assessment Input'!$H$1","v":"Maths"},{"$f":"'Assessment Input'!$I$1","v":"Science "},"GP&S","Re/Wr/Ma"]
[null,"Percentage at Expected or Above:",null,null,null,null,"Yes:",null,null,{"$f":"'Assessment Input'!$M$15 &\": \"&Sheet1!$I$4&\" (/\"&B23&\")\"","v":"All Pupils: Number at (/1)"}]
["All Pupils:",{"$f":"J35","v":1},1,1,0,1,1,null,"Greater:1",{"$f":"COUNTIF('Assessment Input'!$F$2:$F$135,\"1\")","v":0},{"$f":"COUNTIF('Assessment Input'!G$2:G$135,\"1\")","v":1},{"$f":"COUNTIF('Assessment Input'!H$2:H$135,\"1\")","v":0},{"$f":"COUNTIF('Assessment Input'!I$2:I$135,\"1\")","v":0},{"$f":"COUNTIF('Assessment Input'!J$2:J$135,\"1\")","v":0},"Yes:"]
["Disadvantaged",{"$f":"B80","v":1},1,1,0,1,1,null,"Expected: 2",{"$f":"COUNTIF('Assessment Input'!$F$2:$F$135,\"2\")","v":1},{"$f":"COUNTIF('Assessment Input'!$G$2:$G$135,\"2\")","v":0},{"$f":"COUNTIF('Assessment Input'!H$2:H$135,\"2\")","v":1},{"$f":"COUNTIF('Assessment Input'!I$2:I$135,\"2\")","v":0},{"$f":"COUNTIF('Assessment Input'!J$2:J$135,\"2\")","v":1},{"$f":"COUNTIF('Assessment Input'!K$2:K$135,\"Y\")","v":1}]
["Non-Disadvantaged",{"$f":"J80","v":{"$error":"#DIV/0!"}},{"$error":"#DIV/0!"},{"$error":"#DIV/0!"},{"$error":"#DIV/0!"},{"$error":"#DIV/0!"},{"$error":"#DIV/0!"},null,"Towards: 3",{"$f":"COUNTIF('Assessment Input'!$F$2:$F$135,\"3\")","v":0},{"$f":"COUNTIF('Assessment Input'!$G$2:$G$135,\"3\")","v":0},{"$f":"COUNTIF('Assessment Input'!H$2:H$135,\"3\")","v":0},{"$f":"COUNTIF('Assessment Input'!I$2:I$135,\"3\")","v":0},{"$f":"COUNTIF('Assessment Input'!J$2:J$135,\"3\")","v":0},"No:"]
["Males",{"$f":"B125","v":1},1,1,0,1,1,null,"Growing: 4",{"$f":"COUNTIF('Assessment Input'!$F$2:$F$135,\"4\")","v":0},{"$f":"COUNTIF('Assessment Input'!$G$2:$G$135,\"4\")","v":0},{"$f":"COUNTIF('Assessment Input'!H$2:H$135,\"4\")","v":0},{"$f":"COUNTIF('Assessment Input'!I$2:I$135,\"4\")","v":0},{"$f":"COUNTIF('Assessment Input'!J$2:J$135,\"4\")","v":0},{"$f":"COUNTIF('Assessment Input'!K$2:K$135,\"N\")","v":0}]
["Females",{"$f":"J125","v":{"$error":"#DIV/0!"}},{"$error":"#DIV/0!"},{"$error":"#DIV/0!"},{"$error":"#DIV/0!"},{"$error":"#DIV/0!"},{"$error":"#DIV/0!"},null,"Early: 5",{"$f":"COUNTIF('Assessment Input'!$F$2:$F$135,\"5\")","v":0},{"$f":"COUNTIF('Assessment Input'!$G$2:$G$135,\"5\")","v":0},{"$f":"COUNTIF('Assessment Input'!H$2:H$135,\"5\")","v":0},{"$f":"COUNTIF('Assessment Input'!I$2:I$135,\"5\")","v":0},{"$f":"COUNTIF('Assessment Input'!J$2:J$135,\"5\")","v":0}]
["SEN",{"$f":"B170","v":{"$error":"#DIV/0!"}},{"$error":"#DIV/0!"},{"$error":"#DIV/0!"},{"$error":"#DIV/0!"},{"$error":"#DIV/0!"},{"$error":"#DIV/0!"},null,"Foundations 6",{"$f":"COUNTIF('Assessment Input'!$F$2:$F$135,\"6\")","v":0},{"$f":"COUNTIF('Assessment Input'!$G$2:$G$135,\"6\")","v":0},{"$f":"COUNTIF('Assessment Input'!H$2:H$135,\"6\")","v":0},{"$f":"COUNTIF('Assessment Input'!I$2:I$135,\"6\")","v":0},{"$f":"COUNTIF('Assessment Input'!J$2:J$135,\"6\")","v":0}]
["Non-SEN",{"$f":"J170","v":1},1,1,0,1,1,null,"Below: 7",{"$f":"COUNTIF('Assessment Input'!$F$2:$F$135,\"7\")","v":0},{"$f":"COUNTIF('Assessment Input'!$G$2:$G$135,\"7\")","v":0},{"$f":"COUNTIF('Assessment Input'!H$2:H$135,\"7\")","v":0},{"$f":"COUNTIF('Assessment Input'!I$2:I$135,\"7\")","v":0},{"$f":"COUNTIF('Assessment Input'!J$2:J$135,\"7\")","v":0}]
[null,null,null,null,null,null,null,null,"Not met: 8",{"$f":"COUNTIF('Assessment Input'!$F$2:$F$135,\"8\")","v":0},{"$f":"COUNTIF('Assessment Input'!$G$2:$G$135,\"8\")","v":0},{"$f":"COUNTIF('Assessment Input'!H$2:H$135,\"8\")","v":0},{"$f":"COUNTIF('Assessment Input'!I$2:I$135,\"8\")","v":1},{"$f":"COUNTIF('Assessment Input'!J$2:J$135,\"8\")","v":0}]
[null,"Percentage at Greater Depth",null,null,null,null,null,null,"p-levels: w",{"$f":"COUNTIF('Assessment Input'!$F$2:$F$135,\"w\")","v":0},{"$f":"COUNTIF('Assessment Input'!$G$2:$G$135,\"w\")","v":0},{"$f":"COUNTIF('Assessment Input'!H$2:H$135,\"w\")","v":0},{"$f":"COUNTIF('Assessment Input'!I$2:I$135,\"w\")","v":0},{"$f":"COUNTIF('Assessment Input'!J$2:J$135,\"w\")","v":0}]
["All Pupils:",{"$f":"J34","v":0},{"$f":"K34","v":1},{"$f":"L34","v":0},{"$f":"M34","v":0},{"$f":"N34","v":0},null,null,"blank",{"$f":"COUNTIFS('Assessment Input'!$A$2:$A$135,\"?*\",'Assessment Input'!$F$2:$F$135,\"\")","v":0},{"$f":"COUNTIFS('Assessment Input'!$A$2:$A$135,\"?*\",'Assessment Input'!$G$2:$G$135,\"\")","v":0},{"$f":"COUNTIFS('Assessment Input'!$A$2:$A$135,\"?*\",'Assessment Input'!$H$2:$H$135,\"\")","v":0},{"$f":"COUNTIFS('Assessment Input'!$A$2:$A$135,\"?*\",'Assessment Input'!$I$2:$I$135,\"\")","v":0},{"$f":"COUNTIFS('Assessment Input'!$A$2:$A$135,\"?*\",'Assessment Input'!$I$2:$I$135,\"\")","v":0}]
["Disadvantaged",{"$f":"B79","v":0},{"$f":"C79","v":1},{"$f":"D79","v":0},{"$f":"E79","v":0},{"$f":"F79","v":0},null,null,"A",{"$f":"COUNTIF('Assessment Input'!$F$2:$F$135,\"A\")","v":0},{"$f":"COUNTIF('Assessment Input'!$G$2:$G$135,\"A\")","v":0},{"$f":"COUNTIF('Assessment Input'!$H$2:$H$135,\"A\")","v":0},{"$f":"COUNTIF('Assessment Input'!$I$2:$I$135,\"A\")","v":0},{"$f":"COUNTIF('Assessment Input'!$I$2:$I$135,\"A\")","v":0}]
["Non-Disadvantaged",{"$f":"J79","v":{"$error":"#DIV/0!"}},{"$f":"K79","v":{"$error":"#DIV/0!"}},{"$f":"L79","v":{"$error":"#DIV/0!"}},{"$f":"M79","v":{"$error":"#DIV/0!"}},{"$f":"N79","v":{"$error":"#DIV/0!"}},null,null,"Total:",{"$f":"SUM(J4:J14)","v":1},1,1,1,1,1]
["Males",{"$f":"B124","v":0},{"$f":"C124","v":1},{"$f":"D124","v":0},{"$f":"E124","v":0},{"$f":"F124","v":0}]
["Females",{"$f":"J124","v":{"$error":"#DIV/0!"}},{"$f":"K124","v":{"$error":"#DIV/0!"}},{"$f":"L124","v":{"$error":"#DIV/0!"}},{"$f":"M124","v":{"$error":"#DIV/0!"}},{"$f":"N124","v":{"$error":"#DIV/0!"}},null,null,null,{"$f":"'Assessment Input'!$F$1","v":"Reading"},{"$f":"'Assessment Input'!$G$1","v":"Writing"},{"$f":"'Assessment Input'!$H$1","v":"Maths"},{"$f":"'Assessment Input'!$I$1","v":"Science "},"GP&S","Re/Wr/Ma"]
["SEN",{"$f":"B169","v":{"$error":"#DIV/0!"}},{"$f":"C169","v":{"$error":"#DIV/0!"}},{"$f":"D169","v":{"$error":"#DIV/0!"}},{"$f":"E169","v":{"$error":"#DIV/0!"}},{"$f":"F169","v":{"$error":"#DIV/0!"}},null,null,null,{"$f":"'Assessment Input'!$M$15 &\": \"&Sheet1!$I$5&\" (/\"&B23&\")\"","v":"All Pupils: % at (/1)"}]
["Non-SEN",{"$f":"J169","v":0},{"$f":"K169","v":1},{"$f":"L169","v":0},{"$f":"M169","v":0},{"$f":"N169","v":0},null,null,"Greater:1",{"$f":"J4/'Assessment Input'!$N$15","v":0},{"$f":"K4/'Assessment Input'!$N$15","v":1},{"$f":"L4/'Assessment Input'!$N$15","v":0},{"$f":"M4/'Assessment Input'!$N$15","v":0},{"$f":"N4/'Assessment Input'!$N$15","v":0},"Yes:"]
[null,null,null,null,null,null,null,null,"Expected: 2",{"$f":"J5/'Assessment Input'!$N$15","v":1},{"$f":"K5/'Assessment Input'!$N$15","v":0},{"$f":"L5/'Assessment Input'!$N$15","v":1},{"$f":"M5/'Assessment Input'!$N$15","v":0},{"$f":"N5/'Assessment Input'!$N$15","v":1},{"$f":"O5/'Assessment Input'!$N$15","v":1}]
[null,"Cohort Context:",null,null,null,null,null,null,"Towards: 3",{"$f":"J6/'Assessment Input'!$N$15","v":0},{"$f":"K6/'Assessment Input'!$N$15","v":0},{"$f":"L6/'Assessment Input'!$N$15","v":0},{"$f":"M6/'Assessment Input'!$N$15","v":0},{"$f":"N6/'Assessment Input'!$N$15","v":0},"No:"]
[null,{"$f":"'Assessment Input'!N14","v":"Number:"},{"$f":"'Assessment Input'!O14","v":"% of cohort"},null,null,null,null,null,"Growing: 4",{"$f":"J7/'Assessment Input'!$N$15","v":0},{"$f":"K7/'Assessment Input'!$N$15","v":0},{"$f":"L7/'Assessment Input'!$N$15","v":0},{"$f":"M7/'Assessment Input'!$N$15","v":0},{"$f":"N7/'Assessment Input'!$N$15","v":0},{"$f":"O7/'Assessment Input'!$N$15","v":0}]
[{"$f":"'Assessment Input'!M15","v":"All Pupils"},{"$f":"'Assessment Input'!N15","v":1},{"$f":"'Assessment Input'!O15","v":1},null,null,null,null,null,"Early: 5",{"$f":"J8/'Assessment Input'!$N$15","v":0},{"$f":"K8/'Assessment Input'!$N$15","v":0},{"$f":"L8/'Assessment Input'!$N$15","v":0},{"$f":"M8/'Assessment Input'!$N$15","v":0},{"$f":"N8/'Assessment Input'!$N$15","v":0}]
[{"$f":"'Assessment Input'!M16","v":"Disadvantaged"},{"$f":"'Assessment Input'!N16","v":1},{"$f":"'Assessment Input'!O16","v":1},null,null,null,null,null,"Foundations 6",{"$f":"J9/'Assessment Input'!$N$15","v":0},{"$f":"K9/'Assessment Input'!$N$15","v":0},{"$f":"L9/'Assessment Input'!$N$15","v":0},{"$f":"M9/'Assessment Input'!$N$15","v":0},{"$f":"N9/'Assessment Input'!$N$15","v":0}]
[{"$f":"'Assessment Input'!M17","v":"Non disadvantaged"},{"$f":"'Assessment Input'!N17","v":0},{"$f":"'Assessment Input'!O17","v":0},null,null,null,null,null,"Below: 7",{"$f":"J10/'Assessment Input'!$N$15","v":0},{"$f":"K10/'Assessment Input'!$N$15","v":0},{"$f":"L10/'Assessment Input'!$N$15","v":0},{"$f":"M10/'Assessment Input'!$N$15","v":0},{"$f":"N10/'Assessment Input'!$N$15","v":0}]
[{"$f":"'Assessment Input'!M18","v":"Males"},{"$f":"'Assessment Input'!N18","v":1},{"$f":"'Assessment Input'!O18","v":1},null,null,null,null,null,"Not met: 8",{"$f":"J11/'Assessment Input'!$N$15","v":0},{"$f":"K11/'Assessment Input'!$N$15","v":0},{"$f":"L11/'Assessment Input'!$N$15","v":0},{"$f":"M11/'Assessment Input'!$N$15","v":1},{"$f":"N11/'Assessment Input'!$N$15","v":0}]
[{"$f":"'Assessment Input'!M19","v":"Females"},{"$f":"'Assessment Input'!N19","v":0},{"$f":"'Assessment Input'!O19","v":0},null,null,null,null,null,"p",{"$f":"J12/'Assessment Input'!$N$15","v":0},{"$f":"K12/'Assessment Input'!$N$15","v":0},{"$f":"L12/'Assessment Input'!$N$15","v":0},{"$f":"M12/'Assessment Input'!$N$15","v":0},{"$f":"N12/'Assessment Input'!$N$15","v":0}]
[{"$f":"'Assessment Input'!M20","v":"SEN"},{"$f":"'Assessment Input'!N20","v":0},{"$f":"'Assessment Input'!O20","v":0},null,null,null,null,null,"blank",{"$f":"J13/'Assessment Input'!$N$15","v":0},{"$f":"K13/'Assessment Input'!$N$15","v":0},{"$f":"L13/'Assessment Input'!$N$15","v":0},{"$f":"M13/'Assessment Input'!$N$15","v":0},{"$f":"N13/'Assessment Input'!$N$15","v":0}]
[{"$f":"'Assessment Input'!M21","v":"Non SEN"},{"$f":"'Assessment Input'!N21","v":1},{"$f":"'Assessment Input'!O21","v":1},null,null,null,null,null,"A",{"$f":"J14/'Assessment Input'!$N$15","v":0},{"$f":"K14/'Assessment Input'!$N$15","v":0},{"$f":"L14/'Assessment Input'!$N$15","v":0},{"$f":"M14/'Assessment Input'!$N$15","v":0},{"$f":"N14/'Assessment Input'!$N$15","v":0}]
[{"$f":"'Assessment Input'!M22","v":"Change me"},{"$f":"'Assessment Input'!N22","v":1},{"$f":"'Assessment Input'!O22","v":1},null,null,null,null,null,"Total:",{"$f":"SUM(J19:J29)","v":1},1,1,1,1,1]
[{"$f":"'Assessment Input'!M23","v":"Class 2"},{"$f":"'Assessment Input'!N23","v":0},{"$f":"'Assessment Input'!O23","v":0}]
[{"$f":"'Assessment Input'!M24","v":"Class 3"},{"$f":"'Assessment Input'!N24","v":0},{"$f":"'Assessment Input'!O24","v":0},null,null,null,null,null,null,{"$f":"'Assessment Input'!$F$1","v":"Reading"},{"$f":"'Assessment Input'!$G$1","v":"Writing"},{"$f":"'Assessment Input'!$H$1","v":"Maths"},{"$f":"'Assessment Input'!$I$1","v":"Science "},"GP&S","Re/Wr/Ma"]
[{"$f":"'Assessment Input'!M25","v":"Class 4"},{"$f":"'Assessment Input'!N25","v":0},{"$f":"'Assessment Input'!O25","v":0},null,null,null,null,null,null,{"$f":"'Assessment Input'!$M$15 &\": \"&Sheet1!$I$6&\" (/\"&B23&\")\"","v":"All Pupils: % and above (/1)"}]
[null,null,null,null,null,null,null,null,"Greater:1",{"$f":"J19","v":0},1,0,0,0,"Yes:"]
[null,null,null,null,null,null,null,null,"Expected: 2",{"$f":"SUM($J$19:J20)","v":1},{"$f":"SUM($K$19:K20)","v":1},{"$f":"SUM($L$19:L20)","v":1},{"$f":"SUM($M$19:M20)","v":0},{"$f":"SUM($N$19:N20)","v":1},{"$f":"SUM($O$19:O20)","v":1}]
[null,null,null,null,null,null,null,null,"Towards: 3",{"$f":"SUM($J$19:J21)","v":1},{"$f":"SUM($K$19:K21)","v":1},{"$f":"SUM($L$19:L21)","v":1},{"$f":"SUM($M$19:M21)","v":0},{"$f":"SUM($N$19:N21)","v":1},"No:"]
[null,null,null,null,null,null,null,null,"Growing: 4",{"$f":"SUM($J$19:J22)","v":1},{"$f":"SUM($K$19:K22)","v":1},{"$f":"SUM($L$19:L22)","v":1},{"$f":"SUM($M$19:M22)","v":0},{"$f":"SUM($N$19:N22)","v":1},{"$f":"SUM($O$19:O22)","v":1}]
[null,null,null,null,null,null,null,null,"Early: 5",{"$f":"SUM($J$19:J23)","v":1},{"$f":"SUM($K$19:K23)","v":1},{"$f":"SUM($L$19:L23)","v":1},{"$f":"SUM($M$19:M23)","v":0},{"$f":"SUM($N$19:N23)","v":1}]
[null,null,null,null,null,null,null,null,"Foundations 6",{"$f":"SUM($J$19:J24)","v":1},{"$f":"SUM($K$19:K24)","v":1},{"$f":"SUM($L$19:L24)","v":1},{"$f":"SUM($M$19:M24)","v":0},{"$f":"SUM($N$19:N24)","v":1}]
[null,null,null,null,null,null,null,null,"Below: 7",{"$f":"SUM($J$19:J25)","v":1},{"$f":"SUM($K$19:K25)","v":1},{"$f":"SUM($L$19:L25)","v":1},{"$f":"SUM($M$19:M25)","v":0},{"$f":"SUM($N$19:N25)","v":1}]
[null,null,null,null,null,null,null,null,"Not met: 8",{"$f":"SUM($J$19:J26)","v":1},{"$f":"SUM($K$19:K26)","v":1},{"$f":"SUM($L$19:L26)","v":1},{"$f":"SUM($M$19:M26)","v":1},{"$f":"SUM($N$19:N26)","v":1}]
[null,null,null,null,null,null,null,null,"p-levels: w",{"$f":"SUM($J$19:J27)","v":1},{"$f":"SUM($K$19:K27)","v":1},{"$f":"SUM($L$19:L27)","v":1},{"$f":"SUM($M$19:M27)","v":1},{"$f":"SUM($N$19:N27)","v":1}]
[null,null,null,null,null,null,null,null,"blank",{"$f":"SUM($J$19:J28)","v":1},{"$f":"SUM($K$19:K28)","v":1},{"$f":"SUM($L$19:L28)","v":1},{"$f":"SUM($M$19:M28)","v":1},{"$f":"SUM($N$19:N28)","v":1}]
[null,null,null,null,null,null,null,null,"A",{"$f":"SUM($J$19:J29)","v":1},{"$f":"SUM($K$19:K29)","v":1},{"$f":"SUM($L$19:L29)","v":1},{"$f":"SUM($M$19:M29)","v":1},{"$f":"SUM($N$19:N29)","v":1}]
[]
[null,"Disadvantaged / Non Disadvantaged"]
[null,{"$f":"'Assessment Input'!$F$1","v":"Reading"},{"$f":"'Assessment Input'!$G$1","v":"Writing"},{"$f":"'Assessment Input'!$H$1","v":"Maths"},{"$f":"'Assessment Input'!$I$1","v":"Science "},"GP&S","Re/Wr/Ma",null,null,{"$f":"'Assessment Input'!$F$1","v":"Reading"},{"$f":"'Assessment Input'!$G$1","v":"Writing"},{"$f":"'Assessment Input'!$H$1","v":"Maths"},{"$f":"'Assessment Input'!$I$1","v":"Science "},"GP&S","Re/Wr/Ma"]
[{"$f":"\"T\"","v":"T"},{"$f":"'Assessment Input'!$M$16 &\": \"&Sheet1!$I$4&\" (/\"&B24&\")\"","v":"Disadvantaged: Number at (/1)"},null,null,null,null,null,null,{"$f":"\"F\"","v":"F"},{"$f":"'Assessment Input'!$M$17 &\": \"&Sheet1!$I$4&\" (/\"&B25&\")\"","v":"Non disadvantaged: Number at (/0)"}]
["Greater:1",{"$f":"COUNTIFS('Assessment Input'!$F$2:$F$135,\"1\", 'Assessment Input'!$B$2:$B$135, $A$48)","v":0},{"$f":"COUNTIFS('Assessment Input'!$G$2:$G$135,\"1\", 'Assessment Input'!$B$2:$B$135, $A$48)","v":1},{"$f":"COUNTIFS('Assessment Input'!$H$2:$H$135,\"1\", 'Assessment Input'!$B$2:$B$135, $A$48)","v":0},{"$f":"COUNTIFS('Assessment Input'!$I$2:$I$135,\"1\", 'Assessment Input'!$B$2:$B$135, $A$48)","v":0},{"$f":"COUNTIFS('Assessment Input'!$J$2:$J$135,\"1\", 'Assessment Input'!$B$2:$B$135, $A$48)","v":0},"Yes:",null,"Greater:1",{"$f":"COUNTIFS('Assessment Input'!$F$2:$F$135,\"1\", 'Assessment Input'!$B$2:$B$135, $I$48)","v":0},{"$f":"COUNTIFS('Assessment Input'!$G$2:$G$135,\"1\", 'Assessment Input'!$B$2:$B$135, $I$48)","v":0},{"$f":"COUNTIFS('Assessment Input'!$H$2:$H$135,\"1\", 'Assessment Input'!$B$2:$B$135, $I$48)","v":0},{"$f":"COUNTIFS('Assessment Input'!$I$2:$I$135,\"1\", 'Assessment Input'!$B$2:$B$135, $I$48)","v":0},{"$f":"COUNTIFS('Assessment Input'!$J$2:$J$135,\"1\", 'Assessment Input'!$B$2:$B$135, $I$48)","v":0},"Yes"]
["Expected: 2",{"$f":"COUNTIFS('Assessment Input'!$F$2:$F$135,\"2\", 'Assessment Input'!$B$2:$B$135, $A$48)","v":1},{"$f":"COUNTIFS('Assessment Input'!$G$2:$G$135,\"2\", 'Assessment Input'!$B$2:$B$135, $A$48)","v":0},{"$f":"COUNTIFS('Assessment Input'!$H$2:$H$135,\"2\", 'Assessment Input'!$B$2:$B$135, $A$48)","v":1},{"$f":"COUNTIFS('Assessment Input'!$I$2:$I$135,\"2\", 'Assessment Input'!$B$2:$B$135, $A$48)","v":0},{"$f":"COUNTIFS('Assessment Input'!$J$2:$J$135,\"2\", 'Assessment Input'!$B$2:$B$135, $A$48)","v":1},{"$f":"COUNTIFS('Assessment Input'!$K$2:$K$135,\"Y\", 'Assessment Input'!$B$2:$B$135, $A$48)","v":1},null,"Expected: 2",{"$f":"COUNTIFS('Assessment Input'!$F$2:$F$135,\"2\", 'Assessment Input'!$B$2:$B$135, $I$48)","v":0},{"$f":"COUNTIFS('Assessment Input'!$G$2:$G$135,\"2\", 'Assessment Input'!$B$2:$B$135, $I$48)","v":0},{"$f":"COUNTIFS('Assessment Input'!$H$2:$H$135,\"2\", 'Assessment Input'!$B$2:$B$135, $I$48)","v":0},{"$f":"COUNTIFS('Assessment Input'!$I$2:$I$135,\"2\", 'Assessment Input'!$B$2:$B$135, $I$48)","v":0},{"$f":"COUNTIFS('Assessment Input'!$J$2:$J$135,\"2\", 'Assessment Input'!$B$2:$B$135, $I$48)","v":0},{"$f":"COUNTIFS('Assessment Input'!$K$2:$K$135,\"Y\", 'Assessment Input'!$B$2:$B$135, $I$48)","v":0}]
["Towards: 3",{"$f":"COUNTIFS('Assessment Input'!$F$2:$F$135,\"3\", 'Assessment Input'!$B$2:$B$135, $A$48)","v":0},{"$f":"COUNTIFS('Assessment Input'!$G$2:$G$135,\"3\", 'Assessment Input'!$B$2:$B$135, $A$48)","v":0},{"$f":"COUNTIFS('Assessment Input'!$H$2:$H$135,\"3\", 'Assessment Input'!$B$2:$B$135, $A$48)","v":0},{"$f":"COUNTIFS('Assessment Input'!$I$2:$I$135,\"3\", 'Assessment Input'!$B$2:$B$135, $A$48)","v":0},{"$f":"COUNTIFS('Assessment Input'!$J$2:$J$135,\"3\", 'Assessment Input'!$B$2:$B$135, $A$48)","v":0},"No:",null,"Towards: 3",{"$f":"COUNTIFS('Assessment Input'!$F$2:$F$135,\"3\", 'Assessment Input'!$B$2:$B$135, $I$48)","v":0},{"$f":"COUNTIFS('Assessment Input'!$G$2:$G$135,\"3\", 'Assessment Input'!$B$2:$B$135, $I$48)","v":0},{"$f":"COUNTIFS('Assessment Input'!$H$2:$H$135,\"3\", 'Assessment Input'!$B$2:$B$135, $I$48)","v":0},{"$f":"COUNTIFS('Assessment Input'!$I$2:$I$135,\"3\", 'Assessment Input'!$B$2:$B$135, $I$48)","v":0},{"$f":"COUNTIFS('Assessment Input'!$J$2:$J$135,\"3\", 'Assessment Input'!$B$2:$B$135, $I$48)","v":0},"No:"]
["Growing: 4",{"$f":"COUNTIFS('Assessment Input'!$F$2:$F$135,\"4\", 'Assessment Input'!$B$2:$B$135, $A$48)","v":0},{"$f":"COUNTIFS('Assessment Input'!$G$2:$G$135,\"4\", 'Assessment Input'!$B$2:$B$135, $A$48)","v":0},{"$f":"COUNTIFS('Assessment Input'!$H$2:$H$135,\"4\", 'Assessment Input'!$B$2:$B$135, $A$48)","v":0},{"$f":"COUNTIFS('Assessment Input'!$I$2:$I$135,\"4\", 'Assessment Input'!$B$2:$B$135, $A$48)","v":0},{"$f":"COUNTIFS('Assessment Input'!$J$2:$J$135,\"4\", 'Assessment Input'!$B$2:$B$135, $A$48)","v":0},{"$f":"COUNTIFS('Assessment Input'!$K$2:$K$135,\"N\", 'Assessment Input'!$B$2:$B$135, $A$48)","v":0},null,"Growing: 4",{"$f":"COUNTIFS('Assessment Input'!$F$2:$F$135,\"4\", 'Assessment Input'!$B$2:$B$135, $I$48)","v":0},{"$f":"COUNTIFS('Assessment Input'!$G$2:$G$135,\"4\", 'Assessment Input'!$B$2:$B$135, $I$48)","v":0},{"$f":"COUNTIFS('Assessment Input'!$H$2:$H$135,\"4\", 'Assessment Input'!$B$2:$B$135, $I$48)","v":0},{"$f":"COUNTIFS('Assessment Input'!$I$2:$I$135,\"4\", 'Assessment Input'!$B$2:$B$135, $I$48)","v":0},{"$f":"COUNTIFS('Assessment Input'!$J$2:$J$135,\"4\", 'Assessment Input'!$B$2:$B$135, $I$48)","v":0},{"$f":"COUNTIFS('Assessment Input'!$K$2:$K$135,\"N\", 'Assessment Input'!$B$2:$B$135, $I$48)","v":0}]
["Early: 5",{"$f":"COUNTIFS('Assessment Input'!$F$2:$F$135,\"5\", 'Assessment Input'!$B$2:$B$135, $A$48)","v":0},{"$f":"COUNTIFS('Assessment Input'!$G$2:$G$135,\"5\", 'Assessment Input'!$B$2:$B$135, $A$48)","v":0},{"$f":"COUNTIFS('Assessment Input'!$H$2:$H$135,\"5\", 'Assessment Input'!$B$2:$B$135, $A$48)","v":0},{"$f":"COUNTIFS('Assessment Input'!$I$2:$I$135,\"5\", 'Assessment Input'!$B$2:$B$135, $A$48)","v":0},{"$f":"COUNTIFS('Assessment Input'!$J$2:$J$135,\"5\", 'Assessment Input'!$B$2:$B$135, $A$48)","v":0},null,null,"Early: 5",{"$f":"COUNTIFS('Assessment Input'!$F$2:$F$135,\"5\", 'Assessment Input'!$B$2:$B$135, $I$48)","v":0},{"$f":"COUNTIFS('Assessment Input'!$G$2:$G$135,\"5\", 'Assessment Input'!$B$2:$B$135, $I$48)","v":0},{"$f":"COUNTIFS('Assessment Input'!$H$2:$H$135,\"5\", 'Assessment Input'!$B$2:$B$135, $I$48)","v":0},{"$f":"COUNTIFS('Assessment Input'!$I$2:$I$135,\"5\", 'Assessment Input'!$B$2:$B$135, $I$48)","v":0},{"$f":"COUNTIFS('Assessment Input'!$J$2:$J$135,\"5\", 'Assessment Input'!$B$2:$B$135, $I$48)","v":0}]
["Foundations 6",{"$f":"COUNTIFS('Assessment Input'!$F$2:$F$135,\"6\", 'Assessment Input'!$B$2:$B$135, $A$48)","v":0},{"$f":"COUNTIFS('Assessment Input'!$G$2:$G$135,\"6\", 'Assessment Input'!$B$2:$B$135, $A$48)","v":0},{"$f":"COUNTIFS('Assessment Input'!$H$2:$H$135,\"6\", 'Assessment Input'!$B$2:$B$135, $A$48)","v":0},{"$f":"COUNTIFS('Assessment Input'!$I$2:$I$135,\"6\", 'Assessment Input'!$B$2:$B$135, $A$48)","v":0},{"$f":"COUNTIFS('Assessment Input'!$J$2:$J$135,\"6\", 'Assessment Input'!$B$2:$B$135, $A$48)","v":0},null,null,"Foundations 6",{"$f":"COUNTIFS('Assessment Input'!$F$2:$F$135,\"6\", 'Assessment Input'!$B$2:$B$135, $I$48)","v":0},{"$f":"COUNTIFS('Assessment Input'!$G$2:$G$135,\"6\", 'Assessment Input'!$B$2:$B$135, $I$48)","v":0},{"$f":"COUNTIFS('Assessment Input'!$H$2:$H$135,\"6\", 'Assessment Input'!$B$2:$B$135, $I$48)","v":0},{"$f":"COUNTIFS('Assessment Input'!$I$2:$I$135,\"6\", 'Assessment Input'!$B$2:$B$135, $I$48)","v":0},{"$f":"COUNTIFS('Assessment Input'!$J$2:$J$135,\"6\", 'Assessment Input'!$B$2:$B$135, $I$48)","v":0}]
["Below: 7",{"$f":"COUNTIFS('Assessment Input'!$F$2:$F$135,\"7\", 'Assessment Input'!$B$2:$B$135, $A$48)","v":0},{"$f":"COUNTIFS('Assessment Input'!$G$2:$G$135,\"7\", 'Assessment Input'!$B$2:$B$135, $A$48)","v":0},{"$f":"COUNTIFS('Assessment Input'!$H$2:$H$135,\"7\", 'Assessment Input'!$B$2:$B$135, $A$48)","v":0},{"$f":"COUNTIFS('Assessment Input'!$I$2:$I$135,\"7\", 'Assessment Input'!$B$2:$B$135, $A$48)","v":0},{"$f":"COUNTIFS('Assessment Input'!$J$2:$J$135,\"7\", 'Assessment Input'!$B$2:$B$135, $A$48)","v":0},null,null,"Below: 7",{"$f":"COUNTIFS('Assessment Input'!$F$2:$F$135,\"7\", 'Assessment Input'!$B$2:$B$135, $I$48)","v":0},{"$f":"COUNTIFS('Assessment Input'!$G$2:$G$135,\"7\", 'Assessment Input'!$B$2:$B$135, $I$48)","v":0},{"$f":"COUNTIFS('Assessment Input'!$H$2:$H$135,\"7\", 'Assessment Input'!$B$2:$B$135, $I$48)","v":0},{"$f":"COUNTIFS('Assessment Input'!$I$2:$I$135,\"7\", 'Assessment Input'!$B$2:$B$135, $I$48)","v":0},{"$f":"COUNTIFS('Assessment Input'!$J$2:$J$135,\"7\", 'Assessment Input'!$B$2:$B$135, $I$48)","v":0}]
["Not met: 8",{"$f":"COUNTIFS('Assessment Input'!$F$2:$F$135,\"8\", 'Assessment Input'!$B$2:$B$135, $A$48)","v":0},{"$f":"COUNTIFS('Assessment Input'!$G$2:$G$135,\"8\", 'Assessment Input'!$B$2:$B$135, $A$48)","v":0},{"$f":"COUNTIFS('Assessment Input'!$H$2:$H$135,\"8\", 'Assessment Input'!$B$2:$B$135, $A$48)","v":0},{"$f":"COUNTIFS('Assessment Input'!$I$2:$I$135,\"8\", 'Assessment Input'!$B$2:$B$135, $A$48)","v":1},{"$f":"COUNTIFS('Assessment Input'!$J$2:$J$135,\"8\", 'Assessment Input'!$B$2:$B$135, $A$48)","v":0},null,null,"Not met: 8",{"$f":"COUNTIFS('Assessment Input'!$F$2:$F$135,\"8\", 'Assessment Input'!$B$2:$B$135, $I$48)","v":0},{"$f":"COUNTIFS('Assessment Input'!$G$2:$G$135,\"8\", 'Assessment Input'!$B$2:$B$135, $I$48)","v":0},{"$f":"COUNTIFS('Assessment Input'!$H$2:$H$135,\"8\", 'Assessment Input'!$B$2:$B$135, $I$48)","v":0},{"$f":"COUNTIFS('Assessment Input'!$I$2:$I$135,\"8\", 'Assessment Input'!$B$2:$B$135, $I$48)","v":0},{"$f":"COUNTIFS('Assessment Input'!$J$2:$J$135,\"8\", 'Assessment Input'!$B$2:$B$135, $I$48)","v":0}]
["p-levels: w",{"$f":"COUNTIFS('Assessment Input'!$F$2:$F$135,\"w\", 'Assessment Input'!$B$2:$B$135, $A$48)","v":0},{"$f":"COUNTIFS('Assessment Input'!$G$2:$G$135,\"w\", 'Assessment Input'!$B$2:$B$135, $A$48)","v":0},{"$f":"COUNTIFS('Assessment Input'!$H$2:$H$135,\"w\", 'Assessment Input'!$B$2:$B$135, $A$48)","v":0},{"$f":"COUNTIFS('Assessment Input'!$I$2:$I$135,\"w\", 'Assessment Input'!$B$2:$B$135, $A$48)","v":0},{"$f":"COUNTIFS('Assessment Input'!$J$2:$J$135,\"w\", 'Assessment Input'!$B$2:$B$135, $A$48)","v":0},null,null,"p-levels: w",{"$f":"COUNTIFS('Assessment Input'!$F$2:$F$135,\"w\", 'Assessment Input'!$B$2:$B$135, $I$48)","v":0},{"$f":"COUNTIFS('Assessment Input'!$G$2:$G$135,\"w\", 'Assessment Input'!$B$2:$B$135, $I$48)","v":0},{"$f":"COUNTIFS('Assessment Input'!$H$2:$H$135,\"w\", 'Assessment Input'!$B$2:$B$135, $I$48)","v":0},{"$f":"COUNTIFS('Assessment Input'!$I$2:$I$135,\"w\", 'Assessment Input'!$B$2:$B$135, $I$48)","v":0},{"$f":"COUNTIFS('Assessment Input'!$J$2:$J$135,\"w\", 'Assessment Input'!$B$2:$B$135, $I$48)","v":0}]
["blank",{"$f":"COUNTIFS('Assessment Input'!$F$2:$F$135,\"\", 'Assessment Input'!$B$2:$B$135, $A$48)","v":0},{"$f":"COUNTIFS('Assessment Input'!$G$2:$G$135,\"\", 'Assessment Input'!$B$2:$B$135, $A$48)","v":0},{"$f":"COUNTIFS('Assessment Input'!$H$2:$H$135,\"\", 'Assessment Input'!$B$2:$B$135, $A$48)","v":0},{"$f":"COUNTIFS('Assessment Input'!$I$2:$I$135,\"\", 'Assessment Input'!$B$2:$B$135, $A$48)","v":0},{"$f":"COUNTIFS('Assessment Input'!$J$2:$J$135,\"\", 'Assessment Input'!$B$2:$B$135, $A$48)","v":0},null,null,"blank",{"$f":"COUNTIFS('Assessment Input'!$F$2:$F$135,\"\", 'Assessment Input'!$B$2:$B$135, $I$48)","v":0},{"$f":"COUNTIFS('Assessment Input'!$G$2:$G$135,\"\", 'Assessment Input'!$B$2:$B$135, $I$48)","v":0},{"$f":"COUNTIFS('Assessment Input'!$H$2:$H$135,\"\", 'Assessment Input'!$B$2:$B$135, $I$48)","v":0},{"$f":"COUNTIFS('Assessment Input'!$I$2:$I$135,\"\", 'Assessment Input'!$B$2:$B$135, $I$48)","v":0},{"$f":"COUNTIFS('Assessment Input'!$J$2:$J$135,\"\", 'Assessment Input'!$B$2:$B$135, $I$48)","v":0}]
["A",{"$f":"COUNTIFS('Assessment Input'!$F$2:$F$135,\"A\", 'Assessment Input'!$B$2:$B$135, $A$48)","v":0},{"$f":"COUNTIFS('Assessment Input'!$G$2:$G$135,\"A\", 'Assessment Input'!$B$2:$B$135, $A$48)","v":0},{"$f":"COUNTIFS('Assessment Input'!$H$2:$H$135,\"A\", 'Assessment Input'!$B$2:$B$135, $A$48)","v":0},{"$f":"COUNTIFS('Assessment Input'!$I$2:$I$135,\"A\", 'Assessment Input'!$B$2:$B$135, $A$48)","v":0},{"$f":"COUNTIFS('Assessment Input'!$J$2:$J$135,\"A\", 'Assessment Input'!$B$2:$B$135, $A$48)","v":0},null,null,"A",{"$f":"COUNTIFS('Assessment Input'!$F$2:$F$135,\"A\", 'Assessment Input'!$B$2:$B$135, $I$48)","v":0},{"$f":"COUNTIFS('Assessment Input'!$G$2:$G$135,\"A\", 'Assessment Input'!$B$2:$B$135, $I$48)","v":0},{"$f":"COUNTIFS('Assessment Input'!$H$2:$H$135,\"A\", 'Assessment Input'!$B$2:$B$135, $I$48)","v":0},{"$f":"COUNTIFS('Assessment Input'!$I$2:$I$135,\"A\", 'Assessment Input'!$B$2:$B$135, $I$48)","v":0},{"$f":"COUNTIFS('Assessment Input'!$J$2:$J$135,\"A\", 'Assessment Input'!$B$2:$B$135, $I$48)","v":0}]
["Total:",{"$f":"SUM(B49:B59)","v":1},1,1,1,1,1,null,"Total:",{"$f":"SUM(J49:J59)","v":0},0,0,0,0,0]
[]
[null,{"$f":"'Assessment Input'!$F$1","v":"Reading"},{"$f":"'Assessment Input'!$G$1","v":"Writing"},{"$f":"'Assessment Input'!$H$1","v":"Maths"},{"$f":"'Assessment Input'!$I$1","v":"Science "},"GP&S","Re/Wr/Ma",null,null,{"$f":"'Assessment Input'!$F$1","v":"Reading"},{"$f":"'Assessment Input'!$G$1","v":"Writing"},{"$f":"'Assessment Input'!$H$1","v":"Maths"},{"$f":"'Assessment Input'!$I$1","v":"Science "},"GP&S","Re/Wr/Ma"]
[null,{"$f":"'Assessment Input'!$M$16 &\": \"&Sheet1!$I$5&\" (/\"&B24&\")\"","v":"Disadvantaged: % at (/1)"},null,null,null,null,null,null,null,{"$f":"'Assessment Input'!$M$17 &\": \"&Sheet1!$I$5&\" (/\"&B25&\")\"","v":"Non disadvantaged: % at (/0)"}]
["Greater:1",{"$f":"B49/'Assessment Input'!$N$16","v":0},{"$f":"C49/'Assessment Input'!$N$16","v":1},{"$f":"D49/'Assessment Input'!$N$16","v":0},{"$f":"E49/'Assessment Input'!$N$16","v":0},{"$f":"F49/'Assessment Input'!$N$16","v":0},"Yes:",null,"Greater:1",{"$f":"J49/'Assessment Input'!$N$17","v":{"$error":"#DIV/0!"}},{"$f":"K49/'Assessment Input'!$N$17","v":{"$error":"#DIV/0!"}},{"$f":"L49/'Assessment Input'!$N$17","v":{"$error":"#DIV/0!"}},{"$f":"M49/'Assessment Input'!$N$17","v":{"$error":"#DIV/0!"}},{"$f":"N49/'Assessment Input'!$N$17","v":{"$error":"#DIV/0!"}},"Yes:"]
["Expected: 2",{"$f":"B50/'Assessment Input'!$N$16","v":1},{"$f":"C50/'Assessment Input'!$N$16","v":0},{"$f":"D50/'Assessment Input'!$N$16","v":1},{"$f":"E50/'Assessment Input'!$N$16","v":0},{"$f":"F50/'Assessment Input'!$N$16","v":1},{"$f":"G50/'Assessment Input'!$N$16","v":1},null,"Expected: 2",{"$f":"J50/'Assessment Input'!$N$17","v":{"$error":"#DIV/0!"}},{"$f":"K50/'Assessment Input'!$N$17","v":{"$error":"#DIV/0!"}},{"$f":"L50/'Assessment Input'!$N$17","v":{"$error":"#DIV/0!"}},{"$f":"M50/'Assessment Input'!$N$17","v":{"$error":"#DIV/0!"}},{"$f":"N50/'Assessment Input'!$N$17","v":{"$error":"#DIV/0!"}},{"$f":"O50/'Assessment Input'!$N$17","v":{"$error":"#DIV/0!"}}]
["Towards: 3",{"$f":"B51/'Assessment Input'!$N$16","v":0},{"$f":"C51/'Assessment Input'!$N$16","v":0},{"$f":"D51/'Assessment Input'!$N$16","v":0},{"$f":"E51/'Assessment Input'!$N$16","v":0},{"$f":"F51/'Assessment Input'!$N$16","v":0},"No:",null,"Towards: 3",{"$f":"J51/'Assessment Input'!$N$17","v":{"$error":"#DIV/0!"}},{"$f":"K51/'Assessment Input'!$N$17","v":{"$error":"#DIV/0!"}},{"$f":"L51/'Assessment Input'!$N$17","v":{"$error":"#DIV/0!"}},{"$f":"M51/'Assessment Input'!$N$17","v":{"$error":"#DIV/0!"}},{"$f":"N51/'Assessment Input'!$N$17","v":{"$error":"#DIV/0!"}},"No:"]
["Growing: 4",{"$f":"B52/'Assessment Input'!$N$16","v":0},{"$f":"C52/'Assessment Input'!$N$16","v":0},{"$f":"D52/'Assessment Input'!$N$16","v":0},{"$f":"E52/'Assessment Input'!$N$16","v":0},{"$f":"F52/'Assessment Input'!$N$16","v":0},{"$f":"G52/'Assessment Input'!$N$16","v":0},null,"Growing: 4",{"$f":"J52/'Assessment Input'!$N$17","v":{"$error":"#DIV/0!"}},{"$f":"K52/'Assessment Input'!$N$17","v":{"$error":"#DIV/0!"}},{"$f":"L52/'Assessment Input'!$N$17","v":{"$error":"#DIV/0!"}},{"$f":"M52/'Assessment Input'!$N$17","v":{"$error":"#DIV/0!"}},{"$f":"N52/'Assessment Input'!$N$17","v":{"$error":"#DIV/0!"}},{"$f":"O52/'Assessment Input'!$N$17","v":{"$error":"#DIV/0!"}}]
["Early: 5",{"$f":"B53/'Assessment Input'!$N$16","v":0},{"$f":"C53/'Assessment Input'!$N$16","v":0},{"$f":"D53/'Assessment Input'!$N$16","v":0},{"$f":"E53/'Assessment Input'!$N$16","v":0},{"$f":"F53/'Assessment Input'!$N$16","v":0},null,null,"Early: 5",{"$f":"J53/'Assessment Input'!$N$17","v":{"$error":"#DIV/0!"}},{"$f":"K53/'Assessment Input'!$N$17","v":{"$error":"#DIV/0!"}},{"$f":"L53/'Assessment Input'!$N$17","v":{"$error":"#DIV/0!"}},{"$f":"M53/'Assessment Input'!$N$17","v":{"$error":"#DIV/0!"}},{"$f":"N53/'Assessment Input'!$N$17","v":{"$error":"#DIV/0!"}}]
["Foundations 6",{"$f":"B54/'Assessment Input'!$N$16","v":0},{"$f":"C54/'Assessment Input'!$N$16","v":0},{"$f":"D54/'Assessment Input'!$N$16","v":0},{"$f":"E54/'Assessment Input'!$N$16","v":0},{"$f":"F54/'Assessment Input'!$N$16","v":0},null,null,"Foundations 6",{"$f":"J54/'Assessment Input'!$N$17","v":{"$error":"#DIV/0!"}},{"$f":"K54/'Assessment Input'!$N$17","v":{"$error":"#DIV/0!"}},{"$f":"L54/'Assessment Input'!$N$17","v":{"$error":"#DIV/0!"}},{"$f":"M54/'Assessment Input'!$N$17","v":{"$error":"#DIV/0!"}},{"$f":"N54/'Assessment Input'!$N$17","v":{"$error":"#DIV/0!"}}]
["Below: 7",{"$f":"B55/'Assessment Input'!$N$16","v":0},{"$f":"C55/'Assessment Input'!$N$16","v":0},{"$f":"D55/'Assessment Input'!$N$16","v":0},{"$f":"E55/'Assessment Input'!$N$16","v":0},{"$f":"F55/'Assessment Input'!$N$16","v":0},null,null,"Below: 7",{"$f":"J55/'Assessment Input'!$N$17","v":{"$error":"#DIV/0!"}},{"$f":"K55/'Assessment Input'!$N$17","v":{"$error":"#DIV/0!"}},{"$f":"L55/'Assessment Input'!$N$17","v":{"$error":"#DIV/0!"}},{"$f":"M55/'Assessment Input'!$N$17","v":{"$error":"#DIV/0!"}},{"$f":"N55/'Assessment Input'!$N$17","v":{"$error":"#DIV/0!"}}]
["Not met: 8",{"$f":"B56/'Assessment Input'!$N$16","v":0},{"$f":"C56/'Assessment Input'!$N$16","v":0},{"$f":"D56/'Assessment Input'!$N$16","v":0},{"$f":"E56/'Assessment Input'!$N$16","v":1},{"$f":"F56/'Assessment Input'!$N$16","v":0},null,null,"Not met: 8",{"$f":"J56/'Assessment Input'!$N$17","v":{"$error":"#DIV/0!"}},{"$f":"K56/'Assessment Input'!$N$17","v":{"$error":"#DIV/0!"}},{"$f":"L56/'Assessment Input'!$N$17","v":{"$error":"#DIV/0!"}},{"$f":"M56/'Assessment Input'!$N$17","v":{"$error":"#DIV/0!"}},{"$f":"N56/'Assessment Input'!$N$17","v":{"$error":"#DIV/0!"}}]
["p",{"$f":"B57/'Assessment Input'!$N$16","v":0},{"$f":"C57/'Assessment Input'!$N$16","v":0},{"$f":"D57/'Assessment Input'!$N$16","v":0},{"$f":"E57/'Assessment Input'!$N$16","v":0},{"$f":"F57/'Assessment Input'!$N$16","v":0},null,null,"p",{"$f":"J57/'Assessment Input'!$N$17","v":{"$error":"#DIV/0!"}},{"$f":"K57/'Assessment Input'!$N$17","v":{"$error":"#DIV/0!"}},{"$f":"L57/'Assessment Input'!$N$17","v":{"$error":"#DIV/0!"}},{"$f":"M57/'Assessment Input'!$N$17","v":{"$error":"#DIV/0!"}},{"$f":"N57/'Assessment Input'!$N$17","v":{"$error":"#DIV/0!"}}]
["blank",{"$f":"B58/'Assessment Input'!$N$16","v":0},{"$f":"C58/'Assessment Input'!$N$16","v":0},{"$f":"D58/'Assessment Input'!$N$16","v":0},{"$f":"E58/'Assessment Input'!$N$16","v":0},{"$f":"F58/'Assessment Input'!$N$16","v":0},null,null,"blank",{"$f":"J58/'Assessment Input'!$N$17","v":{"$error":"#DIV/0!"}},{"$f":"K58/'Assessment Input'!$N$17","v":{"$error":"#DIV/0!"}},{"$f":"L58/'Assessment Input'!$N$17","v":{"$error":"#DIV/0!"}},{"$f":"M58/'Assessment Input'!$N$17","v":{"$error":"#DIV/0!"}},{"$f":"N58/'Assessment Input'!$N$17","v":{"$error":"#DIV/0!"}}]
["A",{"$f":"B59/'Assessment Input'!$N$16","v":0},{"$f":"C59/'Assessment Input'!$N$16","v":0},{"$f":"D59/'Assessment Input'!$N$16","v":0},{"$f":"E59/'Assessment Input'!$N$16","v":0},{"$f":"F59/'Assessment Input'!$N$16","v":0},null,null,"A",{"$f":"J59/'Assessment Input'!$N$17","v":{"$error":"#DIV/0!"}},{"$f":"K59/'Assessment Input'!$N$17","v":{"$error":"#DIV/0!"}},{"$f":"L59/'Assessment Input'!$N$17","v":{"$error":"#DIV/0!"}},{"$f":"M59/'Assessment Input'!$N$17","v":{"$error":"#DIV/0!"}},{"$f":"N59/'Assessment Input'!$N$17","v":{"$error":"#DIV/0!"}}]
["Total:",{"$f":"SUM(B64:B74)","v":1},1,1,1,1,1,null,"Total:",{"$f":"SUM(J64:J74)","v":{"$error":"#DIV/0!"}},{"$error":"#DIV/0!"},{"$error":"#DIV/0!"},{"$error":"#DIV/0!"},{"$error":"#DIV/0!"},{"$error":"#DIV/0!"}]
[]
[null,{"$f":"'Assessment Input'!$F$1","v":"Reading"},{"$f":"'Assessment Input'!$G$1","v":"Writing"},{"$f":"'Assessment Input'!$H$1","v":"Maths"},{"$f":"'Assessment Input'!$I$1","v":"Science "},"GP&S","Re/Wr/Ma",null,null,{"$f":"'Assessment Input'!$F$1","v":"Reading"},{"$f":"'Assessment Input'!$G$1","v":"Writing"},{"$f":"'Assessment Input'!$H$1","v":"Maths"},{"$f":"'Assessment Input'!$I$1","v":"Science "},"GP&S","Re/Wr/Ma"]
[null,{"$f":"'Assessment Input'!$M$16 &\": \"&Sheet1!$I$6&\" (/\"&B24&\")\"","v":"Disadvantaged: % and above (/1)"},null,null,null,null,null,null,null,{"$f":"'Assessment Input'!$M$17 &\": \"&Sheet1!$I$6&\" (/\"&B25&\")\"","v":"Non disadvantaged: % and above (/0)"}]
["Greater:1",{"$f":"B64","v":0},1,0,0,0,"Yes:",null,"Greater:1",{"$f":"J64","v":{"$error":"#DIV/0!"}},{"$error":"#DIV/0!"},{"$error":"#DIV/0!"},{"$error":"#DIV/0!"},{"$error":"#DIV/0!"},"Yes:"]
["Expected: 2",{"$f":"SUM($B$64:B65)","v":1},{"$f":"SUM($C$64:C65)","v":1},{"$f":"SUM($D$64:D65)","v":1},{"$f":"SUM($E$64:E65)","v":0},{"$f":"SUM($F$64:F65)","v":1},{"$f":"SUM($G$64:G65)","v":1},null,"Expected: 2",{"$f":"SUM($J$64:J65)","v":{"$error":"#DIV/0!"}},{"$f":"SUM($K$64:K65)","v":{"$error":"#DIV/0!"}},{"$f":"SUM($L$64:L65)","v":{"$error":"#DIV/0!"}},{"$f":"SUM($M$64:M65)","v":{"$error":"#DIV/0!"}},{"$f":"SUM($N$64:N65)","v":{"$error":"#DIV/0!"}},{"$f":"SUM($O$64:O65)","v":{"$error":"#DIV/0!"}}]
["Towards: 3",{"$f":"SUM($B$64:B66)","v":1},{"$f":"SUM($C$64:C66)","v":1},{"$f":"SUM($D$64:D66)","v":1},{"$f":"SUM($E$64:E66)","v":0},{"$f":"SUM($F$64:F66)","v":1},"No:",null,"Towards: 3",{"$f":"SUM($J$64:J66)","v":{"$error":"#DIV/0!"}},{"$f":"SUM($K$64:K66)","v":{"$error":"#DIV/0!"}},{"$f":"SUM($L$64:L66)","v":{"$error":"#DIV/0!"}},{"$f":"SUM($M$64:M66)","v":{"$error":"#DIV/0!"}},{"$f":"SUM($N$64:N66)","v":{"$error":"#DIV/0!"}},"No:"]
["Growing: 4",{"$f":"SUM($B$64:B67)","v":1},{"$f":"SUM($C$64:C67)","v":1},{"$f":"SUM($D$64:D67)","v":1},{"$f":"SUM($E$64:E67)","v":0},{"$f":"SUM($F$64:F67)","v":1},{"$f":"SUM($G$64:G67)","v":1},null,"Growing: 4",{"$f":"SUM($J$64:J67)","v":{"$error":"#DIV/0!"}},{"$f":"SUM($K$64:K67)","v":{"$error":"#DIV/0!"}},{"$f":"SUM($L$64:L67)","v":{"$error":"#DIV/0!"}},{"$f":"SUM($M$64:M67)","v":{"$error":"#DIV/0!"}},{"$f":"SUM($N$64:N67)","v":{"$error":"#DIV/0!"}},{"$f":"SUM($O$64:O67)","v":{"$error":"#DIV/0!"}}]
["Early: 5",{"$f":"SUM($B$64:B68)","v":1},{"$f":"SUM($C$64:C68)","v":1},{"$f":"SUM($D$64:D68)","v":1},{"$f":"SUM($E$64:E68)","v":0},{"$f":"SUM($F$64:F68)","v":1},null,null,"Early: 5",{"$f":"SUM($J$64:J68)","v":{"$error":"#DIV/0!"}},{"$f":"SUM($K$64:K68)","v":{"$error":"#DIV/0!"}},{"$f":"SUM($L$64:L68)","v":{"$error":"#DIV/0!"}},{"$f":"SUM($M$64:M68)","v":{"$error":"#DIV/0!"}},{"$f":"SUM($N$64:N68)","v":{"$error":"#DIV/0!"}}]
["Foundations 6",{"$f":"SUM($B$64:B69)","v":1},{"$f":"SUM($C$64:C69)","v":1},{"$f":"SUM($D$64:D69)","v":1},{"$f":"SUM($E$64:E69)","v":0},{"$f":"SUM($F$64:F69)","v":1},null,null,"Foundations 6",{"$f":"SUM($J$64:J69)","v":{"$error":"#DIV/0!"}},{"$f":"SUM($K$64:K69)","v":{"$error":"#DIV/0!"}},{"$f":"SUM($L$64:L69)","v":{"$error":"#DIV/0!"}},{"$f":"SUM($M$64:M69)","v":{"$error":"#DIV/0!"}},{"$f":"SUM($N$64:N69)","v":{"$error":"#DIV/0!"}}]
["Below: 7",{"$f":"SUM($B$64:B70)","v":1},{"$f":"SUM($C$64:C70)","v":1},{"$f":"SUM($D$64:D70)","v":1},{"$f":"SUM($E$64:E70)","v":0},{"$f":"SUM($F$64:F70)","v":1},null,null,"Below: 7",{"$f":"SUM($J$64:J70)","v":{"$error":"#DIV/0!"}},{"$f":"SUM($K$64:K70)","v":{"$error":"#DIV/0!"}},{"$f":"SUM($L$64:L70)","v":{"$error":"#DIV/0!"}},{"$f":"SUM($M$64:M70)","v":{"$error":"#DIV/0!"}},{"$f":"SUM($N$64:N70)","v":{"$error":"#DIV/0!"}}]
["Not met: 8",{"$f":"SUM($B$64:B71)","v":1},{"$f":"SUM($C$64:C71)","v":1},{"$f":"SUM($D$64:D71)","v":1},{"$f":"SUM($E$64:E71)","v":1},{"$f":"SUM($F$64:F71)","v":1},null,null,"Not met: 8",{"$f":"SUM($J$64:J71)","v":{"$error":"#DIV/0!"}},{"$f":"SUM($K$64:K71)","v":{"$error":"#DIV/0!"}},{"$f":"SUM($L$64:L71)","v":{"$error":"#DIV/0!"}},{"$f":"SUM($M$64:M71)","v":{"$error":"#DIV/0!"}},{"$f":"SUM($N$64:N71)","v":{"$error":"#DIV/0!"}}]
["p-levels: w",{"$f":"SUM($B$64:B72)","v":1},{"$f":"SUM($C$64:C72)","v":1},{"$f":"SUM($D$64:D72)","v":1},{"$f":"SUM($E$64:E72)","v":1},{"$f":"SUM($F$64:F72)","v":1},null,null,"p-levels: w",{"$f":"SUM($J$64:J72)","v":{"$error":"#DIV/0!"}},{"$f":"SUM($K$64:K72)","v":{"$error":"#DIV/0!"}},{"$f":"SUM($L$64:L72)","v":{"$error":"#DIV/0!"}},{"$f":"SUM($M$64:M72)","v":{"$error":"#DIV/0!"}},{"$f":"SUM($N$64:N72)","v":{"$error":"#DIV/0!"}}]
["blank",{"$f":"SUM($B$64:B73)","v":1},{"$f":"SUM($C$64:C73)","v":1},{"$f":"SUM($D$64:D73)","v":1},{"$f":"SUM($E$64:E73)","v":1},{"$f":"SUM($F$64:F73)","v":1},null,null,"blank",{"$f":"SUM($J$64:J73)","v":{"$error":"#DIV/0!"}},{"$f":"SUM($K$64:K73)","v":{"$error":"#DIV/0!"}},{"$f":"SUM($L$64:L73)","v":{"$error":"#DIV/0!"}},{"$f":"SUM($M$64:M73)","v":{"$error":"#DIV/0!"}},{"$f":"SUM($N$64:N73)","v":{"$error":"#DIV/0!"}}]
["A",{"$f":"SUM($B$64:B74)","v":1},{"$f":"SUM($C$64:C74)","v":1},{"$f":"SUM($D$64:D74)","v":1},{"$f":"SUM($E$64:E74)","v":1},{"$f":"SUM($F$64:F74)","v":1},null,null,"A",{"$f":"SUM($J$64:J74)","v":{"$error":"#DIV/0!"}},{"$f":"SUM($K$64:K74)","v":{"$error":"#DIV/0!"}},{"$f":"SUM($L$64:L74)","v":{"$error":"#DIV/0!"}},{"$f":"SUM($M$64:M74)","v":{"$error":"#DIV/0!"}},{"$f":"SUM($N$64:N74)","v":{"$error":"#DIV/0!"}}]
[]
[null,"Gender"]
[null,{"$f":"'Assessment Input'!$F$1","v":"Reading"},{"$f":"'Assessment Input'!$G$1","v":"Writing"},{"$f":"'Assessment Input'!$H$1","v":"Maths"},{"$f":"'Assessment Input'!$I$1","v":"Science "},"GP&S","Re/Wr/Ma",null,null,{"$f":"'Assessment Input'!$F$1","v":"Reading"},{"$f":"'Assessment Input'!$G$1","v":"Writing"},{"$f":"'Assessment Input'!$H$1","v":"Maths"},{"$f":"'Assessment Input'!$I$1","v":"Science "},"GP&S","Re/Wr/Ma"]
["M",{"$f":"'Assessment Input'!$M$18 &\": \"&Sheet1!$I$4&\" (/\"&B26&\")\"","v":"Males: Number at (/1)"},null,null,null,null,null,null,"F",{"$f":"'Assessment Input'!$M$19 &\": \"&Sheet1!$I$4&\" (/\"&B27&\")\"","v":"Females: Number at (/0)"}]
["Greater:1",{"$f":"COUNTIFS('Assessment Input'!$F$2:$F$135,\"1\", 'Assessment Input'!$C$2:$C$135, $A$93)","v":0},{"$f":"COUNTIFS('Assessment Input'!$G$2:$G$135,\"1\", 'Assessment Input'!$C$2:$C$135, $A$93)","v":1},{"$f":"COUNTIFS('Assessment Input'!$H$2:$H$135,\"1\", 'Assessment Input'!$C$2:$C$135, $A$93)","v":0},{"$f":"COUNTIFS('Assessment Input'!$I$2:$I$135,\"1\", 'Assessment Input'!$C$2:$C$135, $A$93)","v":0},{"$f":"COUNTIFS('Assessment Input'!$J$2:$J$135,\"1\", 'Assessment Input'!$C$2:$C$135, $A$93)","v":0},"Yes:",null,"Greater:1",{"$f":"COUNTIFS('Assessment Input'!$F$2:$F$135,\"1\", 'Assessment Input'!$C$2:$C$135, $I$93)","v":0},{"$f":"COUNTIFS('Assessment Input'!$G$2:$G$135,\"1\", 'Assessment Input'!$C$2:$C$135, $I$93)","v":0},{"$f":"COUNTIFS('Assessment Input'!$H$2:$H$135,\"1\", 'Assessment Input'!$C$2:$C$135, $I$93)","v":0},{"$f":"COUNTIFS('Assessment Input'!$I$2:$I$135,\"1\", 'Assessment Input'!$C$2:$C$135, $I$93)","v":0},{"$f":"COUNTIFS('Assessment Input'!$J$2:$J$135,\"1\", 'Assessment Input'!$C$2:$C$135, $I$93)","v":0},"Yes:"]
["Expected: 2",{"$f":"COUNTIFS('Assessment Input'!$F$2:$F$135,\"2\", 'Assessment Input'!$C$2:$C$135, $A$93)","v":1},{"$f":"COUNTIFS('Assessment Input'!$G$2:$G$135,\"2\", 'Assessment Input'!$C$2:$C$135, $A$93)","v":0},{"$f":"COUNTIFS('Assessment Input'!$H$2:$H$135,\"2\", 'Assessment Input'!$C$2:$C$135, $A$93)","v":1},{"$f":"COUNTIFS('Assessment Input'!$I$2:$I$135,\"2\", 'Assessment Input'!$C$2:$C$135, $A$93)","v":0},{"$f":"COUNTIFS('Assessment Input'!$J$2:$J$135,\"2\", 'Assessment Input'!$C$2:$C$135, $A$93)","v":1},{"$f":"COUNTIFS('Assessment Input'!$K$2:$K$135,\"Y\", 'Assessment Input'!$C$2:$C$135, $A$93)","v":1},null,"Expected: 2",{"$f":"COUNTIFS('Assessment Input'!$F$2:$F$135,\"2\", 'Assessment Input'!$C$2:$C$135, $I$93)","v":0},{"$f":"COUNTIFS('Assessment Input'!$G$2:$G$135,\"2\", 'Assessment Input'!$C$2:$C$135, $I$93)","v":0},{"$f":"COUNTIFS('Assessment Input'!$H$2:$H$135,\"2\", 'Assessment Input'!$C$2:$C$135, $I$93)","v":0},{"$f":"COUNTIFS('Assessment Input'!$I$2:$I$135,\"2\", 'Assessment Input'!$C$2:$C$135, $I$93)","v":0},{"$f":"COUNTIFS('Assessment Input'!$J$2:$J$135,\"2\", 'Assessment Input'!$C$2:$C$135, $I$93)","v":0},{"$f":"COUNTIFS('Assessment Input'!$K$2:$K$135,\"Y\", 'Assessment Input'!$C$2:$C$135, $I$93)","v":0}]
["Towards: 3",{"$f":"COUNTIFS('Assessment Input'!$F$2:$F$135,\"3\", 'Assessment Input'!$C$2:$C$135, $A$93)","v":0},{"$f":"COUNTIFS('Assessment Input'!$G$2:$G$135,\"3\", 'Assessment Input'!$C$2:$C$135, $A$93)","v":0},{"$f":"COUNTIFS('Assessment Input'!$H$2:$H$135,\"3\", 'Assessment Input'!$C$2:$C$135, $A$93)","v":0},{"$f":"COUNTIFS('Assessment Input'!$I$2:$I$135,\"3\", 'Assessment Input'!$C$2:$C$135, $A$93)","v":0},{"$f":"COUNTIFS('Assessment Input'!$J$2:$J$135,\"3\", 'Assessment Input'!$C$2:$C$135, $A$93)","v":0},"No:",null,"Towards: 3",{"$f":"COUNTIFS('Assessment Input'!$F$2:$F$135,\"3\", 'Assessment Input'!$C$2:$C$135, $I$93)","v":0},{"$f":"COUNTIFS('Assessment Input'!$G$2:$G$135,\"3\", 'Assessment Input'!$C$2:$C$135, $I$93)","v":0},{"$f":"COUNTIFS('Assessment Input'!$H$2:$H$135,\"3\", 'Assessment Input'!$C$2:$C$135, $I$93)","v":0},{"$f":"COUNTIFS('Assessment Input'!$I$2:$I$135,\"3\", 'Assessment Input'!$C$2:$C$135, $I$93)","v":0},{"$f":"COUNTIFS('Assessment Input'!$J$2:$J$135,\"3\", 'Assessment Input'!$C$2:$C$135, $I$93)","v":0},"No:"]
["Growing: 4",{"$f":"COUNTIFS('Assessment Input'!$F$2:$F$135,\"4\", 'Assessment Input'!$C$2:$C$135, $A$93)","v":0},{"$f":"COUNTIFS('Assessment Input'!$G$2:$G$135,\"4\", 'Assessment Input'!$C$2:$C$135, $A$93)","v":0},{"$f":"COUNTIFS('Assessment Input'!$H$2:$H$135,\"4\", 'Assessment Input'!$C$2:$C$135, $A$93)","v":0},{"$f":"COUNTIFS('Assessment Input'!$I$2:$I$135,\"4\", 'Assessment Input'!$C$2:$C$135, $A$93)","v":0},{"$f":"COUNTIFS('Assessment Input'!$J$2:$J$135,\"4\", 'Assessment Input'!$C$2:$C$135, $A$93)","v":0},{"$f":"COUNTIFS('Assessment Input'!$K$2:$K$135,\"N\", 'Assessment Input'!$C$2:$C$135, $A$93)","v":0},null,"Growing: 4",{"$f":"COUNTIFS('Assessment Input'!$F$2:$F$135,\"4\", 'Assessment Input'!$C$2:$C$135, $I$93)","v":0},{"$f":"COUNTIFS('Assessment Input'!$G$2:$G$135,\"4\", 'Assessment Input'!$C$2:$C$135, $I$93)","v":0},{"$f":"COUNTIFS('Assessment Input'!$H$2:$H$135,\"4\", 'Assessment Input'!$C$2:$C$135, $I$93)","v":0},{"$f":"COUNTIFS('Assessment Input'!$I$2:$I$135,\"4\", 'Assessment Input'!$C$2:$C$135, $I$93)","v":0},{"$f":"COUNTIFS('Assessment Input'!$J$2:$J$135,\"4\", 'Assessment Input'!$C$2:$C$135, $I$93)","v":0},{"$f":"COUNTIFS('Assessment Input'!$K$2:$K$135,\"N\", 'Assessment Input'!$C$2:$C$135, $I$93)","v":0}]
["Early: 5",{"$f":"COUNTIFS('Assessment Input'!$F$2:$F$135,\"5\", 'Assessment Input'!$C$2:$C$135, $A$93)","v":0},{"$f":"COUNTIFS('Assessment Input'!$G$2:$G$135,\"5\", 'Assessment Input'!$C$2:$C$135, $A$93)","v":0},{"$f":"COUNTIFS('Assessment Input'!$H$2:$H$135,\"5\", 'Assessment Input'!$C$2:$C$135, $A$93)","v":0},{"$f":"COUNTIFS('Assessment Input'!$I$2:$I$135,\"5\", 'Assessment Input'!$C$2:$C$135, $A$93)","v":0},{"$f":"COUNTIFS('Assessment Input'!$J$2:$J$135,\"5\", 'Assessment Input'!$C$2:$C$135, $A$93)","v":0},null,null,"Early: 5",{"$f":"COUNTIFS('Assessment Input'!$F$2:$F$135,\"5\", 'Assessment Input'!$C$2:$C$135, $I$93)","v":0},{"$f":"COUNTIFS('Assessment Input'!$G$2:$G$135,\"5\", 'Assessment Input'!$C$2:$C$135, $I$93)","v":0},{"$f":"COUNTIFS('Assessment Input'!$H$2:$H$135,\"5\", 'Assessment Input'!$C$2:$C$135, $I$93)","v":0},{"$f":"COUNTIFS('Assessment Input'!$I$2:$I$135,\"5\", 'Assessment Input'!$C$2:$C$135, $I$93)","v":0},{"$f":"COUNTIFS('Assessment Input'!$J$2:$J$135,\"5\", 'Assessment Input'!$C$2:$C$135, $I$93)","v":0}]
["Foundations 6",{"$f":"COUNTIFS('Assessment Input'!$F$2:$F$135,\"6\", 'Assessment Input'!$C$2:$C$135, $A$93)","v":0},{"$f":"COUNTIFS('Assessment Input'!$G$2:$G$135,\"6\", 'Assessment Input'!$C$2:$C$135, $A$93)","v":0},{"$f":"COUNTIFS('Assessment Input'!$H$2:$H$135,\"6\", 'Assessment Input'!$C$2:$C$135, $A$93)","v":0},{"$f":"COUNTIFS('Assessment Input'!$I$2:$I$135,\"6\", 'Assessment Input'!$C$2:$C$135, $A$93)","v":0},{"$f":"COUNTIFS('Assessment Input'!$J$2:$J$135,\"6\", 'Assessment Input'!$C$2:$C$135, $A$93)","v":0},null,null,"Foundations 6",{"$f":"COUNTIFS('Assessment Input'!$F$2:$F$135,\"6\", 'Assessment Input'!$C$2:$C$135, $I$93)","v":0},{"$f":"COUNTIFS('Assessment Input'!$G$2:$G$135,\"6\", 'Assessment Input'!$C$2:$C$135, $I$93)","v":0},{"$f":"COUNTIFS('Assessment Input'!$H$2:$H$135,\"6\", 'Assessment Input'!$C$2:$C$135, $I$93)","v":0},{"$f":"COUNTIFS('Assessment Input'!$I$2:$I$135,\"6\", 'Assessment Input'!$C$2:$C$135, $I$93)","v":0},{"$f":"COUNTIFS('Assessment Input'!$J$2:$J$135,\"6\", 'Assessment Input'!$C$2:$C$135, $I$93)","v":0}]
["Below: 7",{"$f":"COUNTIFS('Assessment Input'!$F$2:$F$135,\"7\", 'Assessment Input'!$C$2:$C$135, $A$93)","v":0},{"$f":"COUNTIFS('Assessment Input'!$G$2:$G$135,\"7\", 'Assessment Input'!$C$2:$C$135, $A$93)","v":0},{"$f":"COUNTIFS('Assessment Input'!$H$2:$H$135,\"7\", 'Assessment Input'!$C$2:$C$135, $A$93)","v":0},{"$f":"COUNTIFS('Assessment Input'!$I$2:$I$135,\"7\", 'Assessment Input'!$C$2:$C$135, $A$93)","v":0},{"$f":"COUNTIFS('Assessment Input'!$J$2:$J$135,\"7\", 'Assessment Input'!$C$2:$C$135, $A$93)","v":0},null,null,"Below: 7",{"$f":"COUNTIFS('Assessment Input'!$F$2:$F$135,\"7\", 'Assessment Input'!$C$2:$C$135, $I$93)","v":0},{"$f":"COUNTIFS('Assessment Input'!$G$2:$G$135,\"7\", 'Assessment Input'!$C$2:$C$135, $I$93)","v":0},{"$f":"COUNTIFS('Assessment Input'!$H$2:$H$135,\"7\", 'Assessment Input'!$C$2:$C$135, $I$93)","v":0},{"$f":"COUNTIFS('Assessment Input'!$I$2:$I$135,\"7\", 'Assessment Input'!$C$2:$C$135, $I$93)","v":0},{"$f":"COUNTIFS('Assessment Input'!$J$2:$J$135,\"7\", 'Assessment Input'!$C$2:$C$135, $I$93)","v":0}]
["Not met: 8",{"$f":"COUNTIFS('Assessment Input'!$F$2:$F$135,\"8\", 'Assessment Input'!$C$2:$C$135, $A$93)","v":0},{"$f":"COUNTIFS('Assessment Input'!$G$2:$G$135,\"8\", 'Assessment Input'!$C$2:$C$135, $A$93)","v":0},{"$f":"COUNTIFS('Assessment Input'!$H$2:$H$135,\"8\", 'Assessment Input'!$C$2:$C$135, $A$93)","v":0},{"$f":"COUNTIFS('Assessment Input'!$I$2:$I$135,\"8\", 'Assessment Input'!$C$2:$C$135, $A$93)","v":1},{"$f":"COUNTIFS('Assessment Input'!$J$2:$J$135,\"8\", 'Assessment Input'!$C$2:$C$135, $A$93)","v":0},null,null,"Not met: 8",{"$f":"COUNTIFS('Assessment Input'!$F$2:$F$135,\"8\", 'Assessment Input'!$C$2:$C$135, $I$93)","v":0},{"$f":"COUNTIFS('Assessment Input'!$G$2:$G$135,\"8\", 'Assessment Input'!$C$2:$C$135, $I$93)","v":0},{"$f":"COUNTIFS('Assessment Input'!$H$2:$H$135,\"8\", 'Assessment Input'!$C$2:$C$135, $I$93)","v":0},{"$f":"COUNTIFS('Assessment Input'!$I$2:$I$135,\"8\", 'Assessment Input'!$C$2:$C$135, $I$93)","v":0},{"$f":"COUNTIFS('Assessment Input'!$J$2:$J$135,\"8\", 'Assessment Input'!$C$2:$C$135, $I$93)","v":0}]
["p-levels: w",{"$f":"COUNTIFS('Assessment Input'!$F$2:$F$135,\"w\", 'Assessment Input'!$C$2:$C$135, $A$93)","v":0},{"$f":"COUNTIFS('Assessment Input'!$G$2:$G$135,\"w\", 'Assessment Input'!$C$2:$C$135, $A$93)","v":0},{"$f":"COUNTIFS('Assessment Input'!$H$2:$H$135,\"w\", 'Assessment Input'!$C$2:$C$135, $A$93)","v":0},{"$f":"COUNTIFS('Assessment Input'!$I$2:$I$135,\"w\", 'Assessment Input'!$C$2:$C$135, $A$93)","v":0},{"$f":"COUNTIFS('Assessment Input'!$J$2:$J$135,\"w\", 'Assessment Input'!$C$2:$C$135, $A$93)","v":0},null,null,"p-levels: w",{"$f":"COUNTIFS('Assessment Input'!$F$2:$F$135,\"w\", 'Assessment Input'!$C$2:$C$135, $I$93)","v":0},{"$f":"COUNTIFS('Assessment Input'!$G$2:$G$135,\"w\", 'Assessment Input'!$C$2:$C$135, $I$93)","v":0},{"$f":"COUNTIFS('Assessment Input'!$H$2:$H$135,\"w\", 'Assessment Input'!$C$2:$C$135, $I$93)","v":0},{"$f":"COUNTIFS('Assessment Input'!$I$2:$I$135,\"w\", 'Assessment Input'!$C$2:$C$135, $I$93)","v":0},{"$f":"COUNTIFS('Assessment Input'!$J$2:$J$135,\"w\", 'Assessment Input'!$C$2:$C$135, $I$93)","v":0}]
["blank",{"$f":"COUNTIFS('Assessment Input'!$F$2:$F$135,\"\", 'Assessment Input'!$C$2:$C$135, $A$93)","v":0},{"$f":"COUNTIFS('Assessment Input'!$G$2:$G$135,\"\", 'Assessment Input'!$C$2:$C$135, $A$93)","v":0},{"$f":"COUNTIFS('Assessment Input'!$H$2:$H$135,\"\", 'Assessment Input'!$C$2:$C$135, $A$93)","v":0},{"$f":"COUNTIFS('Assessment Input'!$I$2:$I$135,\"\", 'Assessment Input'!$C$2:$C$135, $A$93)","v":0},{"$f":"COUNTIFS('Assessment Input'!$J$2:$J$135,\"\", 'Assessment Input'!$C$2:$C$135, $A$93)","v":0},null,null,"blank",{"$f":"COUNTIFS('Assessment Input'!$F$2:$F$135,\"\", 'Assessment Input'!$C$2:$C$135, $I$93)","v":0},{"$f":"COUNTIFS('Assessment Input'!$G$2:$G$135,\"\", 'Assessment Input'!$C$2:$C$135, $I$93)","v":0},{"$f":"COUNTIFS('Assessment Input'!$H$2:$H$135,\"\", 'Assessment Input'!$C$2:$C$135, $I$93)","v":0},{"$f":"COUNTIFS('Assessment Input'!$I$2:$I$135,\"\", 'Assessment Input'!$C$2:$C$135, $I$93)","v":0},{"$f":"COUNTIFS('Assessment Input'!$J$2:$J$135,\"\", 'Assessment Input'!$C$2:$C$135, $I$93)","v":0}]
["A",{"$f":"COUNTIFS('Assessment Input'!$F$2:$F$135,\"A\", 'Assessment Input'!$C$2:$C$135, $A$93)","v":0},{"$f":"COUNTIFS('Assessment Input'!$G$2:$G$135,\"A\", 'Assessment Input'!$C$2:$C$135, $A$93)","v":0},{"$f":"COUNTIFS('Assessment Input'!$H$2:$H$135,\"A\", 'Assessment Input'!$C$2:$C$135, $A$93)","v":0},{"$f":"COUNTIFS('Assessment Input'!$I$2:$I$135,\"A\", 'Assessment Input'!$C$2:$C$135, $A$93)","v":0},{"$f":"COUNTIFS('Assessment Input'!$J$2:$J$135,\"A\", 'Assessment Input'!$C$2:$C$135, $A$93)","v":0},null,null,"A",{"$f":"COUNTIFS('Assessment Input'!$F$2:$F$135,\"A\", 'Assessment Input'!$C$2:$C$135, $I$93)","v":0},{"$f":"COUNTIFS('Assessment Input'!$G$2:$G$135,\"A\", 'Assessment Input'!$C$2:$C$135, $I$93)","v":0},{"$f":"COUNTIFS('Assessment Input'!$H$2:$H$135,\"A\", 'Assessment Input'!$C$2:$C$135, $I$93)","v":0},{"$f":"COUNTIFS('Assessment Input'!$I$2:$I$135,\"A\", 'Assessment Input'!$C$2:$C$135, $I$93)","v":0},{"$f":"COUNTIFS('Assessment Input'!$J$2:$J$135,\"A\", 'Assessment Input'!$C$2:$C$135, $I$93)","v":0}]
["Total:",{"$f":"SUM(B94:B104)","v":1},1,1,1,1,1,null,"Total:",{"$f":"SUM(J94:J104)","v":0},0,0,0,0,0]
[]
[null,{"$f":"'Assessment Input'!$F$1","v":"Reading"},{"$f":"'Assessment Input'!$G$1","v":"Writing"},{"$f":"'Assessment Input'!$H$1","v":"Maths"},{"$f":"'Assessment Input'!$I$1","v":"Science "},"GP&S","Re/Wr/Ma",null,null,{"$f":"'Assessment Input'!$F$1","v":"Reading"},{"$f":"'Assessment Input'!$G$1","v":"Writing"},{"$f":"'Assessment Input'!$H$1","v":"Maths"},{"$f":"'Assessment Input'!$I$1","v":"Science "},"GP&S","Re/Wr/Ma"]
[null,{"$f":"'Assessment Input'!$M$18 &\": \"&Sheet1!$I$5&\" (/\"&B26&\")\"","v":"Males: % at (/1)"},null,null,null,null,null,null,null,{"$f":"'Assessment Input'!$M$19 &\": \"&Sheet1!$I$5&\" (/\"&B27&\")\"","v":"Females: % at (/0)"}]
["Greater:1",{"$f":"B94/'Assessment Input'!$N$18","v":0},{"$f":"C94/'Assessment Input'!$N$18","v":1},{"$f":"D94/'Assessment Input'!$N$18","v":0},{"$f":"E94/'Assessment Input'!$N$18","v":0},{"$f":"F94/'Assessment Input'!$N$18","v":0},"Yes:",null,"Greater:1",{"$f":"J94/'Assessment Input'!$N$19","v":{"$error":"#DIV/0!"}},{"$f":"K94/'Assessment Input'!$N$19","v":{"$error":"#DIV/0!"}},{"$f":"L94/'Assessment Input'!$N$19","v":{"$error":"#DIV/0!"}},{"$f":"M94/'Assessment Input'!$N$19","v":{"$error":"#DIV/0!"}},{"$f":"N94/'Assessment Input'!$N$19","v":{"$error":"#DIV/0!"}},"Yes:"]
["Expected: 2",{"$f":"B95/'Assessment Input'!$N$18","v":1},{"$f":"C95/'Assessment Input'!$N$18","v":0},{"$f":"D95/'Assessment Input'!$N$18","v":1},{"$f":"E95/'Assessment Input'!$N$18","v":0},{"$f":"F95/'Assessment Input'!$N$18","v":1},{"$f":"G95/'Assessment Input'!$N$18","v":1},null,"Expected: 2",{"$f":"J95/'Assessment Input'!$N$19","v":{"$error":"#DIV/0!"}},{"$f":"K95/'Assessment Input'!$N$19","v":{"$error":"#DIV/0!"}},{"$f":"L95/'Assessment Input'!$N$19","v":{"$error":"#DIV/0!"}},{"$f":"M95/'Assessment Input'!$N$19","v":{"$error":"#DIV/0!"}},{"$f":"N95/'Assessment Input'!$N$19","v":{"$error":"#DIV/0!"}},{"$f":"O95/'Assessment Input'!$N$19","v":{"$error":"#DIV/0!"}}]
["Towards: 3",{"$f":"B96/'Assessment Input'!$N$18","v":0},{"$f":"C96/'Assessment Input'!$N$18","v":0},{"$f":"D96/'Assessment Input'!$N$18","v":0},{"$f":"E96/'Assessment Input'!$N$18","v":0},{"$f":"F96/'Assessment Input'!$N$18","v":0},"No:",null,"Towards: 3",{"$f":"J96/'Assessment Input'!$N$19","v":{"$error":"#DIV/0!"}},{"$f":"K96/'Assessment Input'!$N$19","v":{"$error":"#DIV/0!"}},{"$f":"L96/'Assessment Input'!$N$19","v":{"$error":"#DIV/0!"}},{"$f":"M96/'Assessment Input'!$N$19","v":{"$error":"#DIV/0!"}},{"$f":"N96/'Assessment Input'!$N$19","v":{"$error":"#DIV/0!"}},"No:"]
["Growing: 4",{"$f":"B97/'Assessment Input'!$N$18","v":0},{"$f":"C97/'Assessment Input'!$N$18","v":0},{"$f":"D97/'Assessment Input'!$N$18","v":0},{"$f":"E97/'Assessment Input'!$N$18","v":0},{"$f":"F97/'Assessment Input'!$N$18","v":0},{"$f":"G97/'Assessment Input'!$N$18","v":0},null,"Growing: 4",{"$f":"J97/'Assessment Input'!$N$19","v":{"$error":"#DIV/0!"}},{"$f":"K97/'Assessment Input'!$N$19","v":{"$error":"#DIV/0!"}},{"$f":"L97/'Assessment Input'!$N$19","v":{"$error":"#DIV/0!"}},{"$f":"M97/'Assessment Input'!$N$19","v":{"$error":"#DIV/0!"}},{"$f":"N97/'Assessment Input'!$N$19","v":{"$error":"#DIV/0!"}},{"$f":"O97/'Assessment Input'!$N$19","v":{"$error":"#DIV/0!"}}]
["Early: 5",{"$f":"B98/'Assessment Input'!$N$18","v":0},{"$f":"C98/'Assessment Input'!$N$18","v":0},{"$f":"D98/'Assessment Input'!$N$18","v":0},{"$f":"E98/'Assessment Input'!$N$18","v":0},{"$f":"F98/'Assessment Input'!$N$18","v":0},null,null,"Early: 5",{"$f":"J98/'Assessment Input'!$N$19","v":{"$error":"#DIV/0!"}},{"$f":"K98/'Assessment Input'!$N$19","v":{"$error":"#DIV/0!"}},{"$f":"L98/'Assessment Input'!$N$19","v":{"$error":"#DIV/0!"}},{"$f":"M98/'Assessment Input'!$N$19","v":{"$error":"#DIV/0!"}},{"$f":"N98/'Assessment Input'!$N$19","v":{"$error":"#DIV/0!"}}]
["Foundations 6",{"$f":"B99/'Assessment Input'!$N$18","v":0},{"$f":"C99/'Assessment Input'!$N$18","v":0},{"$f":"D99/'Assessment Input'!$N$18","v":0},{"$f":"E99/'Assessment Input'!$N$18","v":0},{"$f":"F99/'Assessment Input'!$N$18","v":0},null,null,"Foundations 6",{"$f":"J99/'Assessment Input'!$N$19","v":{"$error":"#DIV/0!"}},{"$f":"K99/'Assessment Input'!$N$19","v":{"$error":"#DIV/0!"}},{"$f":"L99/'Assessment Input'!$N$19","v":{"$error":"#DIV/0!"}},{"$f":"M99/'Assessment Input'!$N$19","v":{"$error":"#DIV/0!"}},{"$f":"N99/'Assessment Input'!$N$19","v":{"$error":"#DIV/0!"}}]
["Below: 7",{"$f":"B100/'Assessment Input'!$N$18","v":0},{"$f":"C100/'Assessment Input'!$N$18","v":0},{"$f":"D100/'Assessment Input'!$N$18","v":0},{"$f":"E100/'Assessment Input'!$N$18","v":0},{"$f":"F100/'Assessment Input'!$N$18","v":0},null,null,"Below: 7",{"$f":"J100/'Assessment Input'!$N$19","v":{"$error":"#DIV/0!"}},{"$f":"K100/'Assessment Input'!$N$19","v":{"$error":"#DIV/0!"}},{"$f":"L100/'Assessment Input'!$N$19","v":{"$error":"#DIV/0!"}},{"$f":"M100/'Assessment Input'!$N$19","v":{"$error":"#DIV/0!"}},{"$f":"N100/'Assessment Input'!$N$19","v":{"$error":"#DIV/0!"}}]
["Not met: 8",{"$f":"B101/'Assessment Input'!$N$18","v":0},{"$f":"C101/'Assessment Input'!$N$18","v":0},{"$f":"D101/'Assessment Input'!$N$18","v":0},{"$f":"E101/'Assessment Input'!$N$18","v":1},{"$f":"F101/'Assessment Input'!$N$18","v":0},null,null,"Not met: 8",{"$f":"J101/'Assessment Input'!$N$19","v":{"$error":"#DIV/0!"}},{"$f":"K101/'Assessment Input'!$N$19","v":{"$error":"#DIV/0!"}},{"$f":"L101/'Assessment Input'!$N$19","v":{"$error":"#DIV/0!"}},{"$f":"M101/'Assessment Input'!$N$19","v":{"$error":"#DIV/0!"}},{"$f":"N101/'Assessment Input'!$N$19","v":{"$error":"#DIV/0!"}}]
["p-levels: w",{"$f":"B102/'Assessment Input'!$N$18","v":0},{"$f":"C102/'Assessment Input'!$N$18","v":0},{"$f":"D102/'Assessment Input'!$N$18","v":0},{"$f":"E102/'Assessment Input'!$N$18","v":0},{"$f":"F102/'Assessment Input'!$N$18","v":0},null,null,"p-levels: w",{"$f":"J102/'Assessment Input'!$N$19","v":{"$error":"#DIV/0!"}},{"$f":"K102/'Assessment Input'!$N$19","v":{"$error":"#DIV/0!"}},{"$f":"L102/'Assessment Input'!$N$19","v":{"$error":"#DIV/0!"}},{"$f":"M102/'Assessment Input'!$N$19","v":{"$error":"#DIV/0!"}},{"$f":"N102/'Assessment Input'!$N$19","v":{"$error":"#DIV/0!"}}]
["blank",{"$f":"B103/'Assessment Input'!$N$18","v":0},{"$f":"C103/'Assessment Input'!$N$18","v":0},{"$f":"D103/'Assessment Input'!$N$18","v":0},{"$f":"E103/'Assessment Input'!$N$18","v":0},{"$f":"F103/'Assessment Input'!$N$18","v":0},null,null,"blank",{"$f":"J103/'Assessment Input'!$N$19","v":{"$error":"#DIV/0!"}},{"$f":"K103/'Assessment Input'!$N$19","v":{"$error":"#DIV/0!"}},{"$f":"L103/'Assessment Input'!$N$19","v":{"$error":"#DIV/0!"}},{"$f":"M103/'Assessment Input'!$N$19","v":{"$error":"#DIV/0!"}},{"$f":"N103/'Assessment Input'!$N$19","v":{"$error":"#DIV/0!"}}]
["A",{"$f":"B104/'Assessment Input'!$N$18","v":0},{"$f":"C104/'Assessment Input'!$N$18","v":0},{"$f":"D104/'Assessment Input'!$N$18","v":0},{"$f":"E104/'Assessment Input'!$N$18","v":0},{"$f":"F104/'Assessment Input'!$N$18","v":0},null,null,"A",{"$f":"J104/'Assessment Input'!$N$19","v":{"$error":"#DIV/0!"}},{"$f":"K104/'Assessment Input'!$N$19","v":{"$error":"#DIV/0!"}},{"$f":"L104/'Assessment Input'!$N$19","v":{"$error":"#DIV/0!"}},{"$f":"M104/'Assessment Input'!$N$19","v":{"$error":"#DIV/0!"}},{"$f":"N104/'Assessment Input'!$N$19","v":{"$error":"#DIV/0!"}}]
["Total:",{"$f":"SUM(B109:B119)","v":1},1,1,1,1,1,null,"Total:",{"$f":"SUM(J109:J119)","v":{"$error":"#DIV/0!"}},{"$f":"SUM(K109:K119)","v":{"$error":"#DIV/0!"}},{"$f":"SUM(L109:L119)","v":{"$error":"#DIV/0!"}},{"$f":"SUM(M109:M119)","v":{"$error":"#DIV/0!"}},{"$f":"SUM(N109:N119)","v":{"$error":"#DIV/0!"}},{"$error":"#DIV/0!"}]
[]
[null,{"$f":"'Assessment Input'!$F$1","v":"Reading"},{"$f":"'Assessment Input'!$G$1","v":"Writing"},{"$f":"'Assessment Input'!$H$1","v":"Maths"},{"$f":"'Assessment Input'!$I$1","v":"Science "},"GP&S","Re/Wr/Ma",null,null,{"$f":"'Assessment Input'!$F$1","v":"Reading"},{"$f":"'Assessment Input'!$G$1","v":"Writing"},{"$f":"'Assessment Input'!$H$1","v":"Maths"},{"$f":"'Assessment Input'!$I$1","v":"Science "},"GP&S","Re/Wr/Ma"]
[null,{"$f":"'Assessment Input'!$M$18 &\": \"&Sheet1!$I$6&\" (/\"&B26&\")\"","v":"Males: % and above (/1)"},null,null,null,null,null,null,null,{"$f":"'Assessment Input'!$M$19 &\": \"&Sheet1!$I$6&\" (/\"&B27&\")\"","v":"Females: % and above (/0)"}]
["Greater:1",{"$f":"B109","v":0},{"$f":"C109","v":1},{"$f":"D109","v":0},{"$f":"E109","v":0},{"$f":"F109","v":0},"Yes:",null,"Greater:1",{"$f":"J109","v":{"$error":"#DIV/0!"}},{"$f":"K109","v":{"$error":"#DIV/0!"}},{"$f":"L109","v":{"$error":"#DIV/0!"}},{"$f":"M109","v":{"$error":"#DIV/0!"}},{"$f":"N109","v":{"$error":"#DIV/0!"}},"Yes:"]
["Expected: 2",{"$f":"SUM($B$109:B110)","v":1},{"$f":"SUM($C$109:C110)","v":1},{"$f":"SUM($D$109:D110)","v":1},{"$f":"SUM($E$109:E110)","v":0},{"$f":"SUM($F$109:F110)","v":1},{"$f":"SUM($G$109:G110)","v":1},null,"Expected: 2",{"$f":"SUM($J$109:J110)","v":{"$error":"#DIV/0!"}},{"$f":"SUM($K$109:K110)","v":{"$error":"#DIV/0!"}},{"$f":"SUM($L$109:L110)","v":{"$error":"#DIV/0!"}},{"$f":"SUM(M$109:M110)","v":{"$error":"#DIV/0!"}},{"$f":"SUM(N$109:N110)","v":{"$error":"#DIV/0!"}},{"$f":"SUM(O$109:O110)","v":{"$error":"#DIV/0!"}}]
["Towards: 3",{"$f":"SUM($B$109:B111)","v":1},{"$f":"SUM($C$109:C111)","v":1},{"$f":"SUM($D$109:D111)","v":1},{"$f":"SUM($E$109:E111)","v":0},{"$f":"SUM($F$109:F111)","v":1},"No:",null,"Towards: 3",{"$f":"SUM($J$109:J111)","v":{"$error":"#DIV/0!"}},{"$f":"SUM($K$109:K111)","v":{"$error":"#DIV/0!"}},{"$f":"SUM($L$109:L111)","v":{"$error":"#DIV/0!"}},{"$f":"SUM(M$109:M111)","v":{"$error":"#DIV/0!"}},{"$f":"SUM(N$109:N111)","v":{"$error":"#DIV/0!"}},"No:"]
["Growing: 4",{"$f":"SUM($B$109:B112)","v":1},{"$f":"SUM($C$109:C112)","v":1},{"$f":"SUM($D$109:D112)","v":1},{"$f":"SUM($E$109:E112)","v":0},{"$f":"SUM($F$109:F112)","v":1},{"$f":"SUM($G$109:G112)","v":1},null,"Growing: 4",{"$f":"SUM($J$109:J112)","v":{"$error":"#DIV/0!"}},{"$f":"SUM($K$109:K112)","v":{"$error":"#DIV/0!"}},{"$f":"SUM($L$109:L112)","v":{"$error":"#DIV/0!"}},{"$f":"SUM(M$109:M112)","v":{"$error":"#DIV/0!"}},{"$f":"SUM(N$109:N112)","v":{"$error":"#DIV/0!"}},{"$f":"SUM(O$109:O112)","v":{"$error":"#DIV/0!"}}]
["Early: 5",{"$f":"SUM($B$109:B113)","v":1},{"$f":"SUM($C$109:C113)","v":1},{"$f":"SUM($D$109:D113)","v":1},{"$f":"SUM($E$109:E113)","v":0},{"$f":"SUM($F$109:F113)","v":1},null,null,"Early: 5",{"$f":"SUM($J$109:J113)","v":{"$error":"#DIV/0!"}},{"$f":"SUM($K$109:K113)","v":{"$error":"#DIV/0!"}},{"$f":"SUM($L$109:L113)","v":{"$error":"#DIV/0!"}},{"$f":"SUM(M$109:M113)","v":{"$error":"#DIV/0!"}},{"$f":"SUM(N$109:N113)","v":{"$error":"#DIV/0!"}}]
["Foundations 6",{"$f":"SUM($B$109:B114)","v":1},{"$f":"SUM($C$109:C114)","v":1},{"$f":"SUM($D$109:D114)","v":1},{"$f":"SUM($E$109:E114)","v":0},{"$f":"SUM($F$109:F114)","v":1},null,null,"Foundations 6",{"$f":"SUM($J$109:J114)","v":{"$error":"#DIV/0!"}},{"$f":"SUM($K$109:K114)","v":{"$error":"#DIV/0!"}},{"$f":"SUM($L$109:L114)","v":{"$error":"#DIV/0!"}},{"$f":"SUM(M$109:M114)","v":{"$error":"#DIV/0!"}},{"$f":"SUM(N$109:N114)","v":{"$error":"#DIV/0!"}}]
["Below: 7",{"$f":"SUM($B$109:B115)","v":1},{"$f":"SUM($C$109:C115)","v":1},{"$f":"SUM($D$109:D115)","v":1},{"$f":"SUM($E$109:E115)","v":0},{"$f":"SUM($F$109:F115)","v":1},null,null,"Below: 7",{"$f":"SUM($J$109:J115)","v":{"$error":"#DIV/0!"}},{"$f":"SUM($K$109:K115)","v":{"$error":"#DIV/0!"}},{"$f":"SUM($L$109:L115)","v":{"$error":"#DIV/0!"}},{"$f":"SUM(M$109:M115)","v":{"$error":"#DIV/0!"}},{"$f":"SUM(N$109:N115)","v":{"$error":"#DIV/0!"}}]
["Not met: 8",{"$f":"SUM($B$109:B116)","v":1},{"$f":"SUM($C$109:C116)","v":1},{"$f":"SUM($D$109:D116)","v":1},{"$f":"SUM($E$109:E116)","v":1},{"$f":"SUM($F$109:F116)","v":1},null,null,"Not met: 8",{"$f":"SUM($J$109:J116)","v":{"$error":"#DIV/0!"}},{"$f":"SUM($K$109:K116)","v":{"$error":"#DIV/0!"}},{"$f":"SUM($L$109:L116)","v":{"$error":"#DIV/0!"}},{"$f":"SUM(M$109:M116)","v":{"$error":"#DIV/0!"}},{"$f":"SUM(N$109:N116)","v":{"$error":"#DIV/0!"}}]
["p-levels: w",{"$f":"SUM($B$109:B117)","v":1},{"$f":"SUM($C$109:C117)","v":1},{"$f":"SUM($D$109:D117)","v":1},{"$f":"SUM($E$109:E117)","v":1},{"$f":"SUM($F$109:F117)","v":1},null,null,"p-levels: w",{"$f":"SUM($J$109:J117)","v":{"$error":"#DIV/0!"}},{"$f":"SUM($K$109:K117)","v":{"$error":"#DIV/0!"}},{"$f":"SUM($L$109:L117)","v":{"$error":"#DIV/0!"}},{"$f":"SUM(M$109:M117)","v":{"$error":"#DIV/0!"}},{"$f":"SUM(N$109:N117)","v":{"$error":"#DIV/0!"}}]
["blank",{"$f":"SUM($B$109:B118)","v":1},{"$f":"SUM($C$109:C118)","v":1},{"$f":"SUM($D$109:D118)","v":1},{"$f":"SUM($E$109:E118)","v":1},{"$f":"SUM($F$109:F118)","v":1},null,null,"blank",{"$f":"SUM($J$109:J118)","v":{"$error":"#DIV/0!"}},{"$f":"SUM($K$109:K118)","v":{"$error":"#DIV/0!"}},{"$f":"SUM($L$109:L118)","v":{"$error":"#DIV/0!"}},{"$f":"SUM(M$109:M118)","v":{"$error":"#DIV/0!"}},{"$f":"SUM(N$109:N118)","v":{"$error":"#DIV/0!"}}]
["A",{"$f":"SUM($B$109:B119)","v":1},{"$f":"SUM($C$109:C119)","v":1},{"$f":"SUM($D$109:D119)","v":1},{"$f":"SUM($E$109:E119)","v":1},{"$f":"SUM($F$109:F119)","v":1},null,null,"A",{"$f":"SUM($J$109:J119)","v":{"$error":"#DIV/0!"}},{"$f":"SUM($K$109:K119)","v":{"$error":"#DIV/0!"}},{"$f":"SUM($L$109:L119)","v":{"$error":"#DIV/0!"}},{"$f":"SUM(M$109:M119)","v":{"$error":"#DIV/0!"}},{"$f":"SUM(N$109:N119)","v":{"$error":"#DIV/0!"}}]
[]
[null,"SEN"]
[null,{"$f":"'Assessment Input'!$F$1","v":"Reading"},{"$f":"'Assessment Input'!$G$1","v":"Writing"},{"$f":"'Assessment Input'!$H$1","v":"Maths"},{"$f":"'Assessment Input'!$I$1","v":"Science "},"GP&S","Re/Wr/Ma",null,null,{"$f":"'Assessment Input'!$F$1","v":"Reading"},{"$f":"'Assessment Input'!$G$1","v":"Writing"},{"$f":"'Assessment Input'!$H$1","v":"Maths"},{"$f":"'Assessment Input'!$I$1","v":"Science "},"GP&S","Re/Wr/Ma"]
[null,{"$f":"'Assessment Input'!$M$20 &\": \"&Sheet1!$I$4&\" (/\"&B28&\")\"","v":"SEN: Number at (/0)"},null,null,null,null,null,null,null,{"$f":"'Assessment Input'!$M$21 &\": \"&Sheet1!$I$4&\" (/\"&B29&\")\"","v":"Non SEN: Number at (/1)"}]
["Greater:1",{"$f":"COUNTIFS('Assessment Input'!$F$2:$F$135,\"1\", 'Assessment Input'!$D$2:$D$135, \"?*\")","v":0},{"$f":"COUNTIFS('Assessment Input'!$G$2:$G$135,\"1\", 'Assessment Input'!$D$2:$D$135, \"?*\")","v":0},{"$f":"COUNTIFS('Assessment Input'!$H$2:$H$135,\"1\", 'Assessment Input'!$D$2:$D$135, \"?*\")","v":0},{"$f":"COUNTIFS('Assessment Input'!$I$2:$I$135,\"1\", 'Assessment Input'!$D$2:$D$135, \"?*\")","v":0},{"$f":"COUNTIFS('Assessment Input'!$J$2:$J$135,\"1\", 'Assessment Input'!$D$2:$D$135, \"?*\")","v":0},"Yes:",null,"Greater:1",{"$f":"COUNTIFS('Assessment Input'!$F$2:$F$135,\"1\", 'Assessment Input'!$D$2:$D$135, \"\")","v":0},{"$f":"COUNTIFS('Assessment Input'!$G$2:$G$135,\"1\", 'Assessment Input'!$D$2:$D$135, \"\")","v":1},{"$f":"COUNTIFS('Assessment Input'!$H$2:$H$135,\"1\", 'Assessment Input'!$D$2:$D$135, \"\")","v":0},{"$f":"COUNTIFS('Assessment Input'!$I$2:$I$135,\"1\", 'Assessment Input'!$D$2:$D$135, \"\")","v":0},{"$f":"COUNTIFS('Assessment Input'!$J$2:$J$135,\"1\", 'Assessment Input'!$D$2:$D$135, \"\")","v":0},"Yes:"]
["Expected: 2",{"$f":"COUNTIFS('Assessment Input'!$F$2:$F$135,\"2\", 'Assessment Input'!$D$2:$D$135, \"?*\")","v":0},{"$f":"COUNTIFS('Assessment Input'!$G$2:$G$135,\"2\", 'Assessment Input'!$D$2:$D$135, \"?*\")","v":0},{"$f":"COUNTIFS('Assessment Input'!$H$2:$H$135,\"2\", 'Assessment Input'!$D$2:$D$135, \"?*\")","v":0},{"$f":"COUNTIFS('Assessment Input'!$I$2:$I$135,\"2\", 'Assessment Input'!$D$2:$D$135, \"?*\")","v":0},{"$f":"COUNTIFS('Assessment Input'!$J$2:$J$135,\"2\", 'Assessment Input'!$D$2:$D$135, \"?*\")","v":0},{"$f":"COUNTIFS('Assessment Input'!$K$2:$K$135,\"Y\", 'Assessment Input'!$D$2:$D$135, \"?*\")","v":0},null,"Expected: 2",{"$f":"COUNTIFS('Assessment Input'!$F$2:$F$135,\"2\", 'Assessment Input'!$D$2:$D$135, \"\")","v":1},{"$f":"COUNTIFS('Assessment Input'!$G$2:$G$135,\"2\", 'Assessment Input'!$D$2:$D$135, \"\")","v":0},{"$f":"COUNTIFS('Assessment Input'!$H$2:$H$135,\"2\", 'Assessment Input'!$D$2:$D$135, \"\")","v":1},{"$f":"COUNTIFS('Assessment Input'!$I$2:$I$135,\"2\", 'Assessment Input'!$D$2:$D$135, \"\")","v":0},{"$f":"COUNTIFS('Assessment Input'!$J$2:$J$135,\"2\", 'Assessment Input'!$D$2:$D$135, \"\")","v":1},{"$f":"COUNTIFS('Assessment Input'!$K$2:$K$135,\"Y\", 'Assessment Input'!$D$2:$D$135, \"\")","v":1}]
["Towards: 3",{"$f":"COUNTIFS('Assessment Input'!$F$2:$F$135,\"3\", 'Assessment Input'!$D$2:$D$135, \"?*\")","v":0},{"$f":"COUNTIFS('Assessment Input'!$G$2:$G$135,\"3\", 'Assessment Input'!$D$2:$D$135, \"?*\")","v":0},{"$f":"COUNTIFS('Assessment Input'!$H$2:$H$135,\"3\", 'Assessment Input'!$D$2:$D$135, \"?*\")","v":0},{"$f":"COUNTIFS('Assessment Input'!$I$2:$I$135,\"3\", 'Assessment Input'!$D$2:$D$135, \"?*\")","v":0},{"$f":"COUNTIFS('Assessment Input'!$J$2:$J$135,\"3\", 'Assessment Input'!$D$2:$D$135, \"?*\")","v":0},"No:",null,"Towards: 3",{"$f":"COUNTIFS('Assessment Input'!$F$2:$F$135,\"3\", 'Assessment Input'!$D$2:$D$135, \"\")","v":0},{"$f":"COUNTIFS('Assessment Input'!$G$2:$G$135,\"3\", 'Assessment Input'!$D$2:$D$135, \"\")","v":0},{"$f":"COUNTIFS('Assessment Input'!$H$2:$H$135,\"3\", 'Assessment Input'!$D$2:$D$135, \"\")","v":0},{"$f":"COUNTIFS('Assessment Input'!$I$2:$I$135,\"3\", 'Assessment Input'!$D$2:$D$135, \"\")","v":0},{"$f":"COUNTIFS('Assessment Input'!$J$2:$J$135,\"3\", 'Assessment Input'!$D$2:$D$135, \"\")","v":0},"No:"]
["Growing: 4",{"$f":"COUNTIFS('Assessment Input'!$F$2:$F$135,\"4\", 'Assessment Input'!$D$2:$D$135, \"?*\")","v":0},{"$f":"COUNTIFS('Assessment Input'!$G$2:$G$135,\"4\", 'Assessment Input'!$D$2:$D$135, \"?*\")","v":0},{"$f":"COUNTIFS('Assessment Input'!$H$2:$H$135,\"4\", 'Assessment Input'!$D$2:$D$135, \"?*\")","v":0},{"$f":"COUNTIFS('Assessment Input'!$I$2:$I$135,\"4\", 'Assessment Input'!$D$2:$D$135, \"?*\")","v":0},{"$f":"COUNTIFS('Assessment Input'!$J$2:$J$135,\"4\", 'Assessment Input'!$D$2:$D$135, \"?*\")","v":0},{"$f":"COUNTIFS('Assessment Input'!$K$2:$K$135,\"N\", 'Assessment Input'!$D$2:$D$135, \"?*\")","v":0},null,"Growing: 4",{"$f":"COUNTIFS('Assessment Input'!$F$2:$F$135,\"4\", 'Assessment Input'!$D$2:$D$135, \"\")","v":0},{"$f":"COUNTIFS('Assessment Input'!$G$2:$G$135,\"4\", 'Assessment Input'!$D$2:$D$135, \"\")","v":0},{"$f":"COUNTIFS('Assessment Input'!$H$2:$H$135,\"4\", 'Assessment Input'!$D$2:$D$135, \"\")","v":0},{"$f":"COUNTIFS('Assessment Input'!$I$2:$I$135,\"4\", 'Assessment Input'!$D$2:$D$135, \"\")","v":0},{"$f":"COUNTIFS('Assessment Input'!$J$2:$J$135,\"4\", 'Assessment Input'!$D$2:$D$135, \"\")","v":0},{"$f":"COUNTIFS('Assessment Input'!$K$2:$K$135,\"N\", 'Assessment Input'!$D$2:$D$135, \"\")","v":0}]
["Early: 5",{"$f":"COUNTIFS('Assessment Input'!$F$2:$F$135,\"5\", 'Assessment Input'!$D$2:$D$135, \"?*\")","v":0},{"$f":"COUNTIFS('Assessment Input'!$G$2:$G$135,\"5\", 'Assessment Input'!$D$2:$D$135, \"?*\")","v":0},{"$f":"COUNTIFS('Assessment Input'!$H$2:$H$135,\"5\", 'Assessment Input'!$D$2:$D$135, \"?*\")","v":0},{"$f":"COUNTIFS('Assessment Input'!$I$2:$I$135,\"5\", 'Assessment Input'!$D$2:$D$135, \"?*\")","v":0},{"$f":"COUNTIFS('Assessment Input'!$J$2:$J$135,\"5\", 'Assessment Input'!$D$2:$D$135, \"?*\")","v":0},null,null,"Early: 5",{"$f":"COUNTIFS('Assessment Input'!$F$2:$F$135,\"5\", 'Assessment Input'!$D$2:$D$135, \"\")","v":0},{"$f":"COUNTIFS('Assessment Input'!$G$2:$G$135,\"5\", 'Assessment Input'!$D$2:$D$135, \"\")","v":0},{"$f":"COUNTIFS('Assessment Input'!$H$2:$H$135,\"5\", 'Assessment Input'!$D$2:$D$135, \"\")","v":0},{"$f":"COUNTIFS('Assessment Input'!$I$2:$I$135,\"5\", 'Assessment Input'!$D$2:$D$135, \"\")","v":0},{"$f":"COUNTIFS('Assessment Input'!$J$2:$J$135,\"5\", 'Assessment Input'!$D$2:$D$135, \"\")","v":0}]
["Foundations 6",{"$f":"COUNTIFS('Assessment Input'!$F$2:$F$135,\"6\", 'Assessment Input'!$D$2:$D$135, \"?*\")","v":0},{"$f":"COUNTIFS('Assessment Input'!$G$2:$G$135,\"6\", 'Assessment Input'!$D$2:$D$135, \"?*\")","v":0},{"$f":"COUNTIFS('Assessment Input'!$H$2:$H$135,\"6\", 'Assessment Input'!$D$2:$D$135, \"?*\")","v":0},{"$f":"COUNTIFS('Assessment Input'!$I$2:$I$135,\"6\", 'Assessment Input'!$D$2:$D$135, \"?*\")","v":0},{"$f":"COUNTIFS('Assessment Input'!$J$2:$J$135,\"6\", 'Assessment Input'!$D$2:$D$135, \"?*\")","v":0},null,null,"Foundations 6",{"$f":"COUNTIFS('Assessment Input'!$F$2:$F$135,\"6\", 'Assessment Input'!$D$2:$D$135, \"\")","v":0},{"$f":"COUNTIFS('Assessment Input'!$G$2:$G$135,\"6\", 'Assessment Input'!$D$2:$D$135, \"\")","v":0},{"$f":"COUNTIFS('Assessment Input'!$H$2:$H$135,\"6\", 'Assessment Input'!$D$2:$D$135, \"\")","v":0},{"$f":"COUNTIFS('Assessment Input'!$I$2:$I$135,\"6\", 'Assessment Input'!$D$2:$D$135, \"\")","v":0},{"$f":"COUNTIFS('Assessment Input'!$J$2:$J$135,\"6\", 'Assessment Input'!$D$2:$D$135, \"\")","v":0}]
["Below: 7",{"$f":"COUNTIFS('Assessment Input'!$F$2:$F$135,\"7\", 'Assessment Input'!$D$2:$D$135, \"?*\")","v":0},{"$f":"COUNTIFS('Assessment Input'!$G$2:$G$135,\"7\", 'Assessment Input'!$D$2:$D$135, \"?*\")","v":0},{"$f":"COUNTIFS('Assessment Input'!$H$2:$H$135,\"7\", 'Assessment Input'!$D$2:$D$135, \"?*\")","v":0},{"$f":"COUNTIFS('Assessment Input'!$I$2:$I$135,\"7\", 'Assessment Input'!$D$2:$D$135, \"?*\")","v":0},{"$f":"COUNTIFS('Assessment Input'!$J$2:$J$135,\"7\", 'Assessment Input'!$D$2:$D$135, \"?*\")","v":0},null,null,"Below: 7",{"$f":"COUNTIFS('Assessment Input'!$F$2:$F$135,\"7\", 'Assessment Input'!$D$2:$D$135, \"\")","v":0},{"$f":"COUNTIFS('Assessment Input'!$G$2:$G$135,\"7\", 'Assessment Input'!$D$2:$D$135, \"\")","v":0},{"$f":"COUNTIFS('Assessment Input'!$H$2:$H$135,\"7\", 'Assessment Input'!$D$2:$D$135, \"\")","v":0},{"$f":"COUNTIFS('Assessment Input'!$I$2:$I$135,\"7\", 'Assessment Input'!$D$2:$D$135, \"\")","v":0},{"$f":"COUNTIFS('Assessment Input'!$J$2:$J$135,\"7\", 'Assessment Input'!$D$2:$D$135, \"\")","v":0}]
["Not met: 8",{"$f":"COUNTIFS('Assessment Input'!$F$2:$F$135,\"8\", 'Assessment Input'!$D$2:$D$135, \"?*\")","v":0},{"$f":"COUNTIFS('Assessment Input'!$G$2:$G$135,\"8\", 'Assessment Input'!$D$2:$D$135, \"?*\")","v":0},{"$f":"COUNTIFS('Assessment Input'!$H$2:$H$135,\"8\", 'Assessment Input'!$D$2:$D$135, \"?*\")","v":0},{"$f":"COUNTIFS('Assessment Input'!$I$2:$I$135,\"8\", 'Assessment Input'!$D$2:$D$135, \"?*\")","v":0},{"$f":"COUNTIFS('Assessment Input'!$J$2:$J$135,\"8\", 'Assessment Input'!$D$2:$D$135, \"?*\")","v":0},null,null,"Not met: 8",{"$f":"COUNTIFS('Assessment Input'!$F$2:$F$135,\"8\", 'Assessment Input'!$D$2:$D$135, \"\")","v":0},{"$f":"COUNTIFS('Assessment Input'!$G$2:$G$135,\"8\", 'Assessment Input'!$D$2:$D$135, \"\")","v":0},{"$f":"COUNTIFS('Assessment Input'!$H$2:$H$135,\"8\", 'Assessment Input'!$D$2:$D$135, \"\")","v":0},{"$f":"COUNTIFS('Assessment Input'!$I$2:$I$135,\"8\", 'Assessment Input'!$D$2:$D$135, \"\")","v":1},{"$f":"COUNTIFS('Assessment Input'!$J$2:$J$135,\"8\", 'Assessment Input'!$D$2:$D$135, \"\")","v":0}]
["p-levels: w",{"$f":"COUNTIFS('Assessment Input'!$F$2:$F$135,\"w\", 'Assessment Input'!$D$2:$D$135, \"?*\")","v":0},{"$f":"COUNTIFS('Assessment Input'!$G$2:$G$135,\"w\", 'Assessment Input'!$D$2:$D$135, \"?*\")","v":0},{"$f":"COUNTIFS('Assessment Input'!$H$2:$H$135,\"w\", 'Assessment Input'!$D$2:$D$135, \"?*\")","v":0},{"$f":"COUNTIFS('Assessment Input'!$I$2:$I$135,\"w\", 'Assessment Input'!$D$2:$D$135, \"?*\")","v":0},{"$f":"COUNTIFS('Assessment Input'!$J$2:$J$135,\"w\", 'Assessment Input'!$D$2:$D$135, \"?*\")","v":0},null,null,"p-levels: w",{"$f":"COUNTIFS('Assessment Input'!$F$2:$F$135,\"w\", 'Assessment Input'!$D$2:$D$135, \"\")","v":0},{"$f":"COUNTIFS('Assessment Input'!$G$2:$G$135,\"w\", 'Assessment Input'!$D$2:$D$135, \"\")","v":0},{"$f":"COUNTIFS('Assessment Input'!$H$2:$H$135,\"w\", 'Assessment Input'!$D$2:$D$135, \"\")","v":0},{"$f":"COUNTIFS('Assessment Input'!$I$2:$I$135,\"w\", 'Assessment Input'!$D$2:$D$135, \"\")","v":0},{"$f":"COUNTIFS('Assessment Input'!$J$2:$J$135,\"w\", 'Assessment Input'!$D$2:$D$135, \"\")","v":0}]
["blank",{"$f":"COUNTIFS('Assessment Input'!$F$2:$F$135,\"\", 'Assessment Input'!$D$2:$D$135, \"?*\")","v":0},{"$f":"COUNTIFS('Assessment Input'!$G$2:$G$135,\"\", 'Assessment Input'!$D$2:$D$135, \"?*\")","v":0},{"$f":"COUNTIFS('Assessment Input'!$H$2:$H$135,\"\", 'Assessment Input'!$D$2:$D$135, \"?*\")","v":0},{"$f":"COUNTIFS('Assessment Input'!$I$2:$I$135,\"\", 'Assessment Input'!$D$2:$D$135, \"?*\")","v":0},{"$f":"COUNTIFS('Assessment Input'!$J$2:$J$135,\"\", 'Assessment Input'!$D$2:$D$135, \"?*\")","v":0},null,null,"blank",{"$f":"COUNTIFS('Assessment Input'!$A$2:$A$135,\"?*\",'Assessment Input'!$F$2:$F$135,\"\", 'Assessment Input'!$D$2:$D$135, \"\")","v":0},{"$f":"COUNTIFS('Assessment Input'!$A$2:$A$135,\"?*\",'Assessment Input'!$G$2:$G$135,\"\", 'Assessment Input'!$D$2:$D$135, \"\")","v":0},{"$f":"COUNTIFS('Assessment Input'!$A$2:$A$135,\"?*\",'Assessment Input'!$H$2:$H$135,\"\", 'Assessment Input'!$D$2:$D$135, \"\")","v":0},{"$f":"COUNTIFS('Assessment Input'!$A$2:$A$135,\"?*\",'Assessment Input'!$I$2:$I$135,\"\", 'Assessment Input'!$D$2:$D$135, \"\")","v":0},{"$f":"COUNTIFS('Assessment Input'!$A$2:$A$135,\"?*\",'Assessment Input'!$J$2:$J$135,\"\", 'Assessment Input'!$D$2:$D$135, \"\")","v":0}]
["A",{"$f":"COUNTIFS('Assessment Input'!$F$2:$F$135,\"a\", 'Assessment Input'!$D$2:$D$135, \"?*\")","v":0},{"$f":"COUNTIFS('Assessment Input'!$G$2:$G$135,\"a\", 'Assessment Input'!$D$2:$D$135, \"?*\")","v":0},{"$f":"COUNTIFS('Assessment Input'!$H$2:$H$135,\"a\", 'Assessment Input'!$D$2:$D$135, \"?*\")","v":0},{"$f":"COUNTIFS('Assessment Input'!$I$2:$I$135,\"a\", 'Assessment Input'!$D$2:$D$135, \"?*\")","v":0},{"$f":"COUNTIFS('Assessment Input'!$J$2:$J$135,\"a\", 'Assessment Input'!$D$2:$D$135, \"?*\")","v":0},null,null,"A",{"$f":"COUNTIFS('Assessment Input'!$F$2:$F$135,\"a\", 'Assessment Input'!$D$2:$D$135, \"\")","v":0},{"$f":"COUNTIFS('Assessment Input'!$G$2:$G$135,\"a\", 'Assessment Input'!$D$2:$D$135, \"\")","v":0},{"$f":"COUNTIFS('Assessment Input'!$H$2:$H$135,\"a\", 'Assessment Input'!$D$2:$D$135, \"\")","v":0},{"$f":"COUNTIFS('Assessment Input'!$I$2:$I$135,\"a\", 'Assessment Input'!$D$2:$D$135, \"\")","v":0},{"$f":"COUNTIFS('Assessment Input'!$J$2:$J$135,\"a\", 'Assessment Input'!$D$2:$D$135, \"\")","v":0}]
["Total:",{"$f":"SUM(B139:B149)","v":0},0,0,0,0,0,null,"Total:",{"$f":"SUM(J139:J149)","v":1},1,1,1,1,1]
[]
[null,{"$f":"'Assessment Input'!$F$1","v":"Reading"},{"$f":"'Assessment Input'!$G$1","v":"Writing"},{"$f":"'Assessment Input'!$H$1","v":"Maths"},{"$f":"'Assessment Input'!$I$1","v":"Science "},"GP&S","Re/Wr/Ma",null,null,{"$f":"'Assessment Input'!$F$1","v":"Reading"},{"$f":"'Assessment Input'!$G$1","v":"Writing"},{"$f":"'Assessment Input'!$H$1","v":"Maths"},{"$f":"'Assessment Input'!$I$1","v":"Science "},"GP&S","Re/Wr/Ma"]
[null,{"$f":"'Assessment Input'!$M$20 &\": \"&Sheet1!$I$5&\" (/\"&B28&\")\"","v":"SEN: % at (/0)"},null,null,null,null,null,null,null,{"$f":"'Assessment Input'!$M$21 &\": \"&Sheet1!$I$5&\" (/\"&B29&\")\"","v":"Non SEN: % at (/1)"}]
["Greater:1",{"$f":"B139/'Assessment Input'!$N$20","v":{"$error":"#DIV/0!"}},{"$f":"C139/'Assessment Input'!$N$20","v":{"$error":"#DIV/0!"}},{"$f":"D139/'Assessment Input'!$N$20","v":{"$error":"#DIV/0!"}},{"$f":"E139/'Assessment Input'!$N$20","v":{"$error":"#DIV/0!"}},{"$f":"F139/'Assessment Input'!$N$20","v":{"$error":"#DIV/0!"}},"Yes:",null,"Greater:1",{"$f":"J139/'Assessment Input'!$N$21","v":0},{"$f":"K139/'Assessment Input'!$N$21","v":1},{"$f":"L139/'Assessment Input'!$N$21","v":0},{"$f":"M139/'Assessment Input'!$N$21","v":0},{"$f":"N139/'Assessment Input'!$N$21","v":0},"Yes:"]
["Expected: 2",{"$f":"B140/'Assessment Input'!$N$20","v":{"$error":"#DIV/0!"}},{"$f":"C140/'Assessment Input'!$N$20","v":{"$error":"#DIV/0!"}},{"$f":"D140/'Assessment Input'!$N$20","v":{"$error":"#DIV/0!"}},{"$f":"E140/'Assessment Input'!$N$20","v":{"$error":"#DIV/0!"}},{"$f":"F140/'Assessment Input'!$N$20","v":{"$error":"#DIV/0!"}},{"$f":"G140/'Assessment Input'!$N$20","v":{"$error":"#DIV/0!"}},null,"Expected: 2",{"$f":"J140/'Assessment Input'!$N$21","v":1},{"$f":"K140/'Assessment Input'!$N$21","v":0},{"$f":"L140/'Assessment Input'!$N$21","v":1},{"$f":"M140/'Assessment Input'!$N$21","v":0},{"$f":"N140/'Assessment Input'!$N$21","v":1},{"$f":"O140/'Assessment Input'!$N$21","v":1}]
["Towards: 3",{"$f":"B141/'Assessment Input'!$N$20","v":{"$error":"#DIV/0!"}},{"$f":"C141/'Assessment Input'!$N$20","v":{"$error":"#DIV/0!"}},{"$f":"D141/'Assessment Input'!$N$20","v":{"$error":"#DIV/0!"}},{"$f":"E141/'Assessment Input'!$N$20","v":{"$error":"#DIV/0!"}},{"$f":"F141/'Assessment Input'!$N$20","v":{"$error":"#DIV/0!"}},"No:",null,"Towards: 3",{"$f":"J141/'Assessment Input'!$N$21","v":0},{"$f":"K141/'Assessment Input'!$N$21","v":0},{"$f":"L141/'Assessment Input'!$N$21","v":0},{"$f":"M141/'Assessment Input'!$N$21","v":0},{"$f":"N141/'Assessment Input'!$N$21","v":0},"No:"]
["Growing: 4",{"$f":"B142/'Assessment Input'!$N$20","v":{"$error":"#DIV/0!"}},{"$f":"C142/'Assessment Input'!$N$20","v":{"$error":"#DIV/0!"}},{"$f":"D142/'Assessment Input'!$N$20","v":{"$error":"#DIV/0!"}},{"$f":"E142/'Assessment Input'!$N$20","v":{"$error":"#DIV/0!"}},{"$f":"F142/'Assessment Input'!$N$20","v":{"$error":"#DIV/0!"}},{"$f":"G142/'Assessment Input'!$N$20","v":{"$error":"#DIV/0!"}},null,"Growing: 4",{"$f":"J142/'Assessment Input'!$N$21","v":0},{"$f":"K142/'Assessment Input'!$N$21","v":0},{"$f":"L142/'Assessment Input'!$N$21","v":0},{"$f":"M142/'Assessment Input'!$N$21","v":0},{"$f":"N142/'Assessment Input'!$N$21","v":0},{"$f":"O142/'Assessment Input'!$N$21","v":0}]
["Early: 5",{"$f":"B143/'Assessment Input'!$N$20","v":{"$error":"#DIV/0!"}},{"$f":"C143/'Assessment Input'!$N$20","v":{"$error":"#DIV/0!"}},{"$f":"D143/'Assessment Input'!$N$20","v":{"$error":"#DIV/0!"}},{"$f":"E143/'Assessment Input'!$N$20","v":{"$error":"#DIV/0!"}},{"$f":"F143/'Assessment Input'!$N$20","v":{"$error":"#DIV/0!"}},null,null,"Early: 5",{"$f":"J143/'Assessment Input'!$N$21","v":0},{"$f":"K143/'Assessment Input'!$N$21","v":0},{"$f":"L143/'Assessment Input'!$N$21","v":0},{"$f":"M143/'Assessment Input'!$N$21","v":0},{"$f":"N143/'Assessment Input'!$N$21","v":0}]
["Foundations 6",{"$f":"B144/'Assessment Input'!$N$20","v":{"$error":"#DIV/0!"}},{"$f":"C144/'Assessment Input'!$N$20","v":{"$error":"#DIV/0!"}},{"$f":"D144/'Assessment Input'!$N$20","v":{"$error":"#DIV/0!"}},{"$f":"E144/'Assessment Input'!$N$20","v":{"$error":"#DIV/0!"}},{"$f":"F144/'Assessment Input'!$N$20","v":{"$error":"#DIV/0!"}},null,null,"Foundations 6",{"$f":"J144/'Assessment Input'!$N$21","v":0},{"$f":"K144/'Assessment Input'!$N$21","v":0},{"$f":"L144/'Assessment Input'!$N$21","v":0},{"$f":"M144/'Assessment Input'!$N$21","v":0},{"$f":"N144/'Assessment Input'!$N$21","v":0}]
["Below: 7",{"$f":"B145/'Assessment Input'!$N$20","v":{"$error":"#DIV/0!"}},{"$f":"C145/'Assessment Input'!$N$20","v":{"$error":"#DIV/0!"}},{"$f":"D145/'Assessment Input'!$N$20","v":{"$error":"#DIV/0!"}},{"$f":"E145/'Assessment Input'!$N$20","v":{"$error":"#DIV/0!"}},{"$f":"F145/'Assessment Input'!$N$20","v":{"$error":"#DIV/0!"}},null,null,"Below: 7",{"$f":"J145/'Assessment Input'!$N$21","v":0},{"$f":"K145/'Assessment Input'!$N$21","v":0},{"$f":"L145/'Assessment Input'!$N$21","v":0},{"$f":"M145/'Assessment Input'!$N$21","v":0},{"$f":"N145/'Assessment Input'!$N$21","v":0}]
["Not met: 8",{"$f":"B146/'Assessment Input'!$N$20","v":{"$error":"#DIV/0!"}},{"$f":"C146/'Assessment Input'!$N$20","v":{"$error":"#DIV/0!"}},{"$f":"D146/'Assessment Input'!$N$20","v":{"$error":"#DIV/0!"}},{"$f":"E146/'Assessment Input'!$N$20","v":{"$error":"#DIV/0!"}},{"$f":"F146/'Assessment Input'!$N$20","v":{"$error":"#DIV/0!"}},null,null,"Not met: 8",{"$f":"J146/'Assessment Input'!$N$21","v":0},{"$f":"K146/'Assessment Input'!$N$21","v":0},{"$f":"L146/'Assessment Input'!$N$21","v":0},{"$f":"M146/'Assessment Input'!$N$21","v":1},{"$f":"N146/'Assessment Input'!$N$21","v":0}]
["p-levels: w",{"$f":"B147/'Assessment Input'!$N$20","v":{"$error":"#DIV/0!"}},{"$f":"C147/'Assessment Input'!$N$20","v":{"$error":"#DIV/0!"}},{"$f":"D147/'Assessment Input'!$N$20","v":{"$error":"#DIV/0!"}},{"$f":"E147/'Assessment Input'!$N$20","v":{"$error":"#DIV/0!"}},{"$f":"F147/'Assessment Input'!$N$20","v":{"$error":"#DIV/0!"}},null,null,"p-levels: w",{"$f":"J147/'Assessment Input'!$N$21","v":0},{"$f":"K147/'Assessment Input'!$N$21","v":0},{"$f":"L147/'Assessment Input'!$N$21","v":0},{"$f":"M147/'Assessment Input'!$N$21","v":0},{"$f":"N147/'Assessment Input'!$N$21","v":0}]
["blank",{"$f":"B148/'Assessment Input'!$N$20","v":{"$error":"#DIV/0!"}},{"$f":"C148/'Assessment Input'!$N$20","v":{"$error":"#DIV/0!"}},{"$f":"D148/'Assessment Input'!$N$20","v":{"$error":"#DIV/0!"}},{"$f":"E148/'Assessment Input'!$N$20","v":{"$error":"#DIV/0!"}},{"$f":"F148/'Assessment Input'!$N$20","v":{"$error":"#DIV/0!"}},null,null,"blank",{"$f":"J148/'Assessment Input'!$N$21","v":0},{"$f":"K148/'Assessment Input'!$N$21","v":0},{"$f":"L148/'Assessment Input'!$N$21","v":0},{"$f":"M148/'Assessment Input'!$N$21","v":0},{"$f":"N148/'Assessment Input'!$N$21","v":0}]
["A",{"$f":"B149/'Assessment Input'!$N$20","v":{"$error":"#DIV/0!"}},{"$f":"C149/'Assessment Input'!$N$20","v":{"$error":"#DIV/0!"}},{"$f":"D149/'Assessment Input'!$N$20","v":{"$error":"#DIV/0!"}},{"$f":"E149/'Assessment Input'!$N$20","v":{"$error":"#DIV/0!"}},{"$f":"F149/'Assessment Input'!$N$20","v":{"$error":"#DIV/0!"}},null,null,"A",{"$f":"J149/'Assessment Input'!$N$21","v":0},{"$f":"K149/'Assessment Input'!$N$21","v":0},{"$f":"L149/'Assessment Input'!$N$21","v":0},{"$f":"M149/'Assessment Input'!$N$21","v":0},{"$f":"N149/'Assessment Input'!$N$21","v":0}]
["Total:",{"$f":"SUM(B154:B164)","v":{"$error":"#DIV/0!"}},{"$error":"#DIV/0!"},{"$error":"#DIV/0!"},{"$error":"#DIV/0!"},{"$error":"#DIV/0!"},{"$error":"#DIV/0!"},null,"Total:",{"$f":"SUM(J154:J164)","v":1},1,1,1,1,1]
[]
[null,{"$f":"'Assessment Input'!$F$1","v":"Reading"},{"$f":"'Assessment Input'!$G$1","v":"Writing"},{"$f":"'Assessment Input'!$H$1","v":"Maths"},{"$f":"'Assessment Input'!$I$1","v":"Science "},"GP&S","Re/Wr/Ma",null,null,{"$f":"'Assessment Input'!$F$1","v":"Reading"},{"$f":"'Assessment Input'!$G$1","v":"Writing"},{"$f":"'Assessment Input'!$H$1","v":"Maths"},{"$f":"'Assessment Input'!$I$1","v":"Science "},"GP&S","Re/Wr/Ma"]
[null,{"$f":"'Assessment Input'!$M$20 &\": \"&Sheet1!$I$6&\" (/\"&B28&\")\"","v":"SEN: % and above (/0)"},null,null,null,null,null,null,null,{"$f":"'Assessment Input'!$M$21 &\": \"&Sheet1!$I$6&\" (/\"&B29&\")\"","v":"Non SEN: % and above (/1)"}]
["Greater:1",{"$f":"B154","v":{"$error":"#DIV/0!"}},{"$f":"C154","v":{"$error":"#DIV/0!"}},{"$f":"D154","v":{"$error":"#DIV/0!"}},{"$f":"E154","v":{"$error":"#DIV/0!"}},{"$f":"F154","v":{"$error":"#DIV/0!"}},"Yes:",null,"Greater:1",{"$f":"J154","v":0},{"$f":"K154","v":1},{"$f":"L154","v":0},{"$f":"M154","v":0},{"$f":"N154","v":0},"Yes:"]
["Expected: 2",{"$f":"SUM($B$154:B155)","v":{"$error":"#DIV/0!"}},{"$f":"SUM($C$154:C155)","v":{"$error":"#DIV/0!"}},{"$f":"SUM($D$154:D155)","v":{"$error":"#DIV/0!"}},{"$f":"SUM(E$154:E155)","v":{"$error":"#DIV/0!"}},{"$f":"SUM(F$154:F155)","v":{"$error":"#DIV/0!"}},{"$f":"SUM(G$154:G155)","v":{"$error":"#DIV/0!"}},null,"Expected: 2",{"$f":"SUM($J$154:J155)","v":1},{"$f":"SUM($K$154:K155)","v":1},{"$f":"SUM($L$154:L155)","v":1},{"$f":"SUM(M$154:M155)","v":0},{"$f":"SUM(N$154:N155)","v":1},{"$f":"SUM(O$154:O155)","v":1}]
["Towards: 3",{"$f":"SUM($B$154:B156)","v":{"$error":"#DIV/0!"}},{"$f":"SUM($C$154:C156)","v":{"$error":"#DIV/0!"}},{"$f":"SUM($D$154:D156)","v":{"$error":"#DIV/0!"}},{"$f":"SUM(E$154:E156)","v":{"$error":"#DIV/0!"}},{"$f":"SUM(F$154:F156)","v":{"$error":"#DIV/0!"}},"No:",null,"Towards: 3",{"$f":"SUM($J$154:J156)","v":1},{"$f":"SUM($K$154:K156)","v":1},{"$f":"SUM($L$154:L156)","v":1},{"$f":"SUM(M$154:M156)","v":0},{"$f":"SUM(N$154:N156)","v":1},"No:"]
["Growing: 4",{"$f":"SUM($B$154:B157)","v":{"$error":"#DIV/0!"}},{"$f":"SUM($C$154:C157)","v":{"$error":"#DIV/0!"}},{"$f":"SUM($D$154:D157)","v":{"$error":"#DIV/0!"}},{"$f":"SUM(E$154:E157)","v":{"$error":"#DIV/0!"}},{"$f":"SUM(F$154:F157)","v":{"$error":"#DIV/0!"}},{"$f":"SUM(G$154:G157)","v":{"$error":"#DIV/0!"}},null,"Growing: 4",{"$f":"SUM($J$154:J157)","v":1},{"$f":"SUM($K$154:K157)","v":1},{"$f":"SUM($L$154:L157)","v":1},{"$f":"SUM(M$154:M157)","v":0},{"$f":"SUM(N$154:N157)","v":1},{"$f":"SUM(O$154:O157)","v":1}]
["Early: 5",{"$f":"SUM($B$154:B158)","v":{"$error":"#DIV/0!"}},{"$f":"SUM($C$154:C158)","v":{"$error":"#DIV/0!"}},{"$f":"SUM($D$154:D158)","v":{"$error":"#DIV/0!"}},{"$f":"SUM(E$154:E158)","v":{"$error":"#DIV/0!"}},{"$f":"SUM(F$154:F158)","v":{"$error":"#DIV/0!"}},null,null,"Early: 5",{"$f":"SUM($J$154:J158)","v":1},{"$f":"SUM($K$154:K158)","v":1},{"$f":"SUM($L$154:L158)","v":1},{"$f":"SUM(M$154:M158)","v":0},{"$f":"SUM(N$154:N158)","v":1}]
["Foundations 6",{"$f":"SUM($B$154:B159)","v":{"$error":"#DIV/0!"}},{"$f":"SUM($C$154:C159)","v":{"$error":"#DIV/0!"}},{"$f":"SUM($D$154:D159)","v":{"$error":"#DIV/0!"}},{"$f":"SUM(E$154:E159)","v":{"$error":"#DIV/0!"}},{"$f":"SUM(F$154:F159)","v":{"$error":"#DIV/0!"}},null,null,"Foundations 6",{"$f":"SUM($J$154:J159)","v":1},{"$f":"SUM($K$154:K159)","v":1},{"$f":"SUM($L$154:L159)","v":1},{"$f":"SUM(M$154:M159)","v":0},{"$f":"SUM(N$154:N159)","v":1}]
["Below: 7",{"$f":"SUM($B$154:B160)","v":{"$error":"#DIV/0!"}},{"$f":"SUM($C$154:C160)","v":{"$error":"#DIV/0!"}},{"$f":"SUM($D$154:D160)","v":{"$error":"#DIV/0!"}},{"$f":"SUM(E$154:E160)","v":{"$error":"#DIV/0!"}},{"$f":"SUM(F$154:F160)","v":{"$error":"#DIV/0!"}},null,null,"Below: 7",{"$f":"SUM($J$154:J160)","v":1},{"$f":"SUM($K$154:K160)","v":1},{"$f":"SUM($L$154:L160)","v":1},{"$f":"SUM(M$154:M160)","v":0},{"$f":"SUM(N$154:N160)","v":1}]
["Not met: 8",{"$f":"SUM($B$154:B161)","v":{"$error":"#DIV/0!"}},{"$f":"SUM($C$154:C161)","v":{"$error":"#DIV/0!"}},{"$f":"SUM($D$154:D161)","v":{"$error":"#DIV/0!"}},{"$f":"SUM(E$154:E161)","v":{"$error":"#DIV/0!"}},{"$f":"SUM(F$154:F161)","v":{"$error":"#DIV/0!"}},null,null,"Not met: 8",{"$f":"SUM($J$154:J161)","v":1},{"$f":"SUM($K$154:K161)","v":1},{"$f":"SUM($L$154:L161)","v":1},{"$f":"SUM(M$154:M161)","v":1},{"$f":"SUM(N$154:N161)","v":1}]
["p-levels: w",{"$f":"SUM($B$154:B162)","v":{"$error":"#DIV/0!"}},{"$f":"SUM($C$154:C162)","v":{"$error":"#DIV/0!"}},{"$f":"SUM($D$154:D162)","v":{"$error":"#DIV/0!"}},{"$f":"SUM(E$154:E162)","v":{"$error":"#DIV/0!"}},{"$f":"SUM(F$154:F162)","v":{"$error":"#DIV/0!"}},null,null,"p-levels: w",{"$f":"SUM($J$154:J162)","v":1},{"$f":"SUM($K$154:K162)","v":1},{"$f":"SUM($L$154:L162)","v":1},{"$f":"SUM(M$154:M162)","v":1},{"$f":"SUM(N$154:N162)","v":1}]
["blank",{"$f":"SUM($B$154:B163)","v":{"$error":"#DIV/0!"}},{"$f":"SUM($C$154:C163)","v":{"$error":"#DIV/0!"}},{"$f":"SUM($D$154:D163)","v":{"$error":"#DIV/0!"}},{"$f":"SUM(E$154:E163)","v":{"$error":"#DIV/0!"}},{"$f":"SUM(F$154:F163)","v":{"$error":"#DIV/0!"}},null,null,"blank",{"$f":"SUM($J$154:J163)","v":1},{"$f":"SUM($K$154:K163)","v":1},{"$f":"SUM($L$154:L163)","v":1},{"$f":"SUM(M$154:M163)","v":1},{"$f":"SUM(N$154:N163)","v":1}]
["A",{"$f":"SUM($B$154:B164)","v":{"$error":"#DIV/0!"}},{"$f":"SUM($C$154:C164)","v":{"$error":"#DIV/0!"}},{"$f":"SUM($D$154:D164)","v":{"$error":"#DIV/0!"}},{"$f":"SUM(E$154:E164)","v":{"$error":"#DIV/0!"}},{"$f":"SUM(F$154:F164)","v":{"$error":"#DIV/0!"}},null,null,"A",{"$f":"SUM($J$154:J164)","v":1},{"$f":"SUM($K$154:K164)","v":1},{"$f":"SUM($L$154:L164)","v":1},{"$f":"SUM(M$154:M164)","v":1},{"$f":"SUM(N$154:N164)","v":1}]
[]
[null,"Classes"]
[null,{"$f":"'Assessment Input'!$F$1","v":"Reading"},{"$f":"'Assessment Input'!$G$1","v":"Writing"},{"$f":"'Assessment Input'!$H$1","v":"Maths"},{"$f":"'Assessment Input'!$I$1","v":"Science "},"GP&S","Re/Wr/Ma",null,null,{"$f":"'Assessment Input'!$F$1","v":"Reading"},{"$f":"'Assessment Input'!$G$1","v":"Writing"},{"$f":"'Assessment Input'!$H$1","v":"Maths"},{"$f":"'Assessment Input'!$I$1","v":"Science "},"GP&S","Re/Wr/Ma"]
[null,{"$f":"'Assessment Input'!M22 &\": \"&Sheet1!I4&\" (/\"&B30&\")\"","v":"Change me: Number at (/1)"},null,null,null,null,null,null,null,{"$f":"'Assessment Input'!$M$23 &\": \"&Sheet1!$I$4&\" (/\"&B31&\")\"","v":"Class 2: Number at (/0)"}]
["Greater:1",{"$f":"COUNTIFS('Assessment Input'!$F$2:$F$135,\"1\", 'Assessment Input'!$A$2:$A$135, 'Assessment Input'!M22)","v":0},{"$f":"COUNTIFS('Assessment Input'!$G$2:$G$135,\"1\", 'Assessment Input'!$A$2:$A$135, 'Assessment Input'!M22)","v":1},{"$f":"COUNTIFS('Assessment Input'!$H$2:$H$135,\"1\", 'Assessment Input'!$A$2:$A$135, 'Assessment Input'!M22)","v":0},{"$f":"COUNTIFS('Assessment Input'!$I$2:$I$135,\"1\", 'Assessment Input'!$A$2:$A$135, 'Assessment Input'!$M$22)","v":0},{"$f":"COUNTIFS('Assessment Input'!$J$2:$J$135,\"1\", 'Assessment Input'!$A$2:$A$135, 'Assessment Input'!$M$22)","v":0},"Yes:",null,"Greater:1",{"$f":"COUNTIFS('Assessment Input'!$F$2:$F$135,\"1\", 'Assessment Input'!$A$2:$A$135, 'Assessment Input'!$M$23)","v":0},{"$f":"COUNTIFS('Assessment Input'!$G$2:$G$135,\"1\", 'Assessment Input'!$A$2:$A$135, 'Assessment Input'!$M$23)","v":0},{"$f":"COUNTIFS('Assessment Input'!$H$2:$H$135,\"1\", 'Assessment Input'!$A$2:$A$135, 'Assessment Input'!$M$23)","v":0},{"$f":"COUNTIFS('Assessment Input'!$I$2:$I$135,\"1\", 'Assessment Input'!$A$2:$A$135, 'Assessment Input'!$M$23)","v":0},{"$f":"COUNTIFS('Assessment Input'!$J$2:$J$135,\"1\", 'Assessment Input'!$A$2:$A$135, 'Assessment Input'!$M$23)","v":0},"Yes:"]
["Expected: 2",{"$f":"COUNTIFS('Assessment Input'!$F$2:$F$135,\"2\", 'Assessment Input'!$A$2:$A$135, 'Assessment Input'!M22)","v":1},{"$f":"COUNTIFS('Assessment Input'!$G$2:$G$135,\"2\", 'Assessment Input'!$A$2:$A$135, 'Assessment Input'!M22)","v":0},{"$f":"COUNTIFS('Assessment Input'!$H$2:$H$135,\"2\", 'Assessment Input'!$A$2:$A$135, 'Assessment Input'!M22)","v":1},{"$f":"COUNTIFS('Assessment Input'!$I$2:$I$135,\"2\", 'Assessment Input'!$A$2:$A$135, 'Assessment Input'!$M$22)","v":0},{"$f":"COUNTIFS('Assessment Input'!$J$2:$J$135,\"2\", 'Assessment Input'!$A$2:$A$135, 'Assessment Input'!$M$22)","v":1},{"$f":"COUNTIFS('Assessment Input'!$K$2:$K$135,\"Y\", 'Assessment Input'!$A$2:$A$135, 'Assessment Input'!$M$22)","v":1},null,"Expected: 2",{"$f":"COUNTIFS('Assessment Input'!$F$2:$F$135,\"2\", 'Assessment Input'!$A$2:$A$135, 'Assessment Input'!$M$23)","v":0},{"$f":"COUNTIFS('Assessment Input'!$G$2:$G$135,\"2\", 'Assessment Input'!$A$2:$A$135, 'Assessment Input'!$M$23)","v":0},{"$f":"COUNTIFS('Assessment Input'!$H$2:$H$135,\"2\", 'Assessment Input'!$A$2:$A$135, 'Assessment Input'!$M$23)","v":0},{"$f":"COUNTIFS('Assessment Input'!$I$2:$I$135,\"2\", 'Assessment Input'!$A$2:$A$135, 'Assessment Input'!$M$23)","v":0},{"$f":"COUNTIFS('Assessment Input'!$J$2:$J$135,\"2\", 'Assessment Input'!$A$2:$A$135, 'Assessment Input'!$M$23)","v":0},{"$f":"COUNTIFS('Assessment Input'!$K$2:$K$135,\"Y\", 'Assessment Input'!$A$2:$A$135, 'Assessment Input'!$M$23)","v":0}]
["Towards: 3",{"$f":"COUNTIFS('Assessment Input'!$F$2:$F$135,\"3\", 'Assessment Input'!$A$2:$A$135, 'Assessment Input'!M22)","v":0},{"$f":"COUNTIFS('Assessment Input'!$G$2:$G$135,\"3\", 'Assessment Input'!$A$2:$A$135, 'Assessment Input'!M22)","v":0},{"$f":"COUNTIFS('Assessment Input'!$H$2:$H$135,\"3\", 'Assessment Input'!$A$2:$A$135, 'Assessment Input'!M22)","v":0},{"$f":"COUNTIFS('Assessment Input'!$I$2:$I$135,\"3\", 'Assessment Input'!$A$2:$A$135, 'Assessment Input'!$M$22)","v":0},{"$f":"COUNTIFS('Assessment Input'!$J$2:$J$135,\"3\", 'Assessment Input'!$A$2:$A$135, 'Assessment Input'!$M$22)","v":0},"No:",null,"Towards: 3",{"$f":"COUNTIFS('Assessment Input'!$F$2:$F$135,\"3\", 'Assessment Input'!$A$2:$A$135, 'Assessment Input'!$M$23)","v":0},{"$f":"COUNTIFS('Assessment Input'!$G$2:$G$135,\"3\", 'Assessment Input'!$A$2:$A$135, 'Assessment Input'!$M$23)","v":0},{"$f":"COUNTIFS('Assessment Input'!$H$2:$H$135,\"3\", 'Assessment Input'!$A$2:$A$135, 'Assessment Input'!$M$23)","v":0},{"$f":"COUNTIFS('Assessment Input'!$I$2:$I$135,\"3\", 'Assessment Input'!$A$2:$A$135, 'Assessment Input'!$M$23)","v":0},{"$f":"COUNTIFS('Assessment Input'!$J$2:$J$135,\"3\", 'Assessment Input'!$A$2:$A$135, 'Assessment Input'!$M$23)","v":0},"No:"]
["Growing: 4",{"$f":"COUNTIFS('Assessment Input'!$F$2:$F$135,\"4\", 'Assessment Input'!$A$2:$A$135, 'Assessment Input'!M22)","v":0},{"$f":"COUNTIFS('Assessment Input'!$G$2:$G$135,\"4\", 'Assessment Input'!$A$2:$A$135, 'Assessment Input'!M22)","v":0},{"$f":"COUNTIFS('Assessment Input'!$H$2:$H$135,\"4\", 'Assessment Input'!$A$2:$A$135, 'Assessment Input'!M22)","v":0},{"$f":"COUNTIFS('Assessment Input'!$I$2:$I$135,\"4\", 'Assessment Input'!$A$2:$A$135, 'Assessment Input'!$M$22)","v":0},{"$f":"COUNTIFS('Assessment Input'!$J$2:$J$135,\"4\", 'Assessment Input'!$A$2:$A$135, 'Assessment Input'!$M$22)","v":0},{"$f":"COUNTIFS('Assessment Input'!$K$2:$K$135,\"N\", 'Assessment Input'!$A$2:$A$135, 'Assessment Input'!$M$22)","v":0},null,"Growing: 4",{"$f":"COUNTIFS('Assessment Input'!$F$2:$F$135,\"4\", 'Assessment Input'!$A$2:$A$135, 'Assessment Input'!$M$23)","v":0},{"$f":"COUNTIFS('Assessment Input'!$G$2:$G$135,\"4\", 'Assessment Input'!$A$2:$A$135, 'Assessment Input'!$M$23)","v":0},{"$f":"COUNTIFS('Assessment Input'!$H$2:$H$135,\"4\", 'Assessment Input'!$A$2:$A$135, 'Assessment Input'!$M$23)","v":0},{"$f":"COUNTIFS('Assessment Input'!$I$2:$I$135,\"4\", 'Assessment Input'!$A$2:$A$135, 'Assessment Input'!$M$23)","v":0},{"$f":"COUNTIFS('Assessment Input'!$J$2:$J$135,\"4\", 'Assessment Input'!$A$2:$A$135, 'Assessment Input'!$M$23)","v":0},{"$f":"COUNTIFS('Assessment Input'!$K$2:$K$135,\"N\", 'Assessment Input'!$A$2:$A$135, 'Assessment Input'!$M$23)","v":0}]
["Early: 5",{"$f":"COUNTIFS('Assessment Input'!$F$2:$F$135,\"5\", 'Assessment Input'!$A$2:$A$135, 'Assessment Input'!M22)","v":0},{"$f":"COUNTIFS('Assessment Input'!$G$2:$G$135,\"5\", 'Assessment Input'!$A$2:$A$135, 'Assessment Input'!M22)","v":0},{"$f":"COUNTIFS('Assessment Input'!$H$2:$H$135,\"5\", 'Assessment Input'!$A$2:$A$135, 'Assessment Input'!M22)","v":0},{"$f":"COUNTIFS('Assessment Input'!$I$2:$I$135,\"5\", 'Assessment Input'!$A$2:$A$135, 'Assessment Input'!$M$22)","v":0},{"$f":"COUNTIFS('Assessment Input'!$J$2:$J$135,\"5\", 'Assessment Input'!$A$2:$A$135, 'Assessment Input'!$M$22)","v":0},null,null,"Early: 5",{"$f":"COUNTIFS('Assessment Input'!$F$2:$F$135,\"5\", 'Assessment Input'!$A$2:$A$135, 'Assessment Input'!$M$23)","v":0},{"$f":"COUNTIFS('Assessment Input'!$G$2:$G$135,\"5\", 'Assessment Input'!$A$2:$A$135, 'Assessment Input'!$M$23)","v":0},{"$f":"COUNTIFS('Assessment Input'!$H$2:$H$135,\"5\", 'Assessment Input'!$A$2:$A$135, 'Assessment Input'!$M$23)","v":0},{"$f":"COUNTIFS('Assessment Input'!$I$2:$I$135,\"5\", 'Assessment Input'!$A$2:$A$135, 'Assessment Input'!$M$23)","v":0},{"$f":"COUNTIFS('Assessment Input'!$J$2:$J$135,\"5\", 'Assessment Input'!$A$2:$A$135, 'Assessment Input'!$M$23)","v":0}]
["Foundations 6",{"$f":"COUNTIFS('Assessment Input'!$F$2:$F$135,\"6\", 'Assessment Input'!$A$2:$A$135, 'Assessment Input'!M22)","v":0},{"$f":"COUNTIFS('Assessment Input'!$G$2:$G$135,\"6\", 'Assessment Input'!$A$2:$A$135, 'Assessment Input'!M22)","v":0},{"$f":"COUNTIFS('Assessment Input'!$H$2:$H$135,\"6\", 'Assessment Input'!$A$2:$A$135, 'Assessment Input'!M22)","v":0},{"$f":"COUNTIFS('Assessment Input'!$I$2:$I$135,\"6\", 'Assessment Input'!$A$2:$A$135, 'Assessment Input'!$M$22)","v":0},{"$f":"COUNTIFS('Assessment Input'!$J$2:$J$135,\"6\", 'Assessment Input'!$A$2:$A$135, 'Assessment Input'!$M$22)","v":0},null,null,"Foundations 6",{"$f":"COUNTIFS('Assessment Input'!$F$2:$F$135,\"6\", 'Assessment Input'!$A$2:$A$135, 'Assessment Input'!$M$23)","v":0},{"$f":"COUNTIFS('Assessment Input'!$G$2:$G$135,\"6\", 'Assessment Input'!$A$2:$A$135, 'Assessment Input'!$M$23)","v":0},{"$f":"COUNTIFS('Assessment Input'!$H$2:$H$135,\"6\", 'Assessment Input'!$A$2:$A$135, 'Assessment Input'!$M$23)","v":0},{"$f":"COUNTIFS('Assessment Input'!$I$2:$I$135,\"6\", 'Assessment Input'!$A$2:$A$135, 'Assessment Input'!$M$23)","v":0},{"$f":"COUNTIFS('Assessment Input'!$J$2:$J$135,\"6\", 'Assessment Input'!$A$2:$A$135, 'Assessment Input'!$M$23)","v":0}]
["Below: 7",{"$f":"COUNTIFS('Assessment Input'!$F$2:$F$135,\"7\", 'Assessment Input'!$A$2:$A$135, 'Assessment Input'!M22)","v":0},{"$f":"COUNTIFS('Assessment Input'!$G$2:$G$135,\"7\", 'Assessment Input'!$A$2:$A$135, 'Assessment Input'!M22)","v":0},{"$f":"COUNTIFS('Assessment Input'!$H$2:$H$135,\"7\", 'Assessment Input'!$A$2:$A$135, 'Assessment Input'!M22)","v":0},{"$f":"COUNTIFS('Assessment Input'!$I$2:$I$135,\"7\", 'Assessment Input'!$A$2:$A$135, 'Assessment Input'!$M$22)","v":0},{"$f":"COUNTIFS('Assessment Input'!$J$2:$J$135,\"7\", 'Assessment Input'!$A$2:$A$135, 'Assessment Input'!$M$22)","v":0},null,null,"Below: 7",{"$f":"COUNTIFS('Assessment Input'!$F$2:$F$135,\"7\", 'Assessment Input'!$A$2:$A$135, 'Assessment Input'!$M$23)","v":0},{"$f":"COUNTIFS('Assessment Input'!$G$2:$G$135,\"7\", 'Assessment Input'!$A$2:$A$135, 'Assessment Input'!$M$23)","v":0},{"$f":"COUNTIFS('Assessment Input'!$H$2:$H$135,\"7\", 'Assessment Input'!$A$2:$A$135, 'Assessment Input'!$M$23)","v":0},{"$f":"COUNTIFS('Assessment Input'!$I$2:$I$135,\"7\", 'Assessment Input'!$A$2:$A$135, 'Assessment Input'!$M$23)","v":0},{"$f":"COUNTIFS('Assessment Input'!$J$2:$J$135,\"7\", 'Assessment Input'!$A$2:$A$135, 'Assessment Input'!$M$23)","v":0}]
["Not met: 8",{"$f":"COUNTIFS('Assessment Input'!$F$2:$F$135,\"8\", 'Assessment Input'!$A$2:$A$135, 'Assessment Input'!M22)","v":0},{"$f":"COUNTIFS('Assessment Input'!$G$2:$G$135,\"8\", 'Assessment Input'!$A$2:$A$135, 'Assessment Input'!M22)","v":0},{"$f":"COUNTIFS('Assessment Input'!$H$2:$H$135,\"8\", 'Assessment Input'!$A$2:$A$135, 'Assessment Input'!M22)","v":0},{"$f":"COUNTIFS('Assessment Input'!$I$2:$I$135,\"8\", 'Assessment Input'!$A$2:$A$135, 'Assessment Input'!$M$22)","v":1},{"$f":"COUNTIFS('Assessment Input'!$J$2:$J$135,\"8\", 'Assessment Input'!$A$2:$A$135, 'Assessment Input'!$M$22)","v":0},null,null,"Not met: 8",{"$f":"COUNTIFS('Assessment Input'!$F$2:$F$135,\"8\", 'Assessment Input'!$A$2:$A$135, 'Assessment Input'!$M$23)","v":0},{"$f":"COUNTIFS('Assessment Input'!$G$2:$G$135,\"8\", 'Assessment Input'!$A$2:$A$135, 'Assessment Input'!$M$23)","v":0},{"$f":"COUNTIFS('Assessment Input'!$H$2:$H$135,\"8\", 'Assessment Input'!$A$2:$A$135, 'Assessment Input'!$M$23)","v":0},{"$f":"COUNTIFS('Assessment Input'!$I$2:$I$135,\"8\", 'Assessment Input'!$A$2:$A$135, 'Assessment Input'!$M$23)","v":0},{"$f":"COUNTIFS('Assessment Input'!$J$2:$J$135,\"8\", 'Assessment Input'!$A$2:$A$135, 'Assessment Input'!$M$23)","v":0}]
["p-levels: w",{"$f":"COUNTIFS('Assessment Input'!$F$2:$F$135,\"w\", 'Assessment Input'!$A$2:$A$135, 'Assessment Input'!M22)","v":0},{"$f":"COUNTIFS('Assessment Input'!$G$2:$G$135,\"w\", 'Assessment Input'!$A$2:$A$135, 'Assessment Input'!M22)","v":0},{"$f":"COUNTIFS('Assessment Input'!$H$2:$H$135,\"w\", 'Assessment Input'!$A$2:$A$135, 'Assessment Input'!M22)","v":0},{"$f":"COUNTIFS('Assessment Input'!$I$2:$I$135,\"w\", 'Assessment Input'!$A$2:$A$135, 'Assessment Input'!$M$22)","v":0},{"$f":"COUNTIFS('Assessment Input'!$J$2:$J$135,\"w\", 'Assessment Input'!$A$2:$A$135, 'Assessment Input'!$M$22)","v":0},null,null,"p-levels: w",{"$f":"COUNTIFS('Assessment Input'!$F$2:$F$135,\"w\", 'Assessment Input'!$A$2:$A$135, 'Assessment Input'!$M$23)","v":0},{"$f":"COUNTIFS('Assessment Input'!$G$2:$G$135,\"w\", 'Assessment Input'!$A$2:$A$135, 'Assessment Input'!$M$23)","v":0},{"$f":"COUNTIFS('Assessment Input'!$H$2:$H$135,\"w\", 'Assessment Input'!$A$2:$A$135, 'Assessment Input'!$M$23)","v":0},{"$f":"COUNTIFS('Assessment Input'!$I$2:$I$135,\"w\", 'Assessment Input'!$A$2:$A$135, 'Assessment Input'!$M$23)","v":0},{"$f":"COUNTIFS('Assessment Input'!$J$2:$J$135,\"w\", 'Assessment Input'!$A$2:$A$135, 'Assessment Input'!$M$23)","v":0}]
["blank",{"$f":"COUNTIFS('Assessment Input'!$F$2:$F$135,\"\", 'Assessment Input'!$A$2:$A$135, 'Assessment Input'!M22)","v":0},{"$f":"COUNTIFS('Assessment Input'!$G$2:$G$135,\"\", 'Assessment Input'!$A$2:$A$135, 'Assessment Input'!M22)","v":0},{"$f":"COUNTIFS('Assessment Input'!$H$2:$H$135,\"\", 'Assessment Input'!$A$2:$A$135, 'Assessment Input'!M22)","v":0},{"$f":"COUNTIFS('Assessment Input'!$I$2:$I$135,\"\", 'Assessment Input'!$A$2:$A$135, 'Assessment Input'!$M$22)","v":0},{"$f":"COUNTIFS('Assessment Input'!$J$2:$J$135,\"\", 'Assessment Input'!$A$2:$A$135, 'Assessment Input'!$M$22)","v":0},null,null,"blank",{"$f":"COUNTIFS('Assessment Input'!$F$2:$F$135,\"\", 'Assessment Input'!$A$2:$A$135, 'Assessment Input'!$M$23)","v":0},{"$f":"COUNTIFS('Assessment Input'!$G$2:$G$135,\"\", 'Assessment Input'!$A$2:$A$135, 'Assessment Input'!$M$23)","v":0},{"$f":"COUNTIFS('Assessment Input'!$H$2:$H$135,\"\", 'Assessment Input'!$A$2:$A$135, 'Assessment Input'!$M$23)","v":0},{"$f":"COUNTIFS('Assessment Input'!$I$2:$I$135,\"\", 'Assessment Input'!$A$2:$A$135, 'Assessment Input'!$M$23)","v":0},{"$f":"COUNTIFS('Assessment Input'!$J$2:$J$135,\"\", 'Assessment Input'!$A$2:$A$135, 'Assessment Input'!$M$23)","v":0}]
["A",{"$f":"COUNTIFS('Assessment Input'!$F$2:$F$135,\"A\", 'Assessment Input'!$A$2:$A$135, 'Assessment Input'!M22)","v":0},{"$f":"COUNTIFS('Assessment Input'!$G$2:$G$135,\"A\", 'Assessment Input'!$A$2:$A$135, 'Assessment Input'!M22)","v":0},{"$f":"COUNTIFS('Assessment Input'!$H$2:$H$135,\"A\", 'Assessment Input'!$A$2:$A$135, 'Assessment Input'!M22)","v":0},{"$f":"COUNTIFS('Assessment Input'!$I$2:$I$135,\"A\", 'Assessment Input'!$A$2:$A$135, 'Assessment Input'!$M$22)","v":0},{"$f":"COUNTIFS('Assessment Input'!$J$2:$J$135,\"A\", 'Assessment Input'!$A$2:$A$135, 'Assessment Input'!$M$22)","v":0},null,null,"A",{"$f":"COUNTIFS('Assessment Input'!$F$2:$F$135,\"A\", 'Assessment Input'!$A$2:$A$135, 'Assessment Input'!$M$23)","v":0},{"$f":"COUNTIFS('Assessment Input'!$G$2:$G$135,\"A\", 'Assessment Input'!$A$2:$A$135, 'Assessment Input'!$M$23)","v":0},{"$f":"COUNTIFS('Assessment Input'!$H$2:$H$135,\"A\", 'Assessment Input'!$A$2:$A$135, 'Assessment Input'!$M$23)","v":0},{"$f":"COUNTIFS('Assessment Input'!$I$2:$I$135,\"A\", 'Assessment Input'!$A$2:$A$135, 'Assessment Input'!$M$23)","v":0},{"$f":"COUNTIFS('Assessment Input'!$J$2:$J$135,\"A\", 'Assessment Input'!$A$2:$A$135, 'Assessment Input'!$M$23)","v":0}]
["Total:",{"$f":"SUM(B184:B194)","v":1},1,1,1,1,1,null,"Total:",{"$f":"SUM(J184:J194)","v":0},0,0,0,0,0]
[]
[null,{"$f":"'Assessment Input'!$F$1","v":"Reading"},{"$f":"'Assessment Input'!$G$1","v":"Writing"},{"$f":"'Assessment Input'!$H$1","v":"Maths"},{"$f":"'Assessment Input'!$I$1","v":"Science "},"GP&S","Re/Wr/Ma",null,null,{"$f":"'Assessment Input'!$F$1","v":"Reading"},{"$f":"'Assessment Input'!$G$1","v":"Writing"},{"$f":"'Assessment Input'!$H$1","v":"Maths"},{"$f":"'Assessment Input'!$I$1","v":"Science "},"GP&S","Re/Wr/Ma"]
[null,{"$f":"'Assessment Input'!M22 &\": \"&Sheet1!I5&\" (/\"&B30&\")\"","v":"Change me: % at (/1)"},null,null,null,null,null,null,null,{"$f":"'Assessment Input'!$M$23 &\": \"&Sheet1!$I$5&\" (/\"&B31&\")\"","v":"Class 2: % at (/0)"}]
["Greater:1",{"$f":"B184/'Assessment Input'!$N$22","v":0},{"$f":"C184/'Assessment Input'!$N$22","v":1},{"$f":"D184/'Assessment Input'!$N$22","v":0},{"$f":"E184/'Assessment Input'!$N$22","v":0},{"$f":"F184/'Assessment Input'!$N$22","v":0},"Yes:",null,"Greater:1",{"$f":"J184/'Assessment Input'!$N$23","v":{"$error":"#DIV/0!"}},{"$f":"K184/'Assessment Input'!$N$23","v":{"$error":"#DIV/0!"}},{"$f":"L184/'Assessment Input'!$N$23","v":{"$error":"#DIV/0!"}},{"$f":"M184/'Assessment Input'!$N$23","v":{"$error":"#DIV/0!"}},{"$f":"N184/'Assessment Input'!$N$23","v":{"$error":"#DIV/0!"}},"Yes:"]
["Expected: 2",{"$f":"B185/'Assessment Input'!$N$22","v":1},{"$f":"C185/'Assessment Input'!$N$22","v":0},{"$f":"D185/'Assessment Input'!$N$22","v":1},{"$f":"E185/'Assessment Input'!$N$22","v":0},{"$f":"F185/'Assessment Input'!$N$22","v":1},{"$f":"G185/'Assessment Input'!$N$22","v":1},null,"Expected: 2",{"$f":"J185/'Assessment Input'!$N$23","v":{"$error":"#DIV/0!"}},{"$f":"K185/'Assessment Input'!$N$23","v":{"$error":"#DIV/0!"}},{"$f":"L185/'Assessment Input'!$N$23","v":{"$error":"#DIV/0!"}},{"$f":"M185/'Assessment Input'!$N$23","v":{"$error":"#DIV/0!"}},{"$f":"N185/'Assessment Input'!$N$23","v":{"$error":"#DIV/0!"}},{"$f":"O185/'Assessment Input'!$N$23","v":{"$error":"#DIV/0!"}}]
["Towards: 3",{"$f":"B186/'Assessment Input'!$N$22","v":0},{"$f":"C186/'Assessment Input'!$N$22","v":0},{"$f":"D186/'Assessment Input'!$N$22","v":0},{"$f":"E186/'Assessment Input'!$N$22","v":0},{"$f":"F186/'Assessment Input'!$N$22","v":0},"No:",null,"Towards: 3",{"$f":"J186/'Assessment Input'!$N$23","v":{"$error":"#DIV/0!"}},{"$f":"K186/'Assessment Input'!$N$23","v":{"$error":"#DIV/0!"}},{"$f":"L186/'Assessment Input'!$N$23","v":{"$error":"#DIV/0!"}},{"$f":"M186/'Assessment Input'!$N$23","v":{"$error":"#DIV/0!"}},{"$f":"N186/'Assessment Input'!$N$23","v":{"$error":"#DIV/0!"}},"No:"]
["Growing: 4",{"$f":"B187/'Assessment Input'!$N$22","v":0},{"$f":"C187/'Assessment Input'!$N$22","v":0},{"$f":"D187/'Assessment Input'!$N$22","v":0},{"$f":"E187/'Assessment Input'!$N$22","v":0},{"$f":"F187/'Assessment Input'!$N$22","v":0},{"$f":"G187/'Assessment Input'!$N$22","v":0},null,"Growing: 4",{"$f":"J187/'Assessment Input'!$N$23","v":{"$error":"#DIV/0!"}},{"$f":"K187/'Assessment Input'!$N$23","v":{"$error":"#DIV/0!"}},{"$f":"L187/'Assessment Input'!$N$23","v":{"$error":"#DIV/0!"}},{"$f":"M187/'Assessment Input'!$N$23","v":{"$error":"#DIV/0!"}},{"$f":"N187/'Assessment Input'!$N$23","v":{"$error":"#DIV/0!"}},{"$f":"O187/'Assessment Input'!$N$23","v":{"$error":"#DIV/0!"}}]
["Early: 5",{"$f":"B188/'Assessment Input'!$N$22","v":0},{"$f":"C188/'Assessment Input'!$N$22","v":0},{"$f":"D188/'Assessment Input'!$N$22","v":0},{"$f":"E188/'Assessment Input'!$N$22","v":0},{"$f":"F188/'Assessment Input'!$N$22","v":0},null,null,"Early: 5",{"$f":"J188/'Assessment Input'!$N$23","v":{"$error":"#DIV/0!"}},{"$f":"K188/'Assessment Input'!$N$23","v":{"$error":"#DIV/0!"}},{"$f":"L188/'Assessment Input'!$N$23","v":{"$error":"#DIV/0!"}},{"$f":"M188/'Assessment Input'!$N$23","v":{"$error":"#DIV/0!"}},{"$f":"N188/'Assessment Input'!$N$23","v":{"$error":"#DIV/0!"}}]
["Foundations 6",{"$f":"B189/'Assessment Input'!$N$22","v":0},{"$f":"C189/'Assessment Input'!$N$22","v":0},{"$f":"D189/'Assessment Input'!$N$22","v":0},{"$f":"E189/'Assessment Input'!$N$22","v":0},{"$f":"F189/'Assessment Input'!$N$22","v":0},null,null,"Foundations 6",{"$f":"J189/'Assessment Input'!$N$23","v":{"$error":"#DIV/0!"}},{"$f":"K189/'Assessment Input'!$N$23","v":{"$error":"#DIV/0!"}},{"$f":"L189/'Assessment Input'!$N$23","v":{"$error":"#DIV/0!"}},{"$f":"M189/'Assessment Input'!$N$23","v":{"$error":"#DIV/0!"}},{"$f":"N189/'Assessment Input'!$N$23","v":{"$error":"#DIV/0!"}}]
["Below: 7",{"$f":"B190/'Assessment Input'!$N$22","v":0},{"$f":"C190/'Assessment Input'!$N$22","v":0},{"$f":"D190/'Assessment Input'!$N$22","v":0},{"$f":"E190/'Assessment Input'!$N$22","v":0},{"$f":"F190/'Assessment Input'!$N$22","v":0},null,null,"Below: 7",{"$f":"J190/'Assessment Input'!$N$23","v":{"$error":"#DIV/0!"}},{"$f":"K190/'Assessment Input'!$N$23","v":{"$error":"#DIV/0!"}},{"$f":"L190/'Assessment Input'!$N$23","v":{"$error":"#DIV/0!"}},{"$f":"M190/'Assessment Input'!$N$23","v":{"$error":"#DIV/0!"}},{"$f":"N190/'Assessment Input'!$N$23","v":{"$error":"#DIV/0!"}}]
["Not met: 8",{"$f":"B191/'Assessment Input'!$N$22","v":0},{"$f":"C191/'Assessment Input'!$N$22","v":0},{"$f":"D191/'Assessment Input'!$N$22","v":0},{"$f":"E191/'Assessment Input'!$N$22","v":1},{"$f":"F191/'Assessment Input'!$N$22","v":0},null,null,"Not met: 8",{"$f":"J191/'Assessment Input'!$N$23","v":{"$error":"#DIV/0!"}},{"$f":"K191/'Assessment Input'!$N$23","v":{"$error":"#DIV/0!"}},{"$f":"L191/'Assessment Input'!$N$23","v":{"$error":"#DIV/0!"}},{"$f":"M191/'Assessment Input'!$N$23","v":{"$error":"#DIV/0!"}},{"$f":"N191/'Assessment Input'!$N$23","v":{"$error":"#DIV/0!"}}]
["p-levels: w",{"$f":"B192/'Assessment Input'!$N$22","v":0},{"$f":"C192/'Assessment Input'!$N$22","v":0},{"$f":"D192/'Assessment Input'!$N$22","v":0},{"$f":"E192/'Assessment Input'!$N$22","v":0},{"$f":"F192/'Assessment Input'!$N$22","v":0},null,null,"p-levels: w",{"$f":"J192/'Assessment Input'!$N$23","v":{"$error":"#DIV/0!"}},{"$f":"K192/'Assessment Input'!$N$23","v":{"$error":"#DIV/0!"}},{"$f":"L192/'Assessment Input'!$N$23","v":{"$error":"#DIV/0!"}},{"$f":"M192/'Assessment Input'!$N$23","v":{"$error":"#DIV/0!"}},{"$f":"N192/'Assessment Input'!$N$23","v":{"$error":"#DIV/0!"}}]
["blank",{"$f":"B193/'Assessment Input'!$N$22","v":0},{"$f":"C193/'Assessment Input'!$N$22","v":0},{"$f":"D193/'Assessment Input'!$N$22","v":0},{"$f":"E193/'Assessment Input'!$N$22","v":0},{"$f":"F193/'Assessment Input'!$N$22","v":0},null,null,"blank",{"$f":"J193/'Assessment Input'!$N$23","v":{"$error":"#DIV/0!"}},{"$f":"K193/'Assessment Input'!$N$23","v":{"$error":"#DIV/0!"}},{"$f":"L193/'Assessment Input'!$N$23","v":{"$error":"#DIV/0!"}},{"$f":"M193/'Assessment Input'!$N$23","v":{"$error":"#DIV/0!"}},{"$f":"N193/'Assessment Input'!$N$23","v":{"$error":"#DIV/0!"}}]
["A",{"$f":"B194/'Assessment Input'!$N$22","v":0},{"$f":"C194/'Assessment Input'!$N$22","v":0},{"$f":"D194/'Assessment Input'!$N$22","v":0},{"$f":"E194/'Assessment Input'!$N$22","v":0},{"$f":"F194/'Assessment Input'!$N$22","v":0},null,null,"A",{"$f":"J194/'Assessment Input'!$N$23","v":{"$error":"#DIV/0!"}},{"$f":"K194/'Assessment Input'!$N$23","v":{"$error":"#DIV/0!"}},{"$f":"L194/'Assessment Input'!$N$23","v":{"$error":"#DIV/0!"}},{"$f":"M194/'Assessment Input'!$N$23","v":{"$error":"#DIV/0!"}},{"$f":"N194/'Assessment Input'!$N$23","v":{"$error":"#DIV/0!"}}]
["Total:",{"$f":"SUM(B199:B209)","v":1},1,1,1,1,1,null,"Total:",{"$f":"SUM(J199:J209)","v":{"$error":"#DIV/0!"}},{"$error":"#DIV/0!"},{"$error":"#DIV/0!"},{"$error":"#DIV/0!"},{"$error":"#DIV/0!"},{"$error":"#DIV/0!"}]
[]
[null,{"$f":"'Assessment Input'!$F$1","v":"Reading"},{"$f":"'Assessment Input'!$G$1","v":"Writing"},{"$f":"'Assessment Input'!$H$1","v":"Maths"},{"$f":"'Assessment Input'!$I$1","v":"Science "},"GP&S","Re/Wr/Ma",null,null,{"$f":"'Assessment Input'!$F$1","v":"Reading"},{"$f":"'Assessment Input'!$G$1","v":"Writing"},{"$f":"'Assessment Input'!$H$1","v":"Maths"},{"$f":"'Assessment Input'!$I$1","v":"Science "},"GP&S","Re/Wr/Ma"]
[null,{"$f":"'Assessment Input'!M22 &\": \"&Sheet1!I6&\" (/\"&B30&\")\"","v":"Change me: % and above (/1)"},null,null,null,null,null,null,null,{"$f":"'Assessment Input'!$M$23 &\": \"&Sheet1!$I$6&\" (/\"&B31&\")\"","v":"Class 2: % and above (/0)"}]
["Greater:1",{"$f":"B199","v":0},{"$f":"C199","v":1},{"$f":"D199","v":0},{"$f":"E199","v":0},{"$f":"F199","v":0},"Yes:",null,"Greater:1",{"$f":"J199","v":{"$error":"#DIV/0!"}},{"$f":"K199","v":{"$error":"#DIV/0!"}},{"$f":"L199","v":{"$error":"#DIV/0!"}},{"$f":"M199","v":{"$error":"#DIV/0!"}},{"$f":"N199","v":{"$error":"#DIV/0!"}},"Yes:"]
["Expected: 2",{"$f":"SUM(B$199:$B200)","v":1},{"$f":"SUM(C$199:$C200)","v":1},{"$f":"SUM(D$199:$D200)","v":1},{"$f":"SUM(E$199:$E200)","v":0},{"$f":"SUM($F$199:F200)","v":1},{"$f":"SUM($G$199:G200)","v":1},null,"Expected: 2",{"$f":"SUM(J$199:$J200)","v":{"$error":"#DIV/0!"}},{"$f":"SUM(K$199:$K200)","v":{"$error":"#DIV/0!"}},{"$f":"SUM(L$199:$L200)","v":{"$error":"#DIV/0!"}},{"$f":"SUM($M$199:M200)","v":{"$error":"#DIV/0!"}},{"$f":"SUM($N$199:N200)","v":{"$error":"#DIV/0!"}},{"$f":"SUM($O$199:O200)","v":{"$error":"#DIV/0!"}}]
["Towards: 3",{"$f":"SUM(B$199:$B201)","v":1},{"$f":"SUM(C$199:$C201)","v":1},{"$f":"SUM(D$199:$D201)","v":1},{"$f":"SUM(E$199:$E201)","v":0},{"$f":"SUM($F$199:F201)","v":1},"No:",null,"Towards: 3",{"$f":"SUM(J$199:$J201)","v":{"$error":"#DIV/0!"}},{"$f":"SUM(K$199:$K201)","v":{"$error":"#DIV/0!"}},{"$f":"SUM(L$199:$L201)","v":{"$error":"#DIV/0!"}},{"$f":"SUM($M$199:M201)","v":{"$error":"#DIV/0!"}},{"$f":"SUM($N$199:N201)","v":{"$error":"#DIV/0!"}},"No:"]
["Growing: 4",{"$f":"SUM(B$199:$B202)","v":1},{"$f":"SUM(C$199:$C202)","v":1},{"$f":"SUM(D$199:$D202)","v":1},{"$f":"SUM(E$199:$E202)","v":0},{"$f":"SUM($F$199:F202)","v":1},{"$f":"SUM($G$199:G202)","v":1},null,"Growing: 4",{"$f":"SUM(J$199:$J202)","v":{"$error":"#DIV/0!"}},{"$f":"SUM(K$199:$K202)","v":{"$error":"#DIV/0!"}},{"$f":"SUM(L$199:$L202)","v":{"$error":"#DIV/0!"}},{"$f":"SUM($M$199:M202)","v":{"$error":"#DIV/0!"}},{"$f":"SUM($N$199:N202)","v":{"$error":"#DIV/0!"}},{"$f":"SUM($O$199:O202)","v":{"$error":"#DIV/0!"}}]
["Early: 5",{"$f":"SUM(B$199:$B203)","v":1},{"$f":"SUM(C$199:$C203)","v":1},{"$f":"SUM(D$199:$D203)","v":1},{"$f":"SUM(E$199:$E203)","v":0},{"$f":"SUM($F$199:F203)","v":1},null,null,"Early: 5",{"$f":"SUM(J$199:$J203)","v":{"$error":"#DIV/0!"}},{"$f":"SUM(K$199:$K203)","v":{"$error":"#DIV/0!"}},{"$f":"SUM(L$199:$L203)","v":{"$error":"#DIV/0!"}},{"$f":"SUM($M$199:M203)","v":{"$error":"#DIV/0!"}},{"$f":"SUM($N$199:N203)","v":{"$error":"#DIV/0!"}}]
["Foundations 6",{"$f":"SUM(B$199:$B204)","v":1},{"$f":"SUM(C$199:$C204)","v":1},{"$f":"SUM(D$199:$D204)","v":1},{"$f":"SUM(E$199:$E204)","v":0},{"$f":"SUM($F$199:F204)","v":1},null,null,"Foundations 6",{"$f":"SUM(J$199:$J204)","v":{"$error":"#DIV/0!"}},{"$f":"SUM(K$199:$K204)","v":{"$error":"#DIV/0!"}},{"$f":"SUM(L$199:$L204)","v":{"$error":"#DIV/0!"}},{"$f":"SUM($M$199:M204)","v":{"$error":"#DIV/0!"}},{"$f":"SUM($N$199:N204)","v":{"$error":"#DIV/0!"}}]
["Below: 7",{"$f":"SUM(B$199:$B205)","v":1},{"$f":"SUM(C$199:$C205)","v":1},{"$f":"SUM(D$199:$D205)","v":1},{"$f":"SUM(E$199:$E205)","v":0},{"$f":"SUM($F$199:F205)","v":1},null,null,"Below: 7",{"$f":"SUM(J$199:$J205)","v":{"$error":"#DIV/0!"}},{"$f":"SUM(K$199:$K205)","v":{"$error":"#DIV/0!"}},{"$f":"SUM(L$199:$L205)","v":{"$error":"#DIV/0!"}},{"$f":"SUM($M$199:M205)","v":{"$error":"#DIV/0!"}},{"$f":"SUM($N$199:N205)","v":{"$error":"#DIV/0!"}}]
["Not met: 8",{"$f":"SUM(B$199:$B206)","v":1},{"$f":"SUM(C$199:$C206)","v":1},{"$f":"SUM(D$199:$D206)","v":1},{"$f":"SUM(E$199:$E206)","v":1},{"$f":"SUM($F$199:F206)","v":1},null,null,"Not met: 8",{"$f":"SUM(J$199:$J206)","v":{"$error":"#DIV/0!"}},{"$f":"SUM(K$199:$K206)","v":{"$error":"#DIV/0!"}},{"$f":"SUM(L$199:$L206)","v":{"$error":"#DIV/0!"}},{"$f":"SUM($M$199:M206)","v":{"$error":"#DIV/0!"}},{"$f":"SUM($N$199:N206)","v":{"$error":"#DIV/0!"}}]
["p-levels: w",{"$f":"SUM(B$199:$B207)","v":1},{"$f":"SUM(C$199:$C207)","v":1},{"$f":"SUM(D$199:$D207)","v":1},{"$f":"SUM(E$199:$E207)","v":1},{"$f":"SUM($F$199:F207)","v":1},null,null,"p-levels: w",{"$f":"SUM(J$199:$J207)","v":{"$error":"#DIV/0!"}},{"$f":"SUM(K$199:$K207)","v":{"$error":"#DIV/0!"}},{"$f":"SUM(L$199:$L207)","v":{"$error":"#DIV/0!"}},{"$f":"SUM($M$199:M207)","v":{"$error":"#DIV/0!"}},{"$f":"SUM($N$199:N207)","v":{"$error":"#DIV/0!"}}]
["blank",{"$f":"SUM(B$199:$B208)","v":1},{"$f":"SUM(C$199:$C208)","v":1},{"$f":"SUM(D$199:$D208)","v":1},{"$f":"SUM(E$199:$E208)","v":1},{"$f":"SUM($F$199:F208)","v":1},null,null,"blank",{"$f":"SUM(J$199:$J208)","v":{"$error":"#DIV/0!"}},{"$f":"SUM(K$199:$K208)","v":{"$error":"#DIV/0!"}},{"$f":"SUM(L$199:$L208)","v":{"$error":"#DIV/0!"}},{"$f":"SUM($M$199:M208)","v":{"$error":"#DIV/0!"}},{"$f":"SUM($N$199:N208)","v":{"$error":"#DIV/0!"}}]
["A",{"$f":"SUM(B$199:$B209)","v":1},{"$f":"SUM(C$199:$C209)","v":1},{"$f":"SUM(D$199:$D209)","v":1},{"$f":"SUM(E$199:$E209)","v":1},{"$f":"SUM($F$199:F209)","v":1},null,null,"A",{"$f":"SUM(J$199:$J209)","v":{"$error":"#DIV/0!"}},{"$f":"SUM(K$199:$K209)","v":{"$error":"#DIV/0!"}},{"$f":"SUM(L$199:$L209)","v":{"$error":"#DIV/0!"}},{"$f":"SUM($M$199:M209)","v":{"$error":"#DIV/0!"}},{"$f":"SUM($N$199:N209)","v":{"$error":"#DIV/0!"}}]
[]
[null,"Classes"]
[null,{"$f":"'Assessment Input'!$F$1","v":"Reading"},{"$f":"'Assessment Input'!$G$1","v":"Writing"},{"$f":"'Assessment Input'!$H$1","v":"Maths"},{"$f":"'Assessment Input'!$I$1","v":"Science "},"GP&S","Re/Wr/Ma",null,null,{"$f":"'Assessment Input'!$F$1","v":"Reading"},{"$f":"'Assessment Input'!$G$1","v":"Writing"},{"$f":"'Assessment Input'!$H$1","v":"Maths"},{"$f":"'Assessment Input'!$I$1","v":"Science "},"GP&S","Re/Wr/Ma"]
[null,{"$f":"'Assessment Input'!$M$24 &\": \"&Sheet1!$I$4&\" (/\"&B32&\")\"","v":"Class 3: Number at (/0)"},null,null,null,null,null,null,null,{"$f":"'Assessment Input'!M25 &\": \"&Sheet1!I4&\" (/\"&B33&\")\"","v":"Class 4: Number at (/0)"}]
["Greater:1",{"$f":"COUNTIFS('Assessment Input'!$F$2:$F$135,\"1\", 'Assessment Input'!$A$2:$A$135, 'Assessment Input'!$M$24)","v":0},{"$f":"COUNTIFS('Assessment Input'!$G$2:$G$135,\"1\", 'Assessment Input'!$A$2:$A$135, 'Assessment Input'!$M$24)","v":0},{"$f":"COUNTIFS('Assessment Input'!$H$2:$H$135,\"1\", 'Assessment Input'!$A$2:$A$135, 'Assessment Input'!$M$24)","v":0},{"$f":"COUNTIFS('Assessment Input'!$I$2:$I$135,\"1\", 'Assessment Input'!$A$2:$A$135, 'Assessment Input'!$M$24)","v":0},{"$f":"COUNTIFS('Assessment Input'!$J$2:$J$135,\"1\", 'Assessment Input'!$A$2:$A$135, 'Assessment Input'!$M$24)","v":0},"Yes:",null,"Greater:1",{"$f":"COUNTIFS('Assessment Input'!$F$2:$F$135,\"1\", 'Assessment Input'!$A$2:$A$135,'Assessment Input'!M25)","v":0},{"$f":"COUNTIFS('Assessment Input'!$G$2:$G$135,\"1\", 'Assessment Input'!$A$2:$A$135,'Assessment Input'!$M$25)","v":0},{"$f":"COUNTIFS('Assessment Input'!$H$2:$H$135,\"1\", 'Assessment Input'!$A$2:$A$135,'Assessment Input'!$M$25)","v":0},{"$f":"COUNTIFS('Assessment Input'!$I$2:$I$135,\"1\", 'Assessment Input'!$A$2:$A$135,'Assessment Input'!$M$25)","v":0},{"$f":"COUNTIFS('Assessment Input'!$J$2:$J$135,\"1\", 'Assessment Input'!$A$2:$A$135,'Assessment Input'!$M$25)","v":0},"Yes:"]
["Expected: 2",{"$f":"COUNTIFS('Assessment Input'!$F$2:$F$135,\"2\", 'Assessment Input'!$A$2:$A$135, 'Assessment Input'!$M$24)","v":0},{"$f":"COUNTIFS('Assessment Input'!$G$2:$G$135,\"2\", 'Assessment Input'!$A$2:$A$135, 'Assessment Input'!$M$24)","v":0},{"$f":"COUNTIFS('Assessment Input'!$H$2:$H$135,\"2\", 'Assessment Input'!$A$2:$A$135, 'Assessment Input'!$M$24)","v":0},{"$f":"COUNTIFS('Assessment Input'!$I$2:$I$135,\"2\", 'Assessment Input'!$A$2:$A$135, 'Assessment Input'!$M$24)","v":0},{"$f":"COUNTIFS('Assessment Input'!$J$2:$J$135,\"2\", 'Assessment Input'!$A$2:$A$135, 'Assessment Input'!$M$24)","v":0},{"$f":"COUNTIFS('Assessment Input'!$K$2:$K$135,\"Y\", 'Assessment Input'!$A$2:$A$135, 'Assessment Input'!$M$24)","v":0},null,"Expected: 2",{"$f":"COUNTIFS('Assessment Input'!$F$2:$F$135,\"2\", 'Assessment Input'!$A$2:$A$135,'Assessment Input'!$M$25)","v":0},{"$f":"COUNTIFS('Assessment Input'!$G$2:$G$135,\"2\", 'Assessment Input'!$A$2:$A$135,'Assessment Input'!$M$25)","v":0},{"$f":"COUNTIFS('Assessment Input'!$H$2:$H$135,\"2\", 'Assessment Input'!$A$2:$A$135,'Assessment Input'!$M$25)","v":0},{"$f":"COUNTIFS('Assessment Input'!$I$2:$I$135,\"2\", 'Assessment Input'!$A$2:$A$135,'Assessment Input'!$M$25)","v":0},{"$f":"COUNTIFS('Assessment Input'!$J$2:$J$135,\"2\", 'Assessment Input'!$A$2:$A$135,'Assessment Input'!$M$25)","v":0},{"$f":"COUNTIFS('Assessment Input'!$K$2:$K$135,\"Y\", 'Assessment Input'!$A$2:$A$135, 'Assessment Input'!$M$25)","v":0}]
["Towards: 3",{"$f":"COUNTIFS('Assessment Input'!$F$2:$F$135,\"3\", 'Assessment Input'!$A$2:$A$135, 'Assessment Input'!$M$24)","v":0},{"$f":"COUNTIFS('Assessment Input'!$G$2:$G$135,\"3\", 'Assessment Input'!$A$2:$A$135, 'Assessment Input'!$M$24)","v":0},{"$f":"COUNTIFS('Assessment Input'!$H$2:$H$135,\"3\", 'Assessment Input'!$A$2:$A$135, 'Assessment Input'!$M$24)","v":0},{"$f":"COUNTIFS('Assessment Input'!$I$2:$I$135,\"3\", 'Assessment Input'!$A$2:$A$135, 'Assessment Input'!$M$24)","v":0},{"$f":"COUNTIFS('Assessment Input'!$J$2:$J$135,\"3\", 'Assessment Input'!$A$2:$A$135, 'Assessment Input'!$M$24)","v":0},"No:",null,"Towards: 3",{"$f":"COUNTIFS('Assessment Input'!$F$2:$F$135,\"3\", 'Assessment Input'!$A$2:$A$135,'Assessment Input'!$M$25)","v":0},{"$f":"COUNTIFS('Assessment Input'!$G$2:$G$135,\"3\", 'Assessment Input'!$A$2:$A$135,'Assessment Input'!$M$25)","v":0},{"$f":"COUNTIFS('Assessment Input'!$H$2:$H$135,\"3\", 'Assessment Input'!$A$2:$A$135,'Assessment Input'!$M$25)","v":0},{"$f":"COUNTIFS('Assessment Input'!$I$2:$I$135,\"3\", 'Assessment Input'!$A$2:$A$135,'Assessment Input'!$M$25)","v":0},{"$f":"COUNTIFS('Assessment Input'!$J$2:$J$135,\"3\", 'Assessment Input'!$A$2:$A$135,'Assessment Input'!$M$25)","v":0},"No:"]
["Growing: 4",{"$f":"COUNTIFS('Assessment Input'!$F$2:$F$135,\"4\", 'Assessment Input'!$A$2:$A$135, 'Assessment Input'!$M$24)","v":0},{"$f":"COUNTIFS('Assessment Input'!$G$2:$G$135,\"4\", 'Assessment Input'!$A$2:$A$135, 'Assessment Input'!$M$24)","v":0},{"$f":"COUNTIFS('Assessment Input'!$H$2:$H$135,\"4\", 'Assessment Input'!$A$2:$A$135, 'Assessment Input'!$M$24)","v":0},{"$f":"COUNTIFS('Assessment Input'!$I$2:$I$135,\"4\", 'Assessment Input'!$A$2:$A$135, 'Assessment Input'!$M$24)","v":0},{"$f":"COUNTIFS('Assessment Input'!$J$2:$J$135,\"4\", 'Assessment Input'!$A$2:$A$135, 'Assessment Input'!$M$24)","v":0},{"$f":"COUNTIFS('Assessment Input'!$K$2:$K$135,\"N\", 'Assessment Input'!$A$2:$A$135, 'Assessment Input'!$M$24)","v":0},null,"Growing: 4",{"$f":"COUNTIFS('Assessment Input'!$F$2:$F$135,\"4\", 'Assessment Input'!$A$2:$A$135,'Assessment Input'!$M$25)","v":0},{"$f":"COUNTIFS('Assessment Input'!$G$2:$G$135,\"4\", 'Assessment Input'!$A$2:$A$135,'Assessment Input'!$M$25)","v":0},{"$f":"COUNTIFS('Assessment Input'!$H$2:$H$135,\"4\", 'Assessment Input'!$A$2:$A$135,'Assessment Input'!$M$25)","v":0},{"$f":"COUNTIFS('Assessment Input'!$I$2:$I$135,\"4\", 'Assessment Input'!$A$2:$A$135,'Assessment Input'!$M$25)","v":0},{"$f":"COUNTIFS('Assessment Input'!$J$2:$J$135,\"4\", 'Assessment Input'!$A$2:$A$135,'Assessment Input'!$M$25)","v":0},{"$f":"COUNTIFS('Assessment Input'!$K$2:$K$135,\"N\", 'Assessment Input'!$A$2:$A$135, 'Assessment Input'!$M$25)","v":0}]
["Early: 5",{"$f":"COUNTIFS('Assessment Input'!$F$2:$F$135,\"5\", 'Assessment Input'!$A$2:$A$135, 'Assessment Input'!$M$24)","v":0},{"$f":"COUNTIFS('Assessment Input'!$G$2:$G$135,\"5\", 'Assessment Input'!$A$2:$A$135, 'Assessment Input'!$M$24)","v":0},{"$f":"COUNTIFS('Assessment Input'!$H$2:$H$135,\"5\", 'Assessment Input'!$A$2:$A$135, 'Assessment Input'!$M$24)","v":0},{"$f":"COUNTIFS('Assessment Input'!$I$2:$I$135,\"5\", 'Assessment Input'!$A$2:$A$135, 'Assessment Input'!$M$24)","v":0},{"$f":"COUNTIFS('Assessment Input'!$J$2:$J$135,\"5\", 'Assessment Input'!$A$2:$A$135, 'Assessment Input'!$M$24)","v":0},null,null,"Early: 5",{"$f":"COUNTIFS('Assessment Input'!$F$2:$F$135,\"5\", 'Assessment Input'!$A$2:$A$135,'Assessment Input'!$M$25)","v":0},{"$f":"COUNTIFS('Assessment Input'!$G$2:$G$135,\"5\", 'Assessment Input'!$A$2:$A$135,'Assessment Input'!$M$25)","v":0},{"$f":"COUNTIFS('Assessment Input'!$H$2:$H$135,\"5\", 'Assessment Input'!$A$2:$A$135,'Assessment Input'!$M$25)","v":0},{"$f":"COUNTIFS('Assessment Input'!$I$2:$I$135,\"5\", 'Assessment Input'!$A$2:$A$135,'Assessment Input'!$M$25)","v":0},{"$f":"COUNTIFS('Assessment Input'!$J$2:$J$135,\"5\", 'Assessment Input'!$A$2:$A$135,'Assessment Input'!$M$25)","v":0}]
["Foundations 6",{"$f":"COUNTIFS('Assessment Input'!$F$2:$F$135,\"6\", 'Assessment Input'!$A$2:$A$135, 'Assessment Input'!$M$24)","v":0},{"$f":"COUNTIFS('Assessment Input'!$G$2:$G$135,\"6\", 'Assessment Input'!$A$2:$A$135, 'Assessment Input'!$M$24)","v":0},{"$f":"COUNTIFS('Assessment Input'!$H$2:$H$135,\"6\", 'Assessment Input'!$A$2:$A$135, 'Assessment Input'!$M$24)","v":0},{"$f":"COUNTIFS('Assessment Input'!$I$2:$I$135,\"6\", 'Assessment Input'!$A$2:$A$135, 'Assessment Input'!$M$24)","v":0},{"$f":"COUNTIFS('Assessment Input'!$J$2:$J$135,\"6\", 'Assessment Input'!$A$2:$A$135, 'Assessment Input'!$M$24)","v":0},null,null,"Foundations 6",{"$f":"COUNTIFS('Assessment Input'!$F$2:$F$135,\"6\", 'Assessment Input'!$A$2:$A$135,'Assessment Input'!$M$25)","v":0},{"$f":"COUNTIFS('Assessment Input'!$G$2:$G$135,\"6\", 'Assessment Input'!$A$2:$A$135,'Assessment Input'!$M$25)","v":0},{"$f":"COUNTIFS('Assessment Input'!$H$2:$H$135,\"6\", 'Assessment Input'!$A$2:$A$135,'Assessment Input'!$M$25)","v":0},{"$f":"COUNTIFS('Assessment Input'!$I$2:$I$135,\"6\", 'Assessment Input'!$A$2:$A$135,'Assessment Input'!$M$25)","v":0},{"$f":"COUNTIFS('Assessment Input'!$J$2:$J$135,\"6\", 'Assessment Input'!$A$2:$A$135,'Assessment Input'!$M$25)","v":0}]
["Below: 7",{"$f":"COUNTIFS('Assessment Input'!$F$2:$F$135,\"7\", 'Assessment Input'!$A$2:$A$135, 'Assessment Input'!$M$24)","v":0},{"$f":"COUNTIFS('Assessment Input'!$G$2:$G$135,\"7\", 'Assessment Input'!$A$2:$A$135, 'Assessment Input'!$M$24)","v":0},{"$f":"COUNTIFS('Assessment Input'!$H$2:$H$135,\"7\", 'Assessment Input'!$A$2:$A$135, 'Assessment Input'!$M$24)","v":0},{"$f":"COUNTIFS('Assessment Input'!$I$2:$I$135,\"7\", 'Assessment Input'!$A$2:$A$135, 'Assessment Input'!$M$24)","v":0},{"$f":"COUNTIFS('Assessment Input'!$J$2:$J$135,\"7\", 'Assessment Input'!$A$2:$A$135, 'Assessment Input'!$M$24)","v":0},null,null,"Below: 7",{"$f":"COUNTIFS('Assessment Input'!$F$2:$F$135,\"7\", 'Assessment Input'!$A$2:$A$135,'Assessment Input'!$M$25)","v":0},{"$f":"COUNTIFS('Assessment Input'!$G$2:$G$135,\"7\", 'Assessment Input'!$A$2:$A$135,'Assessment Input'!$M$25)","v":0},{"$f":"COUNTIFS('Assessment Input'!$H$2:$H$135,\"7\", 'Assessment Input'!$A$2:$A$135,'Assessment Input'!$M$25)","v":0},{"$f":"COUNTIFS('Assessment Input'!$I$2:$I$135,\"7\", 'Assessment Input'!$A$2:$A$135,'Assessment Input'!$M$25)","v":0},{"$f":"COUNTIFS('Assessment Input'!$J$2:$J$135,\"7\", 'Assessment Input'!$A$2:$A$135,'Assessment Input'!$M$25)","v":0}]
["Not met: 8",{"$f":"COUNTIFS('Assessment Input'!$F$2:$F$135,\"8\", 'Assessment Input'!$A$2:$A$135, 'Assessment Input'!$M$24)","v":0},{"$f":"COUNTIFS('Assessment Input'!$G$2:$G$135,\"8\", 'Assessment Input'!$A$2:$A$135, 'Assessment Input'!$M$24)","v":0},{"$f":"COUNTIFS('Assessment Input'!$H$2:$H$135,\"8\", 'Assessment Input'!$A$2:$A$135, 'Assessment Input'!$M$24)","v":0},{"$f":"COUNTIFS('Assessment Input'!$I$2:$I$135,\"8\", 'Assessment Input'!$A$2:$A$135, 'Assessment Input'!$M$24)","v":0},{"$f":"COUNTIFS('Assessment Input'!$J$2:$J$135,\"8\", 'Assessment Input'!$A$2:$A$135, 'Assessment Input'!$M$24)","v":0},null,null,"Not met: 8",{"$f":"COUNTIFS('Assessment Input'!$F$2:$F$135,\"8\", 'Assessment Input'!$A$2:$A$135,'Assessment Input'!$M$25)","v":0},{"$f":"COUNTIFS('Assessment Input'!$G$2:$G$135,\"8\", 'Assessment Input'!$A$2:$A$135,'Assessment Input'!$M$25)","v":0},{"$f":"COUNTIFS('Assessment Input'!$H$2:$H$135,\"8\", 'Assessment Input'!$A$2:$A$135,'Assessment Input'!$M$25)","v":0},{"$f":"COUNTIFS('Assessment Input'!$I$2:$I$135,\"8\", 'Assessment Input'!$A$2:$A$135,'Assessment Input'!$M$25)","v":0},{"$f":"COUNTIFS('Assessment Input'!$J$2:$J$135,\"8\", 'Assessment Input'!$A$2:$A$135,'Assessment Input'!$M$25)","v":0}]
["p-levels: w",{"$f":"COUNTIFS('Assessment Input'!$F$2:$F$135,\"w\", 'Assessment Input'!$A$2:$A$135, 'Assessment Input'!$M$24)","v":0},{"$f":"COUNTIFS('Assessment Input'!$G$2:$G$135,\"w\", 'Assessment Input'!$A$2:$A$135, 'Assessment Input'!$M$24)","v":0},{"$f":"COUNTIFS('Assessment Input'!$H$2:$H$135,\"w\", 'Assessment Input'!$A$2:$A$135, 'Assessment Input'!$M$24)","v":0},{"$f":"COUNTIFS('Assessment Input'!$I$2:$I$135,\"w\", 'Assessment Input'!$A$2:$A$135, 'Assessment Input'!$M$24)","v":0},{"$f":"COUNTIFS('Assessment Input'!$J$2:$J$135,\"w\", 'Assessment Input'!$A$2:$A$135, 'Assessment Input'!$M$24)","v":0},null,null,"p-levels: w",{"$f":"COUNTIFS('Assessment Input'!$F$2:$F$135,\"w\", 'Assessment Input'!$A$2:$A$135,'Assessment Input'!$M$25)","v":0},{"$f":"COUNTIFS('Assessment Input'!$G$2:$G$135,\"w\", 'Assessment Input'!$A$2:$A$135,'Assessment Input'!$M$25)","v":0},{"$f":"COUNTIFS('Assessment Input'!$H$2:$H$135,\"w\", 'Assessment Input'!$A$2:$A$135,'Assessment Input'!$M$25)","v":0},{"$f":"COUNTIFS('Assessment Input'!$I$2:$I$135,\"w\", 'Assessment Input'!$A$2:$A$135,'Assessment Input'!$M$25)","v":0},{"$f":"COUNTIFS('Assessment Input'!$J$2:$J$135,\"w\", 'Assessment Input'!$A$2:$A$135,'Assessment Input'!$M$25)","v":0}]
["blank",{"$f":"COUNTIFS('Assessment Input'!$F$2:$F$135,\"\", 'Assessment Input'!$A$2:$A$135, 'Assessment Input'!$M$24)","v":0},{"$f":"COUNTIFS('Assessment Input'!$G$2:$G$135,\"\", 'Assessment Input'!$A$2:$A$135, 'Assessment Input'!$M$24)","v":0},{"$f":"COUNTIFS('Assessment Input'!$H$2:$H$135,\"\", 'Assessment Input'!$A$2:$A$135, 'Assessment Input'!$M$24)","v":0},{"$f":"COUNTIFS('Assessment Input'!$I$2:$I$135,\"\", 'Assessment Input'!$A$2:$A$135, 'Assessment Input'!$M$24)","v":0},{"$f":"COUNTIFS('Assessment Input'!$J$2:$J$135,\"\", 'Assessment Input'!$A$2:$A$135, 'Assessment Input'!$M$24)","v":0},null,null,"blank",{"$f":"COUNTIFS('Assessment Input'!$F$2:$F$135,\"\", 'Assessment Input'!$A$2:$A$135,'Assessment Input'!$M$25)","v":0},{"$f":"COUNTIFS('Assessment Input'!$G$2:$G$135,\"\", 'Assessment Input'!$A$2:$A$135,'Assessment Input'!$M$25)","v":0},{"$f":"COUNTIFS('Assessment Input'!$H$2:$H$135,\"\", 'Assessment Input'!$A$2:$A$135,'Assessment Input'!$M$25)","v":0},{"$f":"COUNTIFS('Assessment Input'!$I$2:$I$135,\"\", 'Assessment Input'!$A$2:$A$135,'Assessment Input'!$M$25)","v":0},{"$f":"COUNTIFS('Assessment Input'!$J$2:$J$135,\"\", 'Assessment Input'!$A$2:$A$135,'Assessment Input'!$M$25)","v":0}]
["A",{"$f":"COUNTIFS('Assessment Input'!$F$2:$F$135,\"A\", 'Assessment Input'!$A$2:$A$135, 'Assessment Input'!$M$24)","v":0},{"$f":"COUNTIFS('Assessment Input'!$G$2:$G$135,\"A\", 'Assessment Input'!$A$2:$A$135, 'Assessment Input'!$M$24)","v":0},{"$f":"COUNTIFS('Assessment Input'!$H$2:$H$135,\"A\", 'Assessment Input'!$A$2:$A$135, 'Assessment Input'!$M$24)","v":0},{"$f":"COUNTIFS('Assessment Input'!$I$2:$I$135,\"A\", 'Assessment Input'!$A$2:$A$135, 'Assessment Input'!$M$24)","v":0},{"$f":"COUNTIFS('Assessment Input'!$J$2:$J$135,\"A\", 'Assessment Input'!$A$2:$A$135, 'Assessment Input'!$M$24)","v":0},null,null,"A",{"$f":"COUNTIFS('Assessment Input'!$F$2:$F$135,\"A\", 'Assessment Input'!$A$2:$A$135,'Assessment Input'!$M$25)","v":0},{"$f":"COUNTIFS('Assessment Input'!$G$2:$G$135,\"A\", 'Assessment Input'!$A$2:$A$135,'Assessment Input'!$M$25)","v":0},{"$f":"COUNTIFS('Assessment Input'!$H$2:$H$135,\"A\", 'Assessment Input'!$A$2:$A$135,'Assessment Input'!$M$25)","v":0},{"$f":"COUNTIFS('Assessment Input'!$I$2:$I$135,\"A\", 'Assessment Input'!$A$2:$A$135,'Assessment Input'!$M$25)","v":0},{"$f":"COUNTIFS('Assessment Input'!$J$2:$J$135,\"A\", 'Assessment Input'!$A$2:$A$135,'Assessment Input'!$M$25)","v":0}]
["Total:",{"$f":"SUM(B229:B239)","v":0},0,0,0,0,0,null,"Total:",{"$f":"SUM(J229:J239)","v":0},0,0,0,0,0]
[]
[null,{"$f":"'Assessment Input'!$F$1","v":"Reading"},{"$f":"'Assessment Input'!$G$1","v":"Writing"},{"$f":"'Assessment Input'!$H$1","v":"Maths"},{"$f":"'Assessment Input'!$I$1","v":"Science "},"GP&S","Re/Wr/Ma",null,null,{"$f":"'Assessment Input'!$F$1","v":"Reading"},{"$f":"'Assessment Input'!$G$1","v":"Writing"},{"$f":"'Assessment Input'!$H$1","v":"Maths"},{"$f":"'Assessment Input'!$I$1","v":"Science "},"GP&S","Re/Wr/Ma"]
[null,{"$f":"'Assessment Input'!$M$24 &\": \"&Sheet1!$I$5&\" (/\"&B32&\")\"","v":"Class 3: % at (/0)"},null,null,null,null,null,null,null,{"$f":"'Assessment Input'!M25 &\": \"&Sheet1!I5&\" (/\"&B33&\")\"","v":"Class 4: % at (/0)"}]
["Greater:1",{"$f":"B229/'Assessment Input'!$N$24","v":{"$error":"#DIV/0!"}},{"$f":"C229/'Assessment Input'!$N$24","v":{"$error":"#DIV/0!"}},{"$f":"D229/'Assessment Input'!$N$24","v":{"$error":"#DIV/0!"}},{"$f":"E229/'Assessment Input'!$N$24","v":{"$error":"#DIV/0!"}},{"$f":"F229/'Assessment Input'!$N$24","v":{"$error":"#DIV/0!"}},"Yes:",null,"Greater:1",{"$f":"J229/'Assessment Input'!$N$25","v":{"$error":"#DIV/0!"}},{"$f":"K229/'Assessment Input'!$N$25","v":{"$error":"#DIV/0!"}},{"$f":"L229/'Assessment Input'!$N$25","v":{"$error":"#DIV/0!"}},{"$f":"M229/'Assessment Input'!$N$25","v":{"$error":"#DIV/0!"}},{"$f":"N229/'Assessment Input'!$N$25","v":{"$error":"#DIV/0!"}},"Yes:"]
["Expected: 2",{"$f":"B230/'Assessment Input'!$N$24","v":{"$error":"#DIV/0!"}},{"$f":"C230/'Assessment Input'!$N$24","v":{"$error":"#DIV/0!"}},{"$f":"D230/'Assessment Input'!$N$24","v":{"$error":"#DIV/0!"}},{"$f":"E230/'Assessment Input'!$N$24","v":{"$error":"#DIV/0!"}},{"$f":"F230/'Assessment Input'!$N$24","v":{"$error":"#DIV/0!"}},{"$f":"G230/'Assessment Input'!$N$24","v":{"$error":"#DIV/0!"}},null,"Expected: 2",{"$f":"J230/'Assessment Input'!$N$25","v":{"$error":"#DIV/0!"}},{"$f":"K230/'Assessment Input'!$N$25","v":{"$error":"#DIV/0!"}},{"$f":"L230/'Assessment Input'!$N$25","v":{"$error":"#DIV/0!"}},{"$f":"M230/'Assessment Input'!$N$25","v":{"$error":"#DIV/0!"}},{"$f":"N230/'Assessment Input'!$N$25","v":{"$error":"#DIV/0!"}},{"$f":"O230/'Assessment Input'!$N$25","v":{"$error":"#DIV/0!"}}]
["Towards: 3",{"$f":"B231/'Assessment Input'!$N$24","v":{"$error":"#DIV/0!"}},{"$f":"C231/'Assessment Input'!$N$24","v":{"$error":"#DIV/0!"}},{"$f":"D231/'Assessment Input'!$N$24","v":{"$error":"#DIV/0!"}},{"$f":"E231/'Assessment Input'!$N$24","v":{"$error":"#DIV/0!"}},{"$f":"F231/'Assessment Input'!$N$24","v":{"$error":"#DIV/0!"}},"No:",null,"Towards: 3",{"$f":"J231/'Assessment Input'!$N$25","v":{"$error":"#DIV/0!"}},{"$f":"K231/'Assessment Input'!$N$25","v":{"$error":"#DIV/0!"}},{"$f":"L231/'Assessment Input'!$N$25","v":{"$error":"#DIV/0!"}},{"$f":"M231/'Assessment Input'!$N$25","v":{"$error":"#DIV/0!"}},{"$f":"N231/'Assessment Input'!$N$25","v":{"$error":"#DIV/0!"}},"No:"]
["Growing: 4",{"$f":"B232/'Assessment Input'!$N$24","v":{"$error":"#DIV/0!"}},{"$f":"C232/'Assessment Input'!$N$24","v":{"$error":"#DIV/0!"}},{"$f":"D232/'Assessment Input'!$N$24","v":{"$error":"#DIV/0!"}},{"$f":"E232/'Assessment Input'!$N$24","v":{"$error":"#DIV/0!"}},{"$f":"F232/'Assessment Input'!$N$24","v":{"$error":"#DIV/0!"}},{"$f":"G232/'Assessment Input'!$N$24","v":{"$error":"#DIV/0!"}},null,"Growing: 4",{"$f":"J232/'Assessment Input'!$N$25","v":{"$error":"#DIV/0!"}},{"$f":"K232/'Assessment Input'!$N$25","v":{"$error":"#DIV/0!"}},{"$f":"L232/'Assessment Input'!$N$25","v":{"$error":"#DIV/0!"}},{"$f":"M232/'Assessment Input'!$N$25","v":{"$error":"#DIV/0!"}},{"$f":"N232/'Assessment Input'!$N$25","v":{"$error":"#DIV/0!"}},{"$f":"O232/'Assessment Input'!$N$25","v":{"$error":"#DIV/0!"}}]
["Early: 5",{"$f":"B233/'Assessment Input'!$N$24","v":{"$error":"#DIV/0!"}},{"$f":"C233/'Assessment Input'!$N$24","v":{"$error":"#DIV/0!"}},{"$f":"D233/'Assessment Input'!$N$24","v":{"$error":"#DIV/0!"}},{"$f":"E233/'Assessment Input'!$N$24","v":{"$error":"#DIV/0!"}},{"$f":"F233/'Assessment Input'!$N$24","v":{"$error":"#DIV/0!"}},null,null,"Early: 5",{"$f":"J233/'Assessment Input'!$N$25","v":{"$error":"#DIV/0!"}},{"$f":"K233/'Assessment Input'!$N$25","v":{"$error":"#DIV/0!"}},{"$f":"L233/'Assessment Input'!$N$25","v":{"$error":"#DIV/0!"}},{"$f":"M233/'Assessment Input'!$N$25","v":{"$error":"#DIV/0!"}},{"$f":"N233/'Assessment Input'!$N$25","v":{"$error":"#DIV/0!"}}]
["Foundations 6",{"$f":"B234/'Assessment Input'!$N$24","v":{"$error":"#DIV/0!"}},{"$f":"C234/'Assessment Input'!$N$24","v":{"$error":"#DIV/0!"}},{"$f":"D234/'Assessment Input'!$N$24","v":{"$error":"#DIV/0!"}},{"$f":"E234/'Assessment Input'!$N$24","v":{"$error":"#DIV/0!"}},{"$f":"F234/'Assessment Input'!$N$24","v":{"$error":"#DIV/0!"}},null,null,"Foundations 6",{"$f":"J234/'Assessment Input'!$N$25","v":{"$error":"#DIV/0!"}},{"$f":"K234/'Assessment Input'!$N$25","v":{"$error":"#DIV/0!"}},{"$f":"L234/'Assessment Input'!$N$25","v":{"$error":"#DIV/0!"}},{"$f":"M234/'Assessment Input'!$N$25","v":{"$error":"#DIV/0!"}},{"$f":"N234/'Assessment Input'!$N$25","v":{"$error":"#DIV/0!"}}]
["Below: 7",{"$f":"B235/'Assessment Input'!$N$24","v":{"$error":"#DIV/0!"}},{"$f":"C235/'Assessment Input'!$N$24","v":{"$error":"#DIV/0!"}},{"$f":"D235/'Assessment Input'!$N$24","v":{"$error":"#DIV/0!"}},{"$f":"E235/'Assessment Input'!$N$24","v":{"$error":"#DIV/0!"}},{"$f":"F235/'Assessment Input'!$N$24","v":{"$error":"#DIV/0!"}},null,null,"Below: 7",{"$f":"J235/'Assessment Input'!$N$25","v":{"$error":"#DIV/0!"}},{"$f":"K235/'Assessment Input'!$N$25","v":{"$error":"#DIV/0!"}},{"$f":"L235/'Assessment Input'!$N$25","v":{"$error":"#DIV/0!"}},{"$f":"M235/'Assessment Input'!$N$25","v":{"$error":"#DIV/0!"}},{"$f":"N235/'Assessment Input'!$N$25","v":{"$error":"#DIV/0!"}}]
["Not met: 8",{"$f":"B236/'Assessment Input'!$N$24","v":{"$error":"#DIV/0!"}},{"$f":"C236/'Assessment Input'!$N$24","v":{"$error":"#DIV/0!"}},{"$f":"D236/'Assessment Input'!$N$24","v":{"$error":"#DIV/0!"}},{"$f":"E236/'Assessment Input'!$N$24","v":{"$error":"#DIV/0!"}},{"$f":"F236/'Assessment Input'!$N$24","v":{"$error":"#DIV/0!"}},null,null,"Not met: 8",{"$f":"J236/'Assessment Input'!$N$25","v":{"$error":"#DIV/0!"}},{"$f":"K236/'Assessment Input'!$N$25","v":{"$error":"#DIV/0!"}},{"$f":"L236/'Assessment Input'!$N$25","v":{"$error":"#DIV/0!"}},{"$f":"M236/'Assessment Input'!$N$25","v":{"$error":"#DIV/0!"}},{"$f":"N236/'Assessment Input'!$N$25","v":{"$error":"#DIV/0!"}}]
["p-levels: w",{"$f":"B237/'Assessment Input'!$N$24","v":{"$error":"#DIV/0!"}},{"$f":"C237/'Assessment Input'!$N$24","v":{"$error":"#DIV/0!"}},{"$f":"D237/'Assessment Input'!$N$24","v":{"$error":"#DIV/0!"}},{"$f":"E237/'Assessment Input'!$N$24","v":{"$error":"#DIV/0!"}},{"$f":"F237/'Assessment Input'!$N$24","v":{"$error":"#DIV/0!"}},null,null,"p-levels: w",{"$f":"J237/'Assessment Input'!$N$25","v":{"$error":"#DIV/0!"}},{"$f":"K237/'Assessment Input'!$N$25","v":{"$error":"#DIV/0!"}},{"$f":"L237/'Assessment Input'!$N$25","v":{"$error":"#DIV/0!"}},{"$f":"M237/'Assessment Input'!$N$25","v":{"$error":"#DIV/0!"}},{"$f":"N237/'Assessment Input'!$N$25","v":{"$error":"#DIV/0!"}}]
["blank",{"$f":"B238/'Assessment Input'!$N$24","v":{"$error":"#DIV/0!"}},{"$f":"C238/'Assessment Input'!$N$24","v":{"$error":"#DIV/0!"}},{"$f":"D238/'Assessment Input'!$N$24","v":{"$error":"#DIV/0!"}},{"$f":"E238/'Assessment Input'!$N$24","v":{"$error":"#DIV/0!"}},{"$f":"F238/'Assessment Input'!$N$24","v":{"$error":"#DIV/0!"}},null,null,"blank",{"$f":"J238/'Assessment Input'!$N$25","v":{"$error":"#DIV/0!"}},{"$f":"K238/'Assessment Input'!$N$25","v":{"$error":"#DIV/0!"}},{"$f":"L238/'Assessment Input'!$N$25","v":{"$error":"#DIV/0!"}},{"$f":"M238/'Assessment Input'!$N$25","v":{"$error":"#DIV/0!"}},{"$f":"N238/'Assessment Input'!$N$25","v":{"$error":"#DIV/0!"}}]
["A",{"$f":"B239/'Assessment Input'!$N$24","v":{"$error":"#DIV/0!"}},{"$f":"C239/'Assessment Input'!$N$24","v":{"$error":"#DIV/0!"}},{"$f":"D239/'Assessment Input'!$N$24","v":{"$error":"#DIV/0!"}},{"$f":"E239/'Assessment Input'!$N$24","v":{"$error":"#DIV/0!"}},{"$f":"F239/'Assessment Input'!$N$24","v":{"$error":"#DIV/0!"}},null,null,"A",{"$f":"J239/'Assessment Input'!$N$25","v":{"$error":"#DIV/0!"}},{"$f":"K239/'Assessment Input'!$N$25","v":{"$error":"#DIV/0!"}},{"$f":"L239/'Assessment Input'!$N$25","v":{"$error":"#DIV/0!"}},{"$f":"M239/'Assessment Input'!$N$25","v":{"$error":"#DIV/0!"}},{"$f":"N239/'Assessment Input'!$N$25","v":{"$error":"#DIV/0!"}}]
["Total:",{"$f":"SUM(B244:B254)","v":{"$error":"#DIV/0!"}},{"$error":"#DIV/0!"},{"$error":"#DIV/0!"},{"$error":"#DIV/0!"},{"$error":"#DIV/0!"},{"$error":"#DIV/0!"},null,"Total:",{"$f":"SUM(J244:J254)","v":{"$error":"#DIV/0!"}},{"$error":"#DIV/0!"},{"$error":"#DIV/0!"},{"$error":"#DIV/0!"},{"$error":"#DIV/0!"},{"$error":"#DIV/0!"}]
[]
[null,{"$f":"'Assessment Input'!$F$1","v":"Reading"},{"$f":"'Assessment Input'!$G$1","v":"Writing"},{"$f":"'Assessment Input'!$H$1","v":"Maths"},{"$f":"'Assessment Input'!$I$1","v":"Science "},"GP&S","Re/Wr/Ma",null,null,{"$f":"'Assessment Input'!$F$1","v":"Reading"},{"$f":"'Assessment Input'!$G$1","v":"Writing"},{"$f":"'Assessment Input'!$H$1","v":"Maths"},{"$f":"'Assessment Input'!$I$1","v":"Science "},"GP&S","Re/Wr/Ma"]
[null,{"$f":"'Assessment Input'!$M$24 &\": \"&Sheet1!$I$6&\" (/\"&B32&\")\"","v":"Class 3: % and above (/0)"},null,null,null,null,null,null,null,{"$f":"'Assessment Input'!M25 &\": \"&Sheet1!I6&\" (/\"&B33&\")\"","v":"Class 4: % and above (/0)"}]
["Greater:1",{"$f":"B244","v":{"$error":"#DIV/0!"}},{"$f":"C244","v":{"$error":"#DIV/0!"}},{"$f":"D244","v":{"$error":"#DIV/0!"}},{"$f":"E244","v":{"$error":"#DIV/0!"}},{"$f":"F244","v":{"$error":"#DIV/0!"}},"Yes:",null,"Greater:1",{"$f":"J244","v":{"$error":"#DIV/0!"}},{"$f":"K244","v":{"$error":"#DIV/0!"}},{"$f":"L244","v":{"$error":"#DIV/0!"}},{"$f":"M244","v":{"$error":"#DIV/0!"}},{"$f":"N244","v":{"$error":"#DIV/0!"}},"Yes:"]
["Expected: 2",{"$f":"SUM($B$244:B245)","v":{"$error":"#DIV/0!"}},{"$f":"SUM($C$244:C245)","v":{"$error":"#DIV/0!"}},{"$f":"SUM($D$244:D245)","v":{"$error":"#DIV/0!"}},{"$f":"SUM(E$244:$E245)","v":{"$error":"#DIV/0!"}},{"$f":"SUM($F$244:F245)","v":{"$error":"#DIV/0!"}},{"$f":"SUM($G$244:G245)","v":{"$error":"#DIV/0!"}},null,"Expected: 2",{"$f":"SUM($J$244:J245)","v":{"$error":"#DIV/0!"}},{"$f":"SUM($K$244:K245)","v":{"$error":"#DIV/0!"}},{"$f":"SUM($L$244:L245)","v":{"$error":"#DIV/0!"}},{"$f":"SUM($M$244:M245)","v":{"$error":"#DIV/0!"}},{"$f":"SUM($N$244:N245)","v":{"$error":"#DIV/0!"}},{"$f":"SUM($O$244:O245)","v":{"$error":"#DIV/0!"}}]
["Towards: 3",{"$f":"SUM($B$244:B246)","v":{"$error":"#DIV/0!"}},{"$f":"SUM($C$244:C246)","v":{"$error":"#DIV/0!"}},{"$f":"SUM($D$244:D246)","v":{"$error":"#DIV/0!"}},{"$f":"SUM(E$244:$E246)","v":{"$error":"#DIV/0!"}},{"$f":"SUM($F$244:F246)","v":{"$error":"#DIV/0!"}},"No:",null,"Towards: 3",{"$f":"SUM($J$244:J246)","v":{"$error":"#DIV/0!"}},{"$f":"SUM($K$244:K246)","v":{"$error":"#DIV/0!"}},{"$f":"SUM($L$244:L246)","v":{"$error":"#DIV/0!"}},{"$f":"SUM($M$244:M246)","v":{"$error":"#DIV/0!"}},{"$f":"SUM($N$244:N246)","v":{"$error":"#DIV/0!"}},"No:"]
["Growing: 4",{"$f":"SUM($B$244:B247)","v":{"$error":"#DIV/0!"}},{"$f":"SUM($C$244:C247)","v":{"$error":"#DIV/0!"}},{"$f":"SUM($D$244:D247)","v":{"$error":"#DIV/0!"}},{"$f":"SUM(E$244:$E247)","v":{"$error":"#DIV/0!"}},{"$f":"SUM($F$244:F247)","v":{"$error":"#DIV/0!"}},{"$f":"SUM($G$244:G247)","v":{"$error":"#DIV/0!"}},null,"Growing: 4",{"$f":"SUM($J$244:J247)","v":{"$error":"#DIV/0!"}},{"$f":"SUM($K$244:K247)","v":{"$error":"#DIV/0!"}},{"$f":"SUM($L$244:L247)","v":{"$error":"#DIV/0!"}},{"$f":"SUM($M$244:M247)","v":{"$error":"#DIV/0!"}},{"$f":"SUM($N$244:N247)","v":{"$error":"#DIV/0!"}},{"$f":"SUM($O$244:O247)","v":{"$error":"#DIV/0!"}}]
["Early: 5",{"$f":"SUM($B$244:B248)","v":{"$error":"#DIV/0!"}},{"$f":"SUM($C$244:C248)","v":{"$error":"#DIV/0!"}},{"$f":"SUM($D$244:D248)","v":{"$error":"#DIV/0!"}},{"$f":"SUM(E$244:$E248)","v":{"$error":"#DIV/0!"}},{"$f":"SUM($F$244:F248)","v":{"$error":"#DIV/0!"}},null,null,"Early: 5",{"$f":"SUM($J$244:J248)","v":{"$error":"#DIV/0!"}},{"$f":"SUM($K$244:K248)","v":{"$error":"#DIV/0!"}},{"$f":"SUM($L$244:L248)","v":{"$error":"#DIV/0!"}},{"$f":"SUM($M$244:M248)","v":{"$error":"#DIV/0!"}},{"$f":"SUM($N$244:N248)","v":{"$error":"#DIV/0!"}}]
["Foundations 6",{"$f":"SUM($B$244:B249)","v":{"$error":"#DIV/0!"}},{"$f":"SUM($C$244:C249)","v":{"$error":"#DIV/0!"}},{"$f":"SUM($D$244:D249)","v":{"$error":"#DIV/0!"}},{"$f":"SUM(E$244:$E249)","v":{"$error":"#DIV/0!"}},{"$f":"SUM($F$244:F249)","v":{"$error":"#DIV/0!"}},null,null,"Foundations 6",{"$f":"SUM($J$244:J249)","v":{"$error":"#DIV/0!"}},{"$f":"SUM($K$244:K249)","v":{"$error":"#DIV/0!"}},{"$f":"SUM($L$244:L249)","v":{"$error":"#DIV/0!"}},{"$f":"SUM($M$244:M249)","v":{"$error":"#DIV/0!"}},{"$f":"SUM($N$244:N249)","v":{"$error":"#DIV/0!"}}]
["Below: 7",{"$f":"SUM($B$244:B250)","v":{"$error":"#DIV/0!"}},{"$f":"SUM($C$244:C250)","v":{"$error":"#DIV/0!"}},{"$f":"SUM($D$244:D250)","v":{"$error":"#DIV/0!"}},{"$f":"SUM(E$244:$E250)","v":{"$error":"#DIV/0!"}},{"$f":"SUM($F$244:F250)","v":{"$error":"#DIV/0!"}},null,null,"Below: 7",{"$f":"SUM($J$244:J250)","v":{"$error":"#DIV/0!"}},{"$f":"SUM($K$244:K250)","v":{"$error":"#DIV/0!"}},{"$f":"SUM($L$244:L250)","v":{"$error":"#DIV/0!"}},{"$f":"SUM($M$244:M250)","v":{"$error":"#DIV/0!"}},{"$f":"SUM($N$244:N250)","v":{"$error":"#DIV/0!"}}]
["Not met: 8",{"$f":"SUM($B$244:B251)","v":{"$error":"#DIV/0!"}},{"$f":"SUM($C$244:C251)","v":{"$error":"#DIV/0!"}},{"$f":"SUM($D$244:D251)","v":{"$error":"#DIV/0!"}},{"$f":"SUM(E$244:$E251)","v":{"$error":"#DIV/0!"}},{"$f":"SUM($F$244:F251)","v":{"$error":"#DIV/0!"}},null,null,"Not met: 8",{"$f":"SUM($J$244:J251)","v":{"$error":"#DIV/0!"}},{"$f":"SUM($K$244:K251)","v":{"$error":"#DIV/0!"}},{"$f":"SUM($L$244:L251)","v":{"$error":"#DIV/0!"}},{"$f":"SUM($M$244:M251)","v":{"$error":"#DIV/0!"}},{"$f":"SUM($N$244:N251)","v":{"$error":"#DIV/0!"}}]
["p-levels: w",{"$f":"SUM($B$244:B252)","v":{"$error":"#DIV/0!"}},{"$f":"SUM($C$244:C252)","v":{"$error":"#DIV/0!"}},{"$f":"SUM($D$244:D252)","v":{"$error":"#DIV/0!"}},{"$f":"SUM(E$244:$E252)","v":{"$error":"#DIV/0!"}},{"$f":"SUM($F$244:F252)","v":{"$error":"#DIV/0!"}},null,null,"p-levels: w",{"$f":"SUM($J$244:J252)","v":{"$error":"#DIV/0!"}},{"$f":"SUM($K$244:K252)","v":{"$error":"#DIV/0!"}},{"$f":"SUM($L$244:L252)","v":{"$error":"#DIV/0!"}},{"$f":"SUM($M$244:M252)","v":{"$error":"#DIV/0!"}},{"$f":"SUM($N$244:N252)","v":{"$error":"#DIV/0!"}}]
["blank",{"$f":"SUM($B$244:B253)","v":{"$error":"#DIV/0!"}},{"$f":"SUM($C$244:C253)","v":{"$error":"#DIV/0!"}},{"$f":"SUM($D$244:D253)","v":{"$error":"#DIV/0!"}},{"$f":"SUM(E$244:$E253)","v":{"$error":"#DIV/0!"}},{"$f":"SUM($F$244:F253)","v":{"$error":"#DIV/0!"}},null,null,"blank",{"$f":"SUM($J$244:J253)","v":{"$error":"#DIV/0!"}},{"$f":"SUM($K$244:K253)","v":{"$error":"#DIV/0!"}},{"$f":"SUM($L$244:L253)","v":{"$error":"#DIV/0!"}},{"$f":"SUM($M$244:M253)","v":{"$error":"#DIV/0!"}},{"$f":"SUM($N$244:N253)","v":{"$error":"#DIV/0!"}}]
["A",{"$f":"SUM($B$244:B254)","v":{"$error":"#DIV/0!"}},{"$f":"SUM($C$244:C254)","v":{"$error":"#DIV/0!"}},{"$f":"SUM($D$244:D254)","v":{"$error":"#DIV/0!"}},{"$f":"SUM(E$244:$E254)","v":{"$error":"#DIV/0!"}},{"$f":"SUM($F$244:F254)","v":{"$error":"#DIV/0!"}},null,null,"A",{"$f":"SUM($J$244:J254)","v":{"$error":"#DIV/0!"}},{"$f":"SUM($K$244:K254)","v":{"$error":"#DIV/0!"}},{"$f":"SUM($L$244:L254)","v":{"$error":"#DIV/0!"}},{"$f":"SUM($M$244:M254)","v":{"$error":"#DIV/0!"}},{"$f":"SUM($N$244:N254)","v":{"$error":"#DIV/0!"}}]

{"sheet":"Sheet1","index":3,"n_rows":12,"n_cols":9,"rows_kept":12,"cut":false,"hidden":true,"merged":[]}
[]
[null,null,null,null,"point score"]
[null,null,null,null,1,"Greater Depth*"]
[null,null,null,null,2,"Expected Standard",null,null,"Number at"]
[null,null,null,null,3,"Towards Expected",null,null,"% at"]
[null,null,null,null,4,"Growing Development",null,null,"% and above"]
[null,null,null,null,5,"Early Development"]
[null,null,null,null,6,"Foundations "]
[null,null,null,null,7,"Below Key Stage Standard"]
[null,null,null,null,8,"Standard not met*"]
[null,null,null,null,"A","Absent or Disappliad"]
[null,null,null,null,"W","p - levels"]